{"text_format":"1","workbook":"xlsx","n_sheets":12,"sheets":["Раздел 0","Раздел 1","Раздел 2","Раздел 3","Раздел 4","Раздел 5","Раздел 6","Раздел 7","Раздел 8","Раздел 9","Раздел 10","Раздел 11"],"not_rendered":{"charts":0,"images":0,"macros":1,"external_links":1,"defined_names":236,"comments":0,"pivot_tables":0},"unopened":[],"bounds":{"document_bytes":16777216,"sheet_cells":100000,"rows_first":2000,"rows_last":500,"rows_between":2000,"halvings":0,"cell_chars":16384,"cell_head_chars":4096},"cells_cut":0,"cells_raw":0,"read":"whole","date_system":"1900"}

{"sheet":"Раздел 0","index":0,"n_rows":27,"n_cols":19,"rows_kept":27,"cut":false,"hidden":false,"merged":[[26,1,26,3],[26,4,26,7],[26,8,26,11],[26,12,26,17],[23,1,24,3],[23,4,23,18],[24,4,24,7],[24,8,24,11],[24,12,24,17],[25,1,25,3],[25,4,25,7],[25,8,25,11],[25,12,25,17],[21,1,21,7],[21,8,21,11],[21,12,21,17],[22,1,22,7],[22,8,22,11],[22,12,22,17],[20,1,20,3],[19,6,19,10],[19,11,19,13],[19,14,19,18],[19,1,19,5],[20,4,20,18],[10,1,10,18],[12,1,12,9],[12,10,12,11],[13,1,17,9],[13,10,17,11],[13,16,13,18],[15,16,15,18],[12,16,12,18],[0,1,0,18],[9,1,9,18],[1,1,1,18],[3,1,3,18],[5,1,5,18],[7,1,7,18]]}
[]
[null,"ФЕДЕРАЛЬНОЕ СТАТИСТИЧЕСКОЕ НАБЛЮДЕНИЕ"]
[]
[null,"КОНФИДЕНЦИАЛЬНОСТЬ ГАРАНТИРУЕТСЯ ПОЛУЧАТЕЛЕМ ИНФОРМАЦИИ"]
[]
[null,"Нарушение порядка предоставления первичных статистических данных или несвоевременное предоставление этих данных,\nлибо предоставление недостоверных первичных статистических данных влечет ответственность, установленную\nКодексом Российской Федерации об административных правонарушениях"]
[]
[null,"Обязанность предоставления административных данных предусмотрена статьей 8 Федерального закона от 29 ноября 2007 г. \n№ 282-ФЗ «Об официальном статистическом учете и системе государственной статистики в Российской Федерации»"]
[]
[null,"СВЕДЕНИЯ ПО ПОДГОТОВКЕ СПОРТИВНОГО РЕЗЕРВА"]
[null,"по состоянию на 31 декабря 2025 г."]
[]
[null,"Предоставляют:",null,null,null,null,null,null,null,null,"Сроки предоставления",null,null,null,null,null,"Форма № 5-ФК"]
[null,"юридические лица государственной, муниципальной и иной форм собственности (кроме субъектов малого и среднего предпринимательства) – организации, реализующие дополнительные образовательные программы спортивной подготовки или обеспечивающие подготовку спортивного резерва (спортивные школы (СШ), спортивные школы олимпийского резерва (СШОР), училища олимпийского резерва (УОР - колледжи, техникумы), центры спортивной подготовки (ЦСП), другие организации): \n – органу местного самоуправления муниципального образования (схема предоставления приведена в указаниях по заполнению формы);\n\nорганы местного самоуправления муниципального образования (схема предоставления приведена в указаниях по заполнению формы):\n– органу исполнительной власти субъекта Российской Федерации в области физической культуры и спорта;\n\nорганы исполнительной власти субъектов Российской Федерации в области физической культуры и спорта, уполномоченный орган публичной власти федеральной территории «Сириус»:\n – Министерству спорта Российской Федерации",null,null,null,null,null,null,null,null,"\nдо 16 января после отчетного периода\n\n\n\n\n\n\nдо 19 января после отчетного периода\n\n\n\nдо 26 января после отчетного периода",null,null,null,null,null,"Приказ Росстата: \nОб утверждении формы \nот 12.09.2025 № 477\nО внесении изменений \n(при наличии)  \nот  __________ № ___\nот  __________ № ___"]
[]
[null,null,null,null,null,null,null,null,null,null,null,null,null,null,null,null,"Годовая"]
[]
[]
[]
[1,"Наименование отчитывающейся организации",null,null,null,null,"Муниципальное автономное учреждение дополнительного образования города Нижневартовска \"Спортивная школа\"",null,null,null,null,"Краткое наименование отчитывающейся организации",null,null,"МАУДО г. Нижневартовска \"СШ\""]
[2,"Почтовый адрес",null,null,"628611, Ханты - Мансийский автономный округ - Югра, г. Нижневартовск, ул. Чапаева,22"]
[null,"Муниципальный район",null,null,null,null,null,null,"Городской округ",null,null,null,"Муниципальный округ",null,null,null,null,null,"Сельское поселение"]
[3,null,null,null,null,null,null,null,"Нижневартовск"]
[null,"Код\nформы\nпо ОКУД",null,null,"Код"]
[null,null,null,null,"Отчитывающейся организации по ОКПО (для обособленного подразделения и головного подразделения юридического лица – идентификационный номер) ",null,null,null,"Регистрационный номер лицензии на осуществление образовательной деятельности",null,null,null,"Код субъекта Российской Федерации",null,null,null,null,null,"Код ОКТМО"]
[null,1,null,null,2,null,null,null,3,null,null,null,4,null,null,null,null,null,5]
[4,"0609403",null,null,"23795686",null,null,null,"ЛО35 - 01304 - 86/00661462",null,null,null,86,null,null,null,null,null,"71875000"]

{"sheet":"Раздел 1","index":1,"n_rows":19,"n_cols":9,"rows_kept":19,"cut":false,"hidden":false,"merged":[[0,0,10,0],[0,9,10,9],[16,1,18,1],[16,2,18,2],[0,1,0,8],[1,1,2,1],[1,2,2,2],[1,3,2,3],[1,4,1,8],[16,3,16,6],[17,5,17,6],[18,5,18,6],[16,7,17,8],[18,7,18,8]]}
[null,"Раздел I. Число организаций, единица"]
[null,"Ведомственная \nпринадлежность","№ строки","Число организаций и обособленных структурных подразделений – всего","в том числе по наименованию организации:"]
[null,null,null,null,"СШ","СШОР","УОР","ЦСП","Другие\nорганизации"]
[null,1,2,3,4,5,6,7,8]
[null,"Организации в ведении органов управления в сфере физической культуры и спорта","01",{"$f":"SUM(E5:I5)","v":1},1]
[null,"Обособленные структурные подразделения в сфере физической культуры и спорта, реализующие дополнительные общеобразовательные программы в области физической культуры и спорта","02",{"$f":"SUM(E6:I6)","v":0}]
[null,"Организации в ведении органов управления в сфере образования","03",{"$f":"SUM(E7:I7)","v":0}]
[null,"Обособленные структурные подразделения в сфере образования, реализующие дополнительные общеобразовательные программы в области физической культуры и спорта","04",0]
[null,"Организации другой ведомственной принадлежности","05",0]
[null,"Обособленные структурные подразделения другой ведомственной принадлежности, реализующие дополнительные общеобразовательные программы в области физической культуры и спорта","06",0]
[null,"Частные организации (из стр. 05)","07",0]
[null,"Итого организаций","08",{"$f":"SUM(D5,D7,D9)","v":1},{"$f":"SUM(E5,E7,E9)","v":1},{"$f":"SUM(F5,F7,F9)","v":0},0,0,0]
[null,"Итого обособленных структурных подразделений, реализующих дополнительные общеобразовательные программы в области физической культуры и спорта","09",{"$f":"SUM(D6,D8,D10)","v":0},{"$f":"SUM(E6,E8,E10)","v":0},{"$f":"SUM(F6,F8,F10)","v":0},0,0,0]
[]
["ОСН","ОГРН","10",1188617000428]
[]
[null,"Виды правовых образований","11","Публичные правовые образования",null,null,null,"Иные правовые образования \n(в том числе частные)"]
[null,null,null,"Российская Федерация","Субъект Российской Федерации","Муниципальное образование"]
[null,null,null,null,null,1]

{"sheet":"Раздел 2","index":2,"n_rows":320,"n_cols":29,"rows_kept":320,"cut":false,"hidden":false,"merged":[[3,27,4,27],[3,28,4,28],[3,24,4,24],[2,27,2,28],[3,25,3,26],[2,10,2,26],[1,9,1,28],[0,5,0,28],[1,5,4,5],[1,6,4,6],[1,7,4,7],[1,8,4,8],[2,9,4,9],[3,10,4,10],[3,11,3,14],[3,15,3,17],[3,18,3,21],[3,22,4,22],[3,23,4,23]]}
[null,null,null,null,null,"Раздел II. Численность обучающихся"]
[null,null,null,null,null,"Виды спорта","№ строки","Число отделений по видам спорта, единица","Базовый вид спорта, единица","Численность обучающихся на 31 декабря отчетного периода, человек"]
[null,null,null,null,null,null,null,null,null,"Итого обучающихся","Обучающиеся по дополнительным общеобразовательным программам в области физической культуры и спорта",null,null,null,null,null,null,null,null,null,null,null,null,null,null,null,null,"из гр. 5:"]
[null,null,null,null,null,null,null,null,null,null,"Всего обучающихся\nпо дополнительным образовательным программам спортивной подготовки","по дополнительным образовательным программам спортивной подготовки",null,null,null,"по возрастам (из гр. 6)",null,null,"в платных группах (из гр. 6)",null,null,null,"по дополнительным общеразвивающим программам\n(спортивно-оздоровительный этап)","в платных группах (из гр. 18)","по возрасту от 5 до 17 лет (из гр. 18)","Спортсмены, спортсмены-инструкторы (из гр. 6)",null," мальчиков, юношей, юниоров, мужчин","девочек, девушек, юниорок, женщин"]
["Код региона","ОГРН","Ведоственная принадлежность","Вид организации","Вид правового образования",null,null,null,null,null,null,"начальной подготовки","учебно - тренировочный","совершен-ствования спортивного мастерства","высшего спортивного мастерства","от 5 до 17 лет","от 18 до 22 лет","старше 22 лет","начальной подготовки","учебно - тренировочный","совершен-ствования спортивного мастерства","высшего спортивного мастерства",null,null,null,"Всего","в том числе трудоустроенные в ЦСП\n(из гр.21) "]
[{"$f":"'Раздел 0'!M27","v":86},{"$f":"IF('Раздел 1'!D15>0,'Раздел 1'!D15,\"ОСП\")","v":1188617000428},{"$f":"(IF(SUM('Раздел 1'!D5:D6)>0,\"ФКИС\",IF(SUM('Раздел 1'!D7:D8)>0,\"ОБРАЗОВАНИЕ\",IF(SUM('Раздел 1'!D9:D10)>0,\"ДВП\",\" \"))))","v":"ФКИС"},{"$f":"(IF(SUM('Раздел 1'!E12:E13)>0,\"СШ\",IF(SUM('Раздел 1'!F12:F13)>0,\"СШОР\",IF(SUM('Раздел 1'!G12:G13)>0,\"УОР\",IF(SUM('Раздел 1'!H12:H13)>0,\"ЦСП\",IF(SUM('Раздел 1'!I12:I13)>0,\"Другие\"))))))","v":"СШ"},{"$f":"(IF('Раздел 1'!D19=1,\"РФ\",IF('Раздел 1'!E19=1,\"Суб РФ\",IF('Раздел 1'!F19=1,\"МО\",IF('Раздел 1'!H19=1,\"ИПО\",\"ОСП\")))))","v":"МО"},1,2,3,4,5,6,7,8,9,10,11,12,13,14,15,16,17,18,19,20,21,22,23,24]
[null,null,null,null,null,"Авиамодельный спорт","01",null,null,{"$f":"SUM(K7,W7)*IF(H7>0,1,0)","v":0},{"$f":"SUM(L7:O7)","v":0}]
[null,null,null,null,null,"Авиационные гонки","02",null,null,{"$f":"SUM(K8,W8)*IF(H8>0,1,0)","v":0},{"$f":"SUM(L8:O8)","v":0}]
[null,null,null,null,null,"Автомобильный спорт","03",null,null,0,0]
[null,null,null,null,null,"Автомодельный спорт","04",null,null,0,0]
[null,null,null,null,null,"Айкидо","05",null,null,0,0]
[null,null,null,null,null,"Акробатический рок-н-ролл","06",null,null,0,0]
[null,null,null,null,null,"Альпинизм - всего","07",{"$f":"IF(SUM(H14:H15)>=1,1,0)","v":0},null,0,0,{"$f":"SUM(L14:L15)","v":0},{"$f":"SUM(M14:M15)","v":0},0,0,0,0,0,0,{"$f":"SUM(T14:T15)","v":0},0,0,0,0,0,0,0,0,0]
[null,null,null,null,null,"В том числе:\nСки-альпинизм","08",null,null,0,0]
[null,null,null,null,null,"Иные дисциплины вида спорта \"альпинизм\"","09",null,null,0,0]
[null,null,null,null,null,"Американский футбол","10",null,null,0,0]
[null,null,null,null,null,"Армейский рукопашный бой","11",null,null,0,0]
[null,null,null,null,null,"Армейское тактико-стрелковое многоборье","12",null,null,0,0]
[null,null,null,null,null,"Армрестлинг","13",null,null,0,0]
[null,null,null,null,null,"Бадминтон","14",null,null,0,0]
[null,null,null,null,null,"Баскетбол - всего","15",{"$f":"IF(SUM(H22:H26)>=1,1,0)","v":0},null,0,0,{"$f":"SUM(L22:L26)","v":0},{"$f":"SUM(M22:M26)","v":0},0,0,0,0,0,0,0,0,0,0,0,0,0,0,0,0]
[null,null,null,null,null,"в том числе:\nБаскетбол (муж.)","16",null,null,0,0,null,null,null,null,null,null,null,null,null,null,null,null,null,null,null,null,{"$f":"J22","v":0}]
[null,null,null,null,null,"Баскетбол (жен.)","17",null,null,0,0,null,null,null,null,null,null,null,null,null,null,null,null,null,null,null,null,null,{"$f":"J23","v":0}]
[null,null,null,null,null,"Баскетбол 3х3","18",null,null,0,0]
[null,null,null,null,null,"Интерактивный баскетбол","19",null,null,0,0]
[null,null,null,null,null,"Иные дисциплины вида спорта \"баскетбол\"","20",null,null,0,0]
[null,null,null,null,null,"Бейсбол","21",null,null,0,0]
[null,null,null,null,null,"Биатлон","22",null,null,0,0]
[null,null,null,null,null,"Бильярдный спорт","23",null,null,0,0]
[null,null,null,null,null,"Бобслей - всего","24",{"$f":"IF(SUM(H31:H34)>=1,1,0)","v":0},null,0,0,{"$f":"SUM(L31:L34)","v":0},{"$f":"SUM(M31:M34)","v":0},0,0,0,0,0,0,0,0,0,0,0,0,0,0,0,0]
[null,null,null,null,null,"В том числе:\nСкелетон","25",null,null,0,0]
[null,null,null,null,null,"Экипаж","26",null,null,0,0]
[null,null,null,null,null,"Монобоб","27",null,null,0,0]
[null,null,null,null,null,"Иные дисциплины вида спорта \"бобслей\"","28",null,null,0,0]
[null,null,null,null,null,"Бодибилдинг","29",null,null,0,0]
[null,null,null,null,null,"Бокс","30",null,null,0,0]
[null,null,null,null,null,"Борьба на поясах","31",null,null,0,0]
[null,null,null,null,null,"Боулинг","32",null,null,0,0]
[null,null,null,null,null,"Боулспорт","33",null,null,0,0]
[null,null,null,null,null,"Брейкинг","34",null,null,0,0]
[null,null,null,null,null,"Велосипедный спорт - всего","35",{"$f":"IF(SUM(H42:H46)>=1,1,0)","v":0},null,0,0,{"$f":"SUM(L42:L46)","v":0},{"$f":"SUM(M42:M46)","v":0},0,0,0,0,0,0,0,0,0,0,0,0,0,0,0,0]
[null,null,null,null,null,"в том числе:\nBMX (гонка, эстафета)","36",null,null,0,0]
[null,null,null,null,null,"BMX - фристайл","37",null,null,0,0]
[null,null,null,null,null,"Маунтинбайк","38",null,null,0,0]
[null,null,null,null,null,"Трек","39",null,null,0,0]
[null,null,null,null,null,"Шоссе","40",null,null,0,0]
[null,null,null,null,null,"Вертолетный спорт","41",null,null,0,0]
[null,null,null,null,null,"Водное поло - всего","42",{"$f":"IF(SUM(H49:H51)>=1,1,0)","v":0},null,0,0,{"$f":"SUM(L49:L51)","v":0},{"$f":"SUM(M49:M51)","v":0},0,0,0,0,0,0,0,0,0,0,0,0,0,0,0,0]
[null,null,null,null,null,"в том числе:\nВодное поло (муж.)","43",null,null,0,0,null,null,null,null,null,null,null,null,null,null,null,null,null,null,null,null,{"$f":"J49","v":0}]
[null,null,null,null,null,"Водное поло (жен.)","44",null,null,0,0,null,null,null,null,null,null,null,null,null,null,null,null,null,null,null,null,null,{"$f":"J50","v":0}]
[null,null,null,null,null,"Иные дисциплины вида спорта \"водное поло\"","45",null,null,0,0]
[null,null,null,null,null,"Воднолыжный спорт","46",null,null,0,0]
[null,null,null,null,null,"Водно-моторный спорт","47",null,null,0,0]
[null,null,null,null,null,"Водно-спасательное многоборье","48",null,null,0,0]
[null,null,null,null,null,"Военно-прикладной спорт","49",null,null,0,0]
[null,null,null,null,null,"Военно-спортивное многоборье","50",null,null,0,0]
[null,null,null,null,null,"Воздухоплавательный спорт","51",null,null,0,0]
[null,null,null,null,null,"Воздушная гимнастика","52",null,null,0,0]
[null,null,null,null,null,"Воздушно-силовая атлетика","53",null,null,0,0]
[null,null,null,null,null,"Волейбол - всего","54",{"$f":"IF(SUM(H61:H65)>=1,1,0)","v":0},null,0,0,{"$f":"SUM(L61:L65)","v":0},{"$f":"SUM(M61:M65)","v":0},0,0,0,0,0,0,0,0,0,0,0,0,0,0,0,0]
[null,null,null,null,null,"в том числе:\nВолейбол (муж.)","55",null,null,0,0,null,null,null,null,null,null,null,null,null,null,null,null,null,null,null,null,{"$f":"J61","v":0}]
[null,null,null,null,null,"Волейбол (жен.)","56",null,null,0,0,null,null,null,null,null,null,null,null,null,null,null,null,null,null,null,null,null,{"$f":"J62","v":0}]
[null,null,null,null,null,"Пляжный волейбол (муж.)","57",null,null,0,0,null,null,null,null,null,null,null,null,null,null,null,null,null,null,null,null,{"$f":"J63","v":0}]
[null,null,null,null,null,"Пляжный волейбол (жен.)","58",null,null,0,0,null,null,null,null,null,null,null,null,null,null,null,null,null,null,null,null,null,{"$f":"J64","v":0}]
[null,null,null,null,null,"Волейбол на снегу","59",null,null,0,0]
[null,null,null,null,null,"Восточное боевое единоборство","60",null,null,0,0]
[null,null,null,null,null,"Всестилевое каратэ","61",null,null,0,0]
[null,null,null,null,null,"Гандбол - всего","62",{"$f":"IF(SUM(H69:H71)>=1,1,0)","v":0},null,0,0,{"$f":"SUM(L69:L71)","v":0},{"$f":"SUM(M69:M71)","v":0},0,0,0,0,0,0,0,0,0,0,0,0,0,0,0,{"$f":"SUM(AC69:AC71)","v":0}]
[null,null,null,null,null,"в том числе:\nГандбол (муж.)","63",null,null,0,0,null,null,null,null,null,null,null,null,null,null,null,null,null,null,null,null,{"$f":"J69","v":0}]
[null,null,null,null,null,"Гандбол (жен.)","64",null,null,0,0,null,null,null,null,null,null,null,null,null,null,null,null,null,null,null,null,null,{"$f":"J70","v":0}]
[null,null,null,null,null,"Пляжный гандбол","65",null,null,0,0]
[null,null,null,null,null,"Гиревой спорт","66",null,null,{"$f":"SUM(K72,W72)*IF(H72>0,1,0)","v":0},{"$f":"SUM(L72:O72)","v":0}]
[null,null,null,null,null,"Го","67",null,null,0,0]
[null,null,null,null,null,"Гольф","68",null,null,0,0]
[null,null,null,null,null,"Гонки дронов (беспилотных воздушных судов) - всего","69",{"$f":"IF(SUM(H76:H79)>=1,1,0)","v":0},null,0,0,{"$f":"SUM(L76:L79)","v":0},{"$f":"SUM(M76:M79)","v":0},0,0,0,0,0,0,0,0,0,0,0,0,0,0,0,0]
[null,null,null,null,null,"в том числе:\nКласс 75 мм","70",null,null,0,0]
[null,null,null,null,null,"Класс 200 мм","71",null,null,0,0]
[null,null,null,null,null,"Класс 330 мм","72",null,null,0,0]
[null,null,null,null,null,"Технический симулятор","73",null,null,0,0]
[null,null,null,null,null,"Гонки на охотничьих лыжах","74",null,null,0,0]
[null,null,null,null,null,"Гонки с препятствиями","75",null,null,0,0]
[null,null,null,null,null,"Горнолыжный спорт","76",null,null,0,0]
[null,null,null,null,null,"Городошный спорт","77",null,null,0,0]
[null,null,null,null,null,"Гребля на байдарках и каноэ","78",null,null,0,0]
[null,null,null,null,null,"Гребля на шлюпках","79",null,null,0,0]
[null,null,null,null,null,"Гребной слалом","80",null,null,0,0]
[null,null,null,null,null,"Гребной спорт - всего","81",{"$f":"IF(SUM(H88:H89)>=1,1,0)","v":0},null,0,0,{"$f":"SUM(L88:L89)","v":0},{"$f":"SUM(M88:M89)","v":0},0,0,0,0,0,0,0,0,0,0,0,0,0,0,0,0]
[null,null,null,null,null,"в том числе:\nАкадемическая гребля","82",null,null,0,0]
[null,null,null,null,null,"Иные дисциплины вида спорта \"гребной спорт\"","83",null,null,0,0]
[null,null,null,null,null,"Гребно-парусное двоеборье","84",null,null,0,0]
[null,null,null,null,null,"Дартс","85",null,null,0,0]
[null,null,null,null,null,"Джиу-джитсу","86",null,null,0,0]
[null,null,null,null,null,"Джутайдо","87",null,null,0,0]
[null,null,null,null,null,"Дзюдо","88",null,null,0,0]
[null,null,null,null,null,"Ездовой спорт","89",null,null,0,0]
[null,null,null,null,null,"Зимнее плавание","90",null,null,0,0]
[null,null,null,null,null,"Капоэйра","91",null,null,0,0]
[null,null,null,null,null,"Каратэ","92",null,null,0,0]
[null,null,null,null,null,"Кендо","93",null,null,0,0]
[null,null,null,null,null,"Керешу","94",null,null,0,0]
[null,null,null,null,null,"Кёрлинг - всего","95",{"$f":"IF(SUM(H102:H104)>=1,1,0)","v":0},null,0,0,{"$f":"SUM(L102:L104)","v":0},{"$f":"SUM(M102:M104)","v":0},0,0,0,0,0,0,0,0,0,0,0,0,0,0,0,0]
[null,null,null,null,null,"в том числе:\nКёрлинг (муж.)","96",null,null,0,0,null,null,null,null,null,null,null,null,null,null,null,null,null,null,null,null,{"$f":"J102","v":0}]
[null,null,null,null,null,"Кёрлинг (жен.)","97",null,null,0,0,null,null,null,null,null,null,null,null,null,null,null,null,null,null,null,null,null,{"$f":"J103","v":0}]
[null,null,null,null,null,"Кёрлинг – смешанные пары","98",null,null,0,0]
[null,null,null,null,null,"Кикбоксинг","99",1,null,40,40,null,28,12,null,28,9,3,null,null,null,null,null,null,null,null,null,24,16]
[null,null,null,null,null,"Кинологический спорт","100",null,null,0,0]
[null,null,null,null,null,"Киокусинкай","101",1,null,561,345,213,132,null,null,341,4,null,null,null,null,null,216,null,216,null,null,409,152]
[null,null,null,null,null,"Киокушин","102",null,null,0,0]
[null,null,null,null,null,"Комплексное единоборство","103",null,null,0,0]
[null,null,null,null,null,"Компьютерный спорт - всего","104",{"$f":"IF(SUM(H111:H117)>=1,1,0)","v":0},null,0,0,{"$f":"SUM(L111:L117)","v":0},{"$f":"SUM(M111:M117)","v":0},0,0,0,0,0,0,0,0,0,0,0,0,0,0,0,0]
[null,null,null,null,null,"в том числе:\nБоевая арена","105",null,null,0,0]
[null,null,null,null,null,"Соревновательные головоломки","106",null,null,0,0]
[null,null,null,null,null,"Спортивный симулятор","107",null,null,0,0]
[null,null,null,null,null,"Стратегия в реальном времени","108",null,null,0,0]
[null,null,null,null,null,"Тактический трехмерный бой","109",null,null,0,0]
[null,null,null,null,null,"Технический симулятор","110",null,null,0,0]
[null,null,null,null,null,"Файтинг","111",null,null,0,0]
[null,null,null,null,null,"Конный спорт","112",null,null,0,0]
[null,null,null,null,null,"Конькобежный спорт - всего","113",{"$f":"IF(SUM(H120:H123)>=1,1,0)","v":0},null,0,0,{"$f":"SUM(L120:L123)","v":0},{"$f":"SUM(M120:M123)","v":0},0,0,0,0,0,0,0,0,0,0,0,0,0,0,0,0]
[null,null,null,null,null,"в том числе:\nКонькобежный спорт","114",null,null,0,0]
[null,null,null,null,null,"Шорт-трек","115",null,null,0,0]
[null,null,null,null,null,"Масс-старт","116",null,null,0,0]
[null,null,null,null,null,"Командный забег","117",null,null,0,0]
[null,null,null,null,null,"Корэш","118",null,null,0,0]
[null,null,null,null,null,"Крикет","119",null,null,0,0]
[null,null,null,null,null,"Кудо","120",1,null,62,62,18,44,null,null,55,5,2,null,null,null,null,null,null,null,null,null,58,4]
[null,null,null,null,null,"Лазерный бой","121",null,null,0,0]
[null,null,null,null,null,"Лапта","122",null,null,0,0]
[null,null,null,null,null,"Легкая атлетика","123",null,null,0,0]
[null,null,null,null,null,"Лыжное двоеборье","124",null,null,0,0]
[null,null,null,null,null,"Лыжные гонки","125",null,null,0,0]
[null,null,null,null,null,"Мас-рестлинг","126",null,null,0,0]
[null,null,null,null,null,"Международное военно-спортивное многоборье","127",null,null,0,0]
[null,null,null,null,null,"Микрофутзал","128",null,null,0,0]
[null,null,null,null,null,"Многоборье готов к труду и обороне","129",null,null,0,0]
[null,null,null,null,null,"Многоборье кинологов","130",null,null,{"$f":"SUM(K136,W136)*IF(H136>0,1,0)","v":0},{"$f":"SUM(L136:O136)","v":0}]
[null,null,null,null,null,"Многоборье спасателей МЧС России","131",null,null,0,0]
[null,null,null,null,null,"Морское многоборье","132",null,null,0,0]
[null,null,null,null,null,"Мотоциклетный спорт","133",null,null,0,0]
[null,null,null,null,null,"Муайтай","134",1,null,40,27,27,null,null,null,26,1,null,null,null,null,null,13,null,13,null,null,35,5]
[null,null,null,null,null,"Нарды","135",null,null,0,0]
[null,null,null,null,null,"Настольный теннис","136",null,null,0,0]
[null,null,null,null,null,"Падел","137",null,null,0,0]
[null,null,null,null,null,"Парашютный спорт","138",null,null,0,0]
[null,null,null,null,null,"Парусный спорт","139",null,null,0,0]
[null,null,null,null,null,"Пауэрлифтинг","140",1,null,77,77,29,32,16,null,32,30,15,null,null,null,null,null,null,null,null,null,72,5]
[null,null,null,null,null,"Перетягивание каната","141",null,null,0,0]
[null,null,null,null,null,"Пилонный спорт","142",null,null,0,0]
[null,null,null,null,null,"Плавание - всего","143",{"$f":"IF(SUM(H150:H151)>=1,1,0)","v":1},null,585,0,{"$f":"SUM(L150:L151)","v":0},{"$f":"SUM(M150:M151)","v":0},0,0,0,0,0,0,0,0,0,585,585,585,0,0,368,217]
[null,null,null,null,null,"в том числе:\nОткрытая вода","144",null,null,0,0]
[null,null,null,null,null,"Иные дисциплины вида спорта \"плавание\"","145",1,null,585,0,null,null,null,null,null,null,null,null,null,null,null,585,585,585,null,null,368,217]
[null,null,null,null,null,"Планерный спорт","146",null,null,0,0]
[null,null,null,null,null,"Подводный спорт","147",null,null,0,0]
[null,null,null,null,null,"Пожарно-спасательный спорт","148",null,null,0,0]
[null,null,null,null,null,"Полиатлон","149",null,null,0,0]
[null,null,null,null,null,"Практическая стрельба","150",null,null,0,0]
[null,null,null,null,null,"Прыжки в воду","151",null,null,0,0]
[null,null,null,null,null,"Прыжки на батуте - всего","152",{"$f":"IF(SUM(H159:H162)>=1,1,0)","v":0},null,0,0,{"$f":"SUM(L159:L162)","v":0},{"$f":"SUM(M159:M162)","v":0},0,0,0,0,0,0,0,0,0,0,0,0,0,0,0,0]
[null,null,null,null,null,"в том числе:\nАкробатическая дорожка","153",null,null,0,0]
[null,null,null,null,null,"Двойной минитрамп","154",null,null,0,0]
[null,null,null,null,null,"Индивидуальные прыжки","155",null,null,0,0]
[null,null,null,null,null,"Синхронные прыжки","156",null,null,0,0]
[null,null,null,null,null,"Прыжки на лыжах с трамплина","157",null,null,0,0]
[null,null,null,null,null,"Пулевая стрельба - всего","158",{"$f":"IF(SUM(H165:H169)>=1,1,0)","v":0},null,0,0,{"$f":"SUM(L165:L169)","v":0},{"$f":"SUM(M165:M169)","v":0},0,0,0,0,0,0,0,0,0,0,0,0,0,0,0,{"$f":"SUM(AC165:AC169)","v":0}]
[null,null,null,null,null,"в том числе:\nПневматическая винтовка","159",null,null,0,0]
[null,null,null,null,null,"Пневматический пистолет","160",null,null,0,0]
[null,null,null,null,null,"Малокалиберная винтовка","161",null,null,0,0]
[null,null,null,null,null,"Малокалиберный пистолет","162",null,null,0,0]
[null,null,null,null,null,"Иные дисциплины вида спорта \"пулевая стрельба\"","163",null,null,0,0]
[null,null,null,null,null,"Пэйнтбол","164",null,null,0,0]
[null,null,null,null,null,"Радиоспорт","165",null,null,0,0]
[null,null,null,null,null,"Рафтинг","166",null,null,0,0]
[null,null,null,null,null,"Регби - всего","167",{"$f":"IF(SUM(H174:H179)>=1,1,0)","v":0},null,0,0,{"$f":"SUM(L174:L179)","v":0},{"$f":"SUM(M174:M179)","v":0},0,0,0,0,0,0,0,0,0,0,0,0,0,0,0,0]
[null,null,null,null,null,"в том числе:\nРегби","168",null,null,0,0]
[null,null,null,null,null,"Регби 7 (муж.)","169",null,null,0,0,null,null,null,null,null,null,null,null,null,null,null,null,null,null,null,null,{"$f":"J175","v":0}]
[null,null,null,null,null,"Регби 7 (жен.)","170",null,null,0,0,null,null,null,null,null,null,null,null,null,null,null,null,null,null,null,null,null,{"$f":"J176","v":0}]
[null,null,null,null,null,"Регби - пляжное","171",null,null,0,0]
[null,null,null,null,null,"Регби на снегу","172",null,null,0,0]
[null,null,null,null,null,"Регби бесконтактное","173",null,null,0,0]
[null,null,null,null,null,"Регбол","174",null,null,0,0]
[null,null,null,null,null,"Роллер спорт","175",null,null,0,0]
[null,null,null,null,null,"Роуп скиппинг (спортивная скакалка)","176",null,null,0,0]
[null,null,null,null,null,"Рукопашный бой","177",1,null,151,116,96,20,null,null,108,8,null,null,null,null,null,35,null,35,null,null,139,12]
[null,null,null,null,null,"Рыболовный спорт","178",null,null,0,0]
[null,null,null,null,null,"Сават","179",null,null,0,0]
[null,null,null,null,null,"Самбо","180",null,null,0,0]
[null,null,null,null,null,"Самолетный спорт","181",null,null,0,0]
[null,null,null,null,null,"Санный спорт","182",null,null,0,0]
[null,null,null,null,null,"Северное многоборье","183",1,null,139,121,78,43,null,null,108,9,4,null,null,null,null,18,null,18,null,null,105,34]
[null,null,null,null,null,"Серфинг","184",null,null,0,0]
[null,null,null,null,null,"Силовой спорт","185",null,null,0,0]
[null,null,null,null,null,"Силовой экстрим","186",null,null,0,0]
[null,null,null,null,null,"Синхронное плавание","187",null,null,0,0]
[null,null,null,null,null,"Скалолазание - всего","188",{"$f":"IF(SUM(H195:H197)>=1,1,0)","v":0},null,0,0,{"$f":"SUM(L195:L197)","v":0},{"$f":"SUM(M195:M197)","v":0},0,0,0,0,0,0,0,0,0,0,0,0,0,0,0,0]
[null,null,null,null,null,"в том числе:\nДвоеборье","189",null,null,0,0]
[null,null,null,null,null,"Лазание на скорость","190",null,null,0,0]
[null,null,null,null,null,"Иные дисциплины вида спорта \"скалолазание\"","191",null,null,0,0]
[null,null,null,null,null,"Сквош","192",null,null,0,0]
[null,null,null,null,null,"Скейтбординг","193",null,null,0,0]
[null,null,null,null,null,"Служебно-боевая стрельба","194",null,null,{"$f":"SUM(K200,W200)*IF(H200>0,1,0)","v":0},{"$f":"SUM(L200:O200)","v":0}]
[null,null,null,null,null,"Служебное двоеборье","195",null,null,0,0]
[null,null,null,null,null,"Служебное единоборство","196",null,null,0,0]
[null,null,null,null,null,"Служебное многоборье","197",null,null,0,0]
[null,null,null,null,null,"Служебно-прикладной спорт","198",null,null,0,0]
[null,null,null,null,null,"Служебно-прикладной спорт ФСО России","199",null,null,0,0]
[null,null,null,null,null,"Служебно-прикладной спорт ФТС России","200",null,null,0,0]
[null,null,null,null,null,"Служебный биатлон","201",null,null,0,0]
[null,null,null,null,null,"Смешанное боевое единоборство (ММА)","202",1,null,45,45,12,33,null,null,43,2,null,null,null,null,null,null,null,null,null,null,45]
[null,null,null,null,null,"Сноуборд - всего","203",{"$f":"IF(SUM(H210:H214)>=1,1,0)","v":0},null,0,0,{"$f":"SUM(L210:L214)","v":0},{"$f":"SUM(M210:M214)","v":0},0,0,0,0,0,0,0,0,0,0,0,0,0,0,0,0]
[null,null,null,null,null,"в том числе:\nСноуборд-кросс","204",null,null,0,0]
[null,null,null,null,null,"Параллельный слалом","205",null,null,0,0]
[null,null,null,null,null,"Хаф-пайп","206",null,null,0,0]
[null,null,null,null,null,"Биг-эйр","207",null,null,0,0]
[null,null,null,null,null,"Слоупстайл","208",null,null,0,0]
[null,null,null,null,null,"Современное пятиборье","209",null,null,0,0]
[null,null,null,null,null,"Софтбол","210",null,null,0,0]
[null,null,null,null,null,"Спасательный спорт","211",null,null,0,0]
[null,null,null,null,null,"Спорт сверхлегкой авиации","212",null,null,0,0]
[null,null,null,null,null,"Спортивная акробатика","213",1,null,324,324,178,120,26,null,318,4,2,null,null,null,null,null,null,null,null,null,70,254]
[null,null,null,null,null,"Спортивная аэробика","214",1,null,299,299,162,129,8,null,297,2,null,null,null,null,null,null,null,null,null,null,7,292]
[null,null,null,null,null,"Спортивная борьба - всего","215",{"$f":"IF(SUM(H222:H226)>=1,1,0)","v":0},null,0,0,{"$f":"SUM(L222:L226)","v":0},{"$f":"SUM(M222:M226)","v":0},0,0,0,0,0,0,0,0,0,0,0,0,0,0,0,0]
[null,null,null,null,null,"в том числе:\nВольная борьба","216",null,null,0,0]
[null,null,null,null,null,"Греко-римская борьба","217",null,null,0,0]
[null,null,null,null,null,"Грэпплинг","218",null,null,0,0]
[null,null,null,null,null,"Панкратион","219",null,null,0,0]
[null,null,null,null,null,"Пляжная борьба","220",null,null,0,0]
[null,null,null,null,null,"Спортивная гимнастика","221",null,null,0,0]
[null,null,null,null,null,"Спортивная йога","222",null,null,0,0]
[null,null,null,null,null,"Спортивное метание ножа","223",null,null,0,0]
[null,null,null,null,null,"Спортивное ориентирование","224",null,null,0,0]
[null,null,null,null,null,"Спортивное программирование - всего","225",{"$f":"IF(SUM(H232:H236)>=1,1,0)","v":0},null,0,0,{"$f":"SUM(L232:L236)","v":0},{"$f":"SUM(M232:M236)","v":0},0,0,0,0,0,0,0,0,0,0,0,0,0,0,0,0]
[null,null,null,null,null,"в том числе:\nПрограммирование алгоритмическое","226",null,null,0,0]
[null,null,null,null,null,"Программирование продуктовое","227",null,null,0,0]
[null,null,null,null,null,"Программирование беспилотных авиационных систем","228",null,null,0,0]
[null,null,null,null,null,"Программирование робототехники","229",null,null,0,0]
[null,null,null,null,null,"Программирование систем информационной безопасности","230",null,null,0,0]
[null,null,null,null,null,"Спортивно-прикладное собаководство","231",null,null,0,0]
[null,null,null,null,null,"Спортивный бридж","232",null,null,0,0]
[null,null,null,null,null,"Спортивный туризм","233",1,null,51,51,33,10,8,null,43,2,6,null,null,null,null,null,null,null,null,null,34,17]
[null,null,null,null,null,"Стендовая стрельба - всего","234",{"$f":"IF(SUM(H241:H243)>=1,1,0)","v":0},null,0,0,{"$f":"SUM(L241:L243)","v":0},{"$f":"SUM(M241:M243)","v":0},0,0,0,0,0,0,0,0,0,0,0,0,0,0,0,0]
[null,null,null,null,null,"в том числе:\nТрап","235",null,null,0,0]
[null,null,null,null,null,"Скит","236",null,null,0,0]
[null,null,null,null,null,"Иные дисциплины вида спорта \"стендовая стрельба\"","237",null,null,0,0]
[null,null,null,null,null,"Страйкбол","238",null,null,0,0]
[null,null,null,null,null,"Стрельба из арбалета","239",null,null,0,0]
[null,null,null,null,null,"Стрельба из боевого ручного стрелкового оружия","240",null,null,0,0]
[null,null,null,null,null,"Стрельба из лука - всего","241",{"$f":"IF(SUM(H248:H251)>=1,1,0)","v":0},null,0,0,{"$f":"SUM(L248:L251)","v":0},{"$f":"SUM(M248:M251)","v":0},0,0,0,0,0,0,0,0,0,0,0,0,0,0,0,0]
[null,null,null,null,null,"в том числе:\nКлассический лук","242",null,null,0,0]
[null,null,null,null,null,"Блочный лук","243",null,null,0,0]
[null,null,null,null,null,"Ачери ","244",null,null,0,0]
[null,null,null,null,null,"Иные дисциплины вида спорта \"стрельба из лука\"","245",null,null,0,0]
[null,null,null,null,null,"Стрельба из штатного или табельного оружия","246",null,null,0,0]
[null,null,null,null,null,"Стрельба на дальние дистанции","247",null,null,0,0]
[null,null,null,null,null,"Судомодельный спорт","248",null,null,0,0]
[null,null,null,null,null,"Сумо","249",null,null,0,0]
[null,null,null,null,null,"Таврели","250",null,null,0,0]
[null,null,null,null,null,"Танцевальный спорт","251",1,null,44,44,39,5,null,null,42,2,null,null,null,null,null,null,null,null,null,null,35,9]
[null,null,null,null,null,"Теннис","252",null,null,0,0]
[null,null,null,null,null,"Триатлон","253",null,null,0,0]
[null,null,null,null,null,"Тхэквондо ВТФ","254",null,null,0,0]
[null,null,null,null,null,"Тхэквондо ГТФ","255",null,null,0,0]
[null,null,null,null,null,"Тхэквондо ИТФ","256",null,null,0,0]
[null,null,null,null,null,"Тхэквондо МФТ","257",null,null,0,0]
[null,null,null,null,null,"Тяжелая атлетика","258",null,null,{"$f":"SUM(K264,W264)*IF(H264>0,1,0)","v":0},{"$f":"SUM(L264:O264)","v":0}]
[null,null,null,null,null,"Универсальный бой","259",null,null,0,0]
[null,null,null,null,null,"Ушу","260",1,null,109,44,10,8,26,null,35,6,3,null,null,null,null,65,null,65,null,null,58,51]
[null,null,null,null,null,"Фехтование - всего","261",{"$f":"IF(SUM(H268:H271)>=1,1,0)","v":0},null,0,0,{"$f":"SUM(L268:L271)","v":0},{"$f":"SUM(M268:M271)","v":0},0,0,0,0,0,0,0,0,0,0,0,0,0,0,0,0]
[null,null,null,null,null,"в том числе:\nРапира","262",null,null,0,0]
[null,null,null,null,null,"Сабля","263",null,null,0,0]
[null,null,null,null,null,"Шпага","264",null,null,0,0]
[null,null,null,null,null,"Арт-фехтование","265",null,null,0,0]
[null,null,null,null,null,"Фигурное катание на коньках","266",null,null,0,0]
[null,null,null,null,null,"Фиджитал спорт (функционально-цифровой спорт) - всего","267",{"$f":"IF(SUM(H274:H278)>=1,1,0)","v":0},null,0,0,{"$f":"SUM(L274:L278)","v":0},{"$f":"SUM(M274:M278)","v":0},0,0,0,0,0,0,0,0,0,0,0,0,0,0,0,0]
[null,null,null,null,null,"в том числе:\nДвоеборье - автомодель","268",null,null,0,0]
[null,null,null,null,null,"Двоеборье - единоборство","269",null,null,0,0]
[null,null,null,null,null,"Двоеборье - тактическая стрельба","270",null,null,0,0]
[null,null,null,null,null,"Преследование с препятствиями","271",null,null,0,0]
[null,null,null,null,null,"Ритм - симулятор","272",null,null,0,0]
[null,null,null,null,null,"Фитнес-аэробика","273",null,null,0,0]
[null,null,null,null,null,"Флаинг диск","274",null,null,0,0]
[null,null,null,null,null,"Флорбол","275",null,null,0,0]
[null,null,null,null,null,"Фристайл - всего","276",{"$f":"IF(SUM(H283:H288)>=1,1,0)","v":0},null,0,0,{"$f":"SUM(L283:L288)","v":0},{"$f":"SUM(M283:M288)","v":0},0,0,0,0,0,0,0,0,0,0,0,0,0,0,0,0]
[null,null,null,null,null,"в том числе:\nАкробатика","277",null,null,0,0]
[null,null,null,null,null,"Биг-эйр","278",null,null,0,0]
[null,null,null,null,null,"Могул","279",null,null,0,0]
[null,null,null,null,null,"Ски-кросс","280",null,null,0,0]
[null,null,null,null,null,"Хаф-пайп","281",null,null,0,0]
[null,null,null,null,null,"Слоупстайл","282",null,null,0,0]
[null,null,null,null,null,"Функциональное многоборье","283",null,null,0,0]
[null,null,null,null,null,"Футбол - всего","284",{"$f":"IF(SUM(H291:H297)>=1,1,0)","v":1},null,5,0,{"$f":"SUM(L291:L297)","v":0},{"$f":"SUM(M291:M297)","v":0},0,0,0,0,0,0,0,0,0,5,5,5,0,0,4,1]
[null,null,null,null,null,"в том числе:\nФутбол (муж.)","285",null,null,0,0,null,null,null,null,null,null,null,null,null,null,null,null,null,null,null,null,{"$f":"J291","v":0}]
[null,null,null,null,null,"Футбол (жен.)","286",null,null,0,0,null,null,null,null,null,null,null,null,null,null,null,null,null,null,null,null,null,{"$f":"J292","v":0}]
[null,null,null,null,null,"Интерактивный футбол","287",null,null,0,0]
[null,null,null,null,null,"Мини-футбол","288",null,null,0,0]
[null,null,null,null,null,"Пляжный футбол","289",null,null,0,0]
[null,null,null,null,null,"Футбольное двоеборье","290",null,null,0,0]
[null,null,null,null,null,"Футзал","291",1,null,5,0,null,null,null,null,null,null,null,null,null,null,null,5,5,5,null,null,4,1]
[null,null,null,null,null,"Хапкидо","292",null,null,0,0]
[null,null,null,null,null,"Хапсагай","293",null,null,0,0]
[null,null,null,null,null,"Хоккей - всего","294",{"$f":"IF(SUM(H301:H305)>=1,1,0)","v":0},null,0,0,{"$f":"SUM(L301:L305)","v":0},{"$f":"SUM(M301:M305)","v":0},0,0,0,0,0,0,0,0,0,0,0,0,0,0,0,0]
[null,null,null,null,null,"в том числе:\nХоккей (муж.)","295",null,null,0,0,null,null,null,null,null,null,null,null,null,null,null,null,null,null,null,null,{"$f":"J301","v":0}]
[null,null,null,null,null,"Хоккей (жен.)","296",null,null,0,0,null,null,null,null,null,null,null,null,null,null,null,null,null,null,null,null,null,{"$f":"J302","v":0}]
[null,null,null,null,null,"Хоккейное двоеборье","297",null,null,0,0]
[null,null,null,null,null,"Хоккей 2х2, 3х3, 4х4","298",null,null,0,0]
[null,null,null,null,null,"Интерактивный хоккей","299",null,null,0,0]
[null,null,null,null,null,"Хоккей на траве - всего","300",{"$f":"IF(SUM(H307:H309)>=1,1,0)","v":0},null,0,0,{"$f":"SUM(L307:L309)","v":0},{"$f":"SUM(M307:M309)","v":0},0,0,0,0,0,0,0,0,0,0,0,0,0,0,0,0]
[null,null,null,null,null,"в том числе:\nХоккей на траве (муж.)","301",null,null,0,0,null,null,null,null,null,null,null,null,null,null,null,null,null,null,null,null,{"$f":"J307","v":0}]
[null,null,null,null,null,"Хоккей на траве (жен.)","302",null,null,0,0,null,null,null,null,null,null,null,null,null,null,null,null,null,null,null,null,null,{"$f":"J308","v":0}]
[null,null,null,null,null,"Иные дисциплины вида спорта \"хоккей на траве\"","303",null,null,0,0]
[null,null,null,null,null,"Хоккей с мячом","304",null,null,0,0]
[null,null,null,null,null,"Художественная гимнастика","305",null,null,0,0]
[null,null,null,null,null,"Хуреш","306",null,null,0,0]
[null,null,null,null,null,"Чир спорт","307",null,null,0,0]
[null,null,null,null,null,"Шахбокс","308",null,null,0,0]
[null,null,null,null,null,"Шахматы","309",1,null,221,206,163,43,null,null,206,null,null,null,null,null,null,15,15,15,null,null,160,61]
[null,null,null,null,null,"Шашки","310",null,null,0,0]
[null,null,null,null,null,"Шодсанлат","311",null,null,0,0]
[null,null,null,null,null,"Эстетическая гимнастика","312",null,null,0,0]
[null,null,null,null,null,"Якутские национальные прыжки","313",null,null,0,0]
[null,null,null,null,null,"ИТОГО","314",{"$f":"SUM(H7:H13,H16:H21,H27:H30,H35:H41,H47:H48,H52:H60,H66:H68,H72:H75,H80:H87,H90:H101,H105:H110,H118:H119,H124:H149,H152:H158,H163:H164,H170:H173,H180:H194,H198:H209,H215:H221,H227:H231,H237:H240,H244:H247,H252:H267,H272:H273,H279:H282,H289:H290,H298:H300,H306,H310:H319)","v":16},null,2753,{"$f":"SUM(L320:O320)","v":1801},{"$f":"SUM(L7:L13,L16:L21,L27:L30,L35:L41,L47:L48,L52:L60,L66:L68,L72:L75,L80:L87,L90:L101,L105:L110,L118:L119,L124:L149,L152:L158,L163:L164,L170:L173,L180:L194,L198:L209,L215:L221,L227:L231,L237:L240,L244:L247,L252:L267,L272:L273,L279:L282,L289:L290,L298:L300,L306,L310:L319)","v":1058},{"$f":"SUM(M7:M13,M16:M21,M27:M30,M35:M41,M47:M48,M52:M60,M66:M68,M72:M75,M80:M87,M90:M101,M105:M110,M118:M119,M124:M149,M152:M158,M163:M164,M170:M173,M180:M194,M198:M209,M215:M221,M227:M231,M237:M240,M244:M247,M252:M267,M272:M273,M279:M282,M289:M290,M298:M300,M306,M310:M319)","v":647},96,0,1682,84,35,0,0,0,0,952,605,952,0,0,1623,1130]

{"sheet":"Раздел 3","index":3,"n_rows":320,"n_cols":38,"rows_kept":320,"cut":false,"hidden":false,"merged":[[3,11,3,16],[0,5,0,36],[1,5,4,5],[1,6,4,6],[1,7,1,26],[1,27,1,31],[1,32,1,36],[2,7,4,7],[2,27,4,27],[2,32,4,32],[3,8,3,10],[3,17,3,21],[3,22,3,26],[2,8,2,26],[2,28,3,31],[2,33,3,36]]}
[null,null,null,null,null,"Раздел III. Численность обучающихся по дополнительным образовательным программам спортивной подготовки, человек"]
[null,null,null,null,null,"Виды спорта","№ строки","Численность обучающихся по дополнительным образовательным программам спортивной подготовки на 31 декабря отчетного периода (из гр.6 раздела II)",null,null,null,null,null,null,null,null,null,null,null,null,null,null,null,null,null,null,null,"Численность обучающихся, зачисленных на дополнительные образовательные программы \nспортивной подготовки в отчетном периоде",null,null,null,null,"Численность обучающихся, отчисленных с дополнительных образовательных программ \nспортивной подготовки в отчетном периоде"]
[null,null,null,null,null,null,null,"всего","в том числе по этапам и годам подготовки",null,null,null,null,null,null,null,null,null,null,null,null,null,null,null,null,null,null,"всего","в том числе по этапам подготовки",null,null,null,"всего","в том числе по этапам подготовки"]
[null,null,null,null,null,null,null,null,"начальной подготовки",null,null,"учебно-тренировочный",null,null,null,null,null,"совершенствования спортивного мастерства",null,null,null,null,"высшего спортивного мастерства"]
["Код региона","ОГРН","Ведоственная принадлежность","Вид организации","Вид правового образования",null,null,null,1,2,"более 2",1,2,3,4,5,"более 5",1,2,3,4,"более 4",1,2,3,4,"более 4",null,"начальной подготовки","учебно-тренировочный","совершен-ствования спортивного мастерства","высшего спортивного мастерства",null,"начальной подготовки","учебно-тренировочный","совершен-ствования спортивного мастерства","высшего спортивного мастерства"]
[{"$f":"'Раздел 0'!M27","v":86},{"$f":"IF('Раздел 1'!D15>0,'Раздел 1'!D15,\"ОСП\")","v":1188617000428},{"$f":"(IF(SUM('Раздел 1'!D5:D6)>0,\"ФКИС\",IF(SUM('Раздел 1'!D7:D8)>0,\"ОБРАЗОВАНИЕ\",IF(SUM('Раздел 1'!D9:D10)>0,\"ДВП\",\" \"))))","v":"ФКИС"},{"$f":"(IF(SUM('Раздел 1'!E12:E13)>0,\"СШ\",IF(SUM('Раздел 1'!F12:F13)>0,\"СШОР\",IF(SUM('Раздел 1'!G12:G13)>0,\"УОР\",IF(SUM('Раздел 1'!H12:H13)>0,\"ЦСП\",IF(SUM('Раздел 1'!I12:I13)>0,\"Другие\"))))))","v":"СШ"},{"$f":"(IF('Раздел 1'!D19=1,\"РФ\",IF('Раздел 1'!E19=1,\"Суб РФ\",IF('Раздел 1'!F19=1,\"МО\",IF('Раздел 1'!H19=1,\"ИПО\",\"ОСП\")))))","v":"МО"},1,2,3,4,5,6,7,8,9,10,11,12,13,14,15,16,17,18,19,20,21,22,23,24,25,26,27,28,29,30,31,32,"2р"]
[null,null,null,null,null,"Авиамодельный спорт","01",{"$f":"SUM(I7:AA7)","v":0},null,null,null,null,null,null,null,null,null,null,null,null,null,null,null,null,null,null,null,{"$f":"SUM(AC7:AF7)","v":0},null,null,null,null,{"$f":"SUM(AH7:AK7)","v":0},null,null,null,null,{"$f":"'Раздел 2'!H7","v":0}]
[null,null,null,null,null,"Авиационные гонки","02",{"$f":"SUM(I8:AA8)","v":0},null,null,null,null,null,null,null,null,null,null,null,null,null,null,null,null,null,null,null,{"$f":"SUM(AC8:AF8)","v":0},null,null,null,null,{"$f":"SUM(AH8:AK8)","v":0},null,null,null,null,{"$f":"'Раздел 2'!H8","v":0}]
[null,null,null,null,null,"Автомобильный спорт","03",{"$f":"SUM(I9:AA9)","v":0},null,null,null,null,null,null,null,null,null,null,null,null,null,null,null,null,null,null,null,0,null,null,null,null,0,null,null,null,null,{"$f":"'Раздел 2'!H9","v":0}]
[null,null,null,null,null,"Автомодельный спорт","04",0,null,null,null,null,null,null,null,null,null,null,null,null,null,null,null,null,null,null,null,0,null,null,null,null,0,null,null,null,null,{"$f":"'Раздел 2'!H10","v":0}]
[null,null,null,null,null,"Айкидо","05",0,null,null,null,null,null,null,null,null,null,null,null,null,null,null,null,null,null,null,null,0,null,null,null,null,0,null,null,null,null,{"$f":"'Раздел 2'!H11","v":0}]
[null,null,null,null,null,"Акробатический рок-н-ролл","06",0,null,null,null,null,null,null,null,null,null,null,null,null,null,null,null,null,null,null,null,0,null,null,null,null,0,null,null,null,null,{"$f":"'Раздел 2'!H12","v":0}]
[null,null,null,null,null,"Альпинизм - всего","07",{"$f":"SUM(I13:AA13)","v":0},{"$f":"SUM(I14:I15)","v":0},{"$f":"SUM(J14:J15)","v":0},0,0,0,0,0,0,0,0,0,0,0,0,0,0,0,0,0,0,0,0,0,0,0,0,0,0,0,{"$f":"'Раздел 2'!H13","v":0}]
[null,null,null,null,null,"В том числе:\nСки-альпинизм","08",0,null,null,null,null,null,null,null,null,null,null,null,null,null,null,null,null,null,null,null,0,null,null,null,null,0,null,null,null,null,{"$f":"'Раздел 2'!H14","v":0}]
[null,null,null,null,null,"Иные дисциплины вида спорта \"альпинизм\"","09",0,null,null,null,null,null,null,null,null,null,null,null,null,null,null,null,null,null,null,null,0,null,null,null,null,0,null,null,null,null,{"$f":"'Раздел 2'!H15","v":0}]
[null,null,null,null,null,"Американский футбол","10",0,null,null,null,null,null,null,null,null,null,null,null,null,null,null,null,null,null,null,null,0,null,null,null,null,0,null,null,null,null,{"$f":"'Раздел 2'!H16","v":0}]
[null,null,null,null,null,"Армейский рукопашный бой","11",0,null,null,null,null,null,null,null,null,null,null,null,null,null,null,null,null,null,null,null,0,null,null,null,null,0,null,null,null,null,{"$f":"'Раздел 2'!H17","v":0}]
[null,null,null,null,null,"Армейское тактико-стрелковое многоборье","12",0,null,null,null,null,null,null,null,null,null,null,null,null,null,null,null,null,null,null,null,0,null,null,null,null,0,null,null,null,null,{"$f":"'Раздел 2'!H18","v":0}]
[null,null,null,null,null,"Армрестлинг","13",0,null,null,null,null,null,null,null,null,null,null,null,null,null,null,null,null,null,null,null,0,null,null,null,null,0,null,null,null,null,{"$f":"'Раздел 2'!H19","v":0}]
[null,null,null,null,null,"Бадминтон","14",0,null,null,null,null,null,null,null,null,null,null,null,null,null,null,null,null,null,null,null,0,null,null,null,null,0,null,null,null,null,{"$f":"'Раздел 2'!H20","v":0}]
[null,null,null,null,null,"Баскетбол - всего","15",0,{"$f":"SUM(I22:I26)","v":0},{"$f":"SUM(J22:J26)","v":0},0,0,0,0,0,0,0,0,0,0,0,0,0,0,0,0,0,0,0,0,0,0,0,0,0,0,0,{"$f":"'Раздел 2'!H21","v":0}]
[null,null,null,null,null,"в том числе:\nБаскетбол (муж.)","16",0,null,null,null,null,null,null,null,null,null,null,null,null,null,null,null,null,null,null,null,0,null,null,null,null,0,null,null,null,null,{"$f":"'Раздел 2'!H22","v":0}]
[null,null,null,null,null,"Баскетбол (жен.)","17",0,null,null,null,null,null,null,null,null,null,null,null,null,null,null,null,null,null,null,null,0,null,null,null,null,0,null,null,null,null,{"$f":"'Раздел 2'!H23","v":0}]
[null,null,null,null,null,"Баскетбол 3х3","18",0,null,null,null,null,null,null,null,null,null,null,null,null,null,null,null,null,null,null,null,0,null,null,null,null,0,null,null,null,null,{"$f":"'Раздел 2'!H24","v":0}]
[null,null,null,null,null,"Интерактивный баскетбол","19",0,null,null,null,null,null,null,null,null,null,null,null,null,null,null,null,null,null,null,null,0,null,null,null,null,0,null,null,null,null,{"$f":"'Раздел 2'!H25","v":0}]
[null,null,null,null,null,"Иные дисциплины вида спорта \"баскетбол\"","20",0,null,null,null,null,null,null,null,null,null,null,null,null,null,null,null,null,null,null,null,0,null,null,null,null,0,null,null,null,null,{"$f":"'Раздел 2'!H26","v":0}]
[null,null,null,null,null,"Бейсбол","21",0,null,null,null,null,null,null,null,null,null,null,null,null,null,null,null,null,null,null,null,0,null,null,null,null,0,null,null,null,null,{"$f":"'Раздел 2'!H27","v":0}]
[null,null,null,null,null,"Биатлон","22",0,null,null,null,null,null,null,null,null,null,null,null,null,null,null,null,null,null,null,null,0,null,null,null,null,0,null,null,null,null,{"$f":"'Раздел 2'!H28","v":0}]
[null,null,null,null,null,"Бильярдный спорт","23",0,null,null,null,null,null,null,null,null,null,null,null,null,null,null,null,null,null,null,null,0,null,null,null,null,0,null,null,null,null,{"$f":"'Раздел 2'!H29","v":0}]
[null,null,null,null,null,"Бобслей - всего","24",0,{"$f":"SUM(I31:I34)","v":0},{"$f":"SUM(J31:J34)","v":0},0,0,0,0,0,0,0,0,0,0,0,0,0,0,0,0,0,0,0,0,0,0,0,0,0,0,0,{"$f":"'Раздел 2'!H30","v":0}]
[null,null,null,null,null,"В том числе:\nСкелетон","25",0,null,null,null,null,null,null,null,null,null,null,null,null,null,null,null,null,null,null,null,0,null,null,null,null,0,null,null,null,null,{"$f":"'Раздел 2'!H31","v":0}]
[null,null,null,null,null,"Экипаж","26",0,null,null,null,null,null,null,null,null,null,null,null,null,null,null,null,null,null,null,null,0,null,null,null,null,0,null,null,null,null,{"$f":"'Раздел 2'!H32","v":0}]
[null,null,null,null,null,"Монобоб","27",0,null,null,null,null,null,null,null,null,null,null,null,null,null,null,null,null,null,null,null,0,null,null,null,null,0,null,null,null,null,{"$f":"'Раздел 2'!H33","v":0}]
[null,null,null,null,null,"Иные дисциплины вида спорта \"бобслей\"","28",0,null,null,null,null,null,null,null,null,null,null,null,null,null,null,null,null,null,null,null,0,null,null,null,null,0,null,null,null,null,{"$f":"'Раздел 2'!H34","v":0}]
[null,null,null,null,null,"Бодибилдинг","29",0,null,null,null,null,null,null,null,null,null,null,null,null,null,null,null,null,null,null,null,0,null,null,null,null,0,null,null,null,null,{"$f":"'Раздел 2'!H35","v":0}]
[null,null,null,null,null,"Бокс","30",0,null,null,null,null,null,null,null,null,null,null,null,null,null,null,null,null,null,null,null,0,null,null,null,null,0,null,null,null,null,{"$f":"'Раздел 2'!H36","v":0}]
[null,null,null,null,null,"Борьба на поясах","31",0,null,null,null,null,null,null,null,null,null,null,null,null,null,null,null,null,null,null,null,0,null,null,null,null,0,null,null,null,null,{"$f":"'Раздел 2'!H37","v":0}]
[null,null,null,null,null,"Боулинг","32",0,null,null,null,null,null,null,null,null,null,null,null,null,null,null,null,null,null,null,null,0,null,null,null,null,0,null,null,null,null,{"$f":"'Раздел 2'!H38","v":0}]
[null,null,null,null,null,"Боулспорт","33",0,null,null,null,null,null,null,null,null,null,null,null,null,null,null,null,null,null,null,null,0,null,null,null,null,0,null,null,null,null,{"$f":"'Раздел 2'!H39","v":0}]
[null,null,null,null,null,"Брейкинг","34",0,null,null,null,null,null,null,null,null,null,null,null,null,null,null,null,null,null,null,null,0,null,null,null,null,0,null,null,null,null,{"$f":"'Раздел 2'!H40","v":0}]
[null,null,null,null,null,"Велосипедный спорт - всего","35",0,{"$f":"SUM(I42:I46)","v":0},{"$f":"SUM(J42:J46)","v":0},0,0,0,0,0,0,0,0,0,0,0,0,0,0,0,0,0,0,0,0,0,0,0,0,0,0,0,{"$f":"'Раздел 2'!H41","v":0}]
[null,null,null,null,null,"в том числе:\nBMX (гонка, эстафета)","36",0,null,null,null,null,null,null,null,null,null,null,null,null,null,null,null,null,null,null,null,0,null,null,null,null,0,null,null,null,null,{"$f":"'Раздел 2'!H42","v":0}]
[null,null,null,null,null,"BMX - фристайл","37",0,null,null,null,null,null,null,null,null,null,null,null,null,null,null,null,null,null,null,null,0,null,null,null,null,0,null,null,null,null,{"$f":"'Раздел 2'!H43","v":0}]
[null,null,null,null,null,"Маунтинбайк","38",0,null,null,null,null,null,null,null,null,null,null,null,null,null,null,null,null,null,null,null,0,null,null,null,null,0,null,null,null,null,{"$f":"'Раздел 2'!H44","v":0}]
[null,null,null,null,null,"Трек","39",0,null,null,null,null,null,null,null,null,null,null,null,null,null,null,null,null,null,null,null,0,null,null,null,null,0,null,null,null,null,{"$f":"'Раздел 2'!H45","v":0}]
[null,null,null,null,null,"Шоссе","40",0,null,null,null,null,null,null,null,null,null,null,null,null,null,null,null,null,null,null,null,0,null,null,null,null,0,null,null,null,null,{"$f":"'Раздел 2'!H46","v":0}]
[null,null,null,null,null,"Вертолетный спорт","41",0,null,null,null,null,null,null,null,null,null,null,null,null,null,null,null,null,null,null,null,0,null,null,null,null,0,null,null,null,null,{"$f":"'Раздел 2'!H47","v":0}]
[null,null,null,null,null,"Водное поло - всего","42",0,{"$f":"SUM(I49:I51)","v":0},{"$f":"SUM(J49:J51)","v":0},0,0,0,0,0,0,0,0,0,0,0,0,0,0,0,0,0,0,0,0,0,0,0,0,0,0,0,{"$f":"'Раздел 2'!H48","v":0}]
[null,null,null,null,null,"в том числе:\nВодное поло (муж.)","43",0,null,null,null,null,null,null,null,null,null,null,null,null,null,null,null,null,null,null,null,0,null,null,null,null,0,null,null,null,null,{"$f":"'Раздел 2'!H49","v":0}]
[null,null,null,null,null,"Водное поло (жен.)","44",0,null,null,null,null,null,null,null,null,null,null,null,null,null,null,null,null,null,null,null,0,null,null,null,null,0,null,null,null,null,{"$f":"'Раздел 2'!H50","v":0}]
[null,null,null,null,null,"Иные дисциплины вида спорта \"водное поло\"","45",0,null,null,null,null,null,null,null,null,null,null,null,null,null,null,null,null,null,null,null,0,null,null,null,null,0,null,null,null,null,{"$f":"'Раздел 2'!H51","v":0}]
[null,null,null,null,null,"Воднолыжный спорт","46",0,null,null,null,null,null,null,null,null,null,null,null,null,null,null,null,null,null,null,null,0,null,null,null,null,0,null,null,null,null,{"$f":"'Раздел 2'!H52","v":0}]
[null,null,null,null,null,"Водно-моторный спорт","47",0,null,null,null,null,null,null,null,null,null,null,null,null,null,null,null,null,null,null,null,0,null,null,null,null,0,null,null,null,null,{"$f":"'Раздел 2'!H53","v":0}]
[null,null,null,null,null,"Водно-спасательное многоборье","48",0,null,null,null,null,null,null,null,null,null,null,null,null,null,null,null,null,null,null,null,0,null,null,null,null,0,null,null,null,null,{"$f":"'Раздел 2'!H54","v":0}]
[null,null,null,null,null,"Военно-прикладной спорт","49",0,null,null,null,null,null,null,null,null,null,null,null,null,null,null,null,null,null,null,null,0,null,null,null,null,0,null,null,null,null,{"$f":"'Раздел 2'!H55","v":0}]
[null,null,null,null,null,"Военно-спортивное многоборье","50",0,null,null,null,null,null,null,null,null,null,null,null,null,null,null,null,null,null,null,null,0,null,null,null,null,0,null,null,null,null,{"$f":"'Раздел 2'!H56","v":0}]
[null,null,null,null,null,"Воздухоплавательный спорт","51",0,null,null,null,null,null,null,null,null,null,null,null,null,null,null,null,null,null,null,null,0,null,null,null,null,0,null,null,null,null,{"$f":"'Раздел 2'!H57","v":0}]
[null,null,null,null,null,"Воздушная гимнастика","52",0,null,null,null,null,null,null,null,null,null,null,null,null,null,null,null,null,null,null,null,0,null,null,null,null,0,null,null,null,null,{"$f":"'Раздел 2'!H58","v":0}]
[null,null,null,null,null,"Воздушно-силовая атлетика","53",0,null,null,null,null,null,null,null,null,null,null,null,null,null,null,null,null,null,null,null,0,null,null,null,null,0,null,null,null,null,{"$f":"'Раздел 2'!H59","v":0}]
[null,null,null,null,null,"Волейбол - всего","54",0,{"$f":"SUM(I61:I65)","v":0},{"$f":"SUM(J61:J65)","v":0},0,0,0,0,0,0,0,0,0,0,0,0,0,0,0,0,0,0,0,0,0,0,0,0,0,0,0,{"$f":"'Раздел 2'!H60","v":0}]
[null,null,null,null,null,"в том числе:\nВолейбол (муж.)","55",0,null,null,null,null,null,null,null,null,null,null,null,null,null,null,null,null,null,null,null,0,null,null,null,null,0,null,null,null,null,{"$f":"'Раздел 2'!H61","v":0}]
[null,null,null,null,null,"Волейбол (жен.)","56",0,null,null,null,null,null,null,null,null,null,null,null,null,null,null,null,null,null,null,null,0,null,null,null,null,0,null,null,null,null,{"$f":"'Раздел 2'!H62","v":0}]
[null,null,null,null,null,"Пляжный волейбол (муж.)","57",0,null,null,null,null,null,null,null,null,null,null,null,null,null,null,null,null,null,null,null,0,null,null,null,null,0,null,null,null,null,{"$f":"'Раздел 2'!H63","v":0}]
[null,null,null,null,null,"Пляжный волейбол (жен.)","58",0,null,null,null,null,null,null,null,null,null,null,null,null,null,null,null,null,null,null,null,0,null,null,null,null,0,null,null,null,null,{"$f":"'Раздел 2'!H64","v":0}]
[null,null,null,null,null,"Волейбол на снегу","59",0,null,null,null,null,null,null,null,null,null,null,null,null,null,null,null,null,null,null,null,0,null,null,null,null,0,null,null,null,null,{"$f":"'Раздел 2'!H65","v":0}]
[null,null,null,null,null,"Восточное боевое единоборство","60",0,null,null,null,null,null,null,null,null,null,null,null,null,null,null,null,null,null,null,null,0,null,null,null,null,0,null,null,null,null,{"$f":"'Раздел 2'!H66","v":0}]
[null,null,null,null,null,"Всестилевое каратэ","61",0,null,null,null,null,null,null,null,null,null,null,null,null,null,null,null,null,null,null,null,0,null,null,null,null,0,null,null,null,null,{"$f":"'Раздел 2'!H67","v":0}]
[null,null,null,null,null,"Гандбол - всего","62",0,{"$f":"SUM(I69:I71)","v":0},{"$f":"SUM(J69:J71)","v":0},0,0,0,0,0,0,0,0,0,0,0,0,0,0,0,0,0,0,0,0,0,0,0,0,0,0,0,{"$f":"'Раздел 2'!H68","v":0}]
[null,null,null,null,null,"в том числе:\nГандбол (муж.)","63",0,null,null,null,null,null,null,null,null,null,null,null,null,null,null,null,null,null,null,null,0,null,null,null,null,0,null,null,null,null,{"$f":"'Раздел 2'!H69","v":0}]
[null,null,null,null,null,"Гандбол (жен.)","64",0,null,null,null,null,null,null,null,null,null,null,null,null,null,null,null,null,null,null,null,0,null,null,null,null,0,null,null,null,null,{"$f":"'Раздел 2'!H70","v":0}]
[null,null,null,null,null,"Пляжный гандбол","65",0,null,null,null,null,null,null,null,null,null,null,null,null,null,null,null,null,null,null,null,0,null,null,null,null,0,null,null,null,null,{"$f":"'Раздел 2'!H71","v":0}]
[null,null,null,null,null,"Гиревой спорт","66",{"$f":"SUM(I72:AA72)","v":0},null,null,null,null,null,null,null,null,null,null,null,null,null,null,null,null,null,null,null,{"$f":"SUM(AC72:AF72)","v":0},null,null,null,null,{"$f":"SUM(AH72:AK72)","v":0},null,null,null,null,{"$f":"'Раздел 2'!H72","v":0}]
[null,null,null,null,null,"Го","67",0,null,null,null,null,null,null,null,null,null,null,null,null,null,null,null,null,null,null,null,0,null,null,null,null,0,null,null,null,null,{"$f":"'Раздел 2'!H73","v":0}]
[null,null,null,null,null,"Гольф","68",0,null,null,null,null,null,null,null,null,null,null,null,null,null,null,null,null,null,null,null,0,null,null,null,null,0,null,null,null,null,{"$f":"'Раздел 2'!H74","v":0}]
[null,null,null,null,null,"Гонки дронов (беспилотных воздушных судов) - всего","69",0,{"$f":"SUM(I76:I79)","v":0},{"$f":"SUM(J76:J79)","v":0},0,0,0,0,0,0,0,0,0,0,0,0,0,0,0,0,0,0,0,0,0,0,0,0,0,0,0,{"$f":"'Раздел 2'!H75","v":0}]
[null,null,null,null,null,"в том числе:\nКласс 75 мм","70",0,null,null,null,null,null,null,null,null,null,null,null,null,null,null,null,null,null,null,null,0,null,null,null,null,0,null,null,null,null,{"$f":"'Раздел 2'!H76","v":0}]
[null,null,null,null,null,"Класс 200 мм","71",0,null,null,null,null,null,null,null,null,null,null,null,null,null,null,null,null,null,null,null,0,null,null,null,null,0,null,null,null,null,{"$f":"'Раздел 2'!H77","v":0}]
[null,null,null,null,null,"Класс 330 мм","72",0,null,null,null,null,null,null,null,null,null,null,null,null,null,null,null,null,null,null,null,0,null,null,null,null,0,null,null,null,null,{"$f":"'Раздел 2'!H78","v":0}]
[null,null,null,null,null,"Технический симулятор","73",0,null,null,null,null,null,null,null,null,null,null,null,null,null,null,null,null,null,null,null,0,null,null,null,null,0,null,null,null,null,{"$f":"'Раздел 2'!H79","v":0}]
[null,null,null,null,null,"Гонки на охотничьих лыжах","74",0,null,null,null,null,null,null,null,null,null,null,null,null,null,null,null,null,null,null,null,0,null,null,null,null,0,null,null,null,null,{"$f":"'Раздел 2'!H80","v":0}]
[null,null,null,null,null,"Гонки с препятствиями","75",0,null,null,null,null,null,null,null,null,null,null,null,null,null,null,null,null,null,null,null,0,null,null,null,null,0,null,null,null,null,{"$f":"'Раздел 2'!H81","v":0}]
[null,null,null,null,null,"Горнолыжный спорт","76",0,null,null,null,null,null,null,null,null,null,null,null,null,null,null,null,null,null,null,null,0,null,null,null,null,0,null,null,null,null,{"$f":"'Раздел 2'!H82","v":0}]
[null,null,null,null,null,"Городошный спорт","77",0,null,null,null,null,null,null,null,null,null,null,null,null,null,null,null,null,null,null,null,0,null,null,null,null,0,null,null,null,null,{"$f":"'Раздел 2'!H83","v":0}]
[null,null,null,null,null,"Гребля на байдарках и каноэ","78",0,null,null,null,null,null,null,null,null,null,null,null,null,null,null,null,null,null,null,null,0,null,null,null,null,0,null,null,null,null,{"$f":"'Раздел 2'!H84","v":0}]
[null,null,null,null,null,"Гребля на шлюпках","79",0,null,null,null,null,null,null,null,null,null,null,null,null,null,null,null,null,null,null,null,0,null,null,null,null,0,null,null,null,null,{"$f":"'Раздел 2'!H85","v":0}]
[null,null,null,null,null,"Гребной слалом","80",0,null,null,null,null,null,null,null,null,null,null,null,null,null,null,null,null,null,null,null,0,null,null,null,null,0,null,null,null,null,{"$f":"'Раздел 2'!H86","v":0}]
[null,null,null,null,null,"Гребной спорт - всего","81",0,{"$f":"SUM(I88:I89)","v":0},{"$f":"SUM(J88:J89)","v":0},0,0,0,0,0,0,0,0,0,0,0,0,0,0,0,0,0,0,0,0,0,0,0,0,0,0,0,{"$f":"'Раздел 2'!H87","v":0}]
[null,null,null,null,null,"в том числе:\nАкадемическая гребля","82",0,null,null,null,null,null,null,null,null,null,null,null,null,null,null,null,null,null,null,null,0,null,null,null,null,0,null,null,null,null,{"$f":"'Раздел 2'!H88","v":0}]
[null,null,null,null,null,"Иные дисциплины вида спорта \"гребной спорт\"","83",0,null,null,null,null,null,null,null,null,null,null,null,null,null,null,null,null,null,null,null,0,null,null,null,null,0,null,null,null,null,{"$f":"'Раздел 2'!H89","v":0}]
[null,null,null,null,null,"Гребно-парусное двоеборье","84",0,null,null,null,null,null,null,null,null,null,null,null,null,null,null,null,null,null,null,null,0,null,null,null,null,0,null,null,null,null,{"$f":"'Раздел 2'!H90","v":0}]
[null,null,null,null,null,"Дартс","85",0,null,null,null,null,null,null,null,null,null,null,null,null,null,null,null,null,null,null,null,0,null,null,null,null,0,null,null,null,null,{"$f":"'Раздел 2'!H91","v":0}]
[null,null,null,null,null,"Джиу-джитсу","86",0,null,null,null,null,null,null,null,null,null,null,null,null,null,null,null,null,null,null,null,0,null,null,null,null,0,null,null,null,null,{"$f":"'Раздел 2'!H92","v":0}]
[null,null,null,null,null,"Джутайдо","87",0,null,null,null,null,null,null,null,null,null,null,null,null,null,null,null,null,null,null,null,0,null,null,null,null,0,null,null,null,null,{"$f":"'Раздел 2'!H93","v":0}]
[null,null,null,null,null,"Дзюдо","88",0,null,null,null,null,null,null,null,null,null,null,null,null,null,null,null,null,null,null,null,0,null,null,null,null,0,null,null,null,null,{"$f":"'Раздел 2'!H94","v":0}]
[null,null,null,null,null,"Ездовой спорт","89",0,null,null,null,null,null,null,null,null,null,null,null,null,null,null,null,null,null,null,null,0,null,null,null,null,0,null,null,null,null,{"$f":"'Раздел 2'!H95","v":0}]
[null,null,null,null,null,"Зимнее плавание","90",0,null,null,null,null,null,null,null,null,null,null,null,null,null,null,null,null,null,null,null,0,null,null,null,null,0,null,null,null,null,{"$f":"'Раздел 2'!H96","v":0}]
[null,null,null,null,null,"Капоэйра","91",0,null,null,null,null,null,null,null,null,null,null,null,null,null,null,null,null,null,null,null,0,null,null,null,null,0,null,null,null,null,{"$f":"'Раздел 2'!H97","v":0}]
[null,null,null,null,null,"Каратэ","92",0,null,null,null,null,null,null,null,null,null,null,null,null,null,null,null,null,null,null,null,0,null,null,null,null,0,null,null,null,null,{"$f":"'Раздел 2'!H98","v":0}]
[null,null,null,null,null,"Кендо","93",0,null,null,null,null,null,null,null,null,null,null,null,null,null,null,null,null,null,null,null,0,null,null,null,null,0,null,null,null,null,{"$f":"'Раздел 2'!H99","v":0}]
[null,null,null,null,null,"Керешу","94",0,null,null,null,null,null,null,null,null,null,null,null,null,null,null,null,null,null,null,null,0,null,null,null,null,0,null,null,null,null,{"$f":"'Раздел 2'!H100","v":0}]
[null,null,null,null,null,"Кёрлинг - всего","95",0,{"$f":"SUM(I102:I104)","v":0},{"$f":"SUM(J102:J104)","v":0},0,0,0,0,0,0,0,0,0,0,0,0,0,0,0,0,0,0,0,0,0,0,0,0,0,0,0,{"$f":"'Раздел 2'!H101","v":0}]
[null,null,null,null,null,"в том числе:\nКёрлинг (муж.)","96",0,null,null,null,null,null,null,null,null,null,null,null,null,null,null,null,null,null,null,null,0,null,null,null,null,0,null,null,null,null,{"$f":"'Раздел 2'!H102","v":0}]
[null,null,null,null,null,"Кёрлинг (жен.)","97",0,null,null,null,null,null,null,null,null,null,null,null,null,null,null,null,null,null,null,null,0,null,null,null,null,0,null,null,null,null,{"$f":"'Раздел 2'!H103","v":0}]
[null,null,null,null,null,"Кёрлинг – смешанные пары","98",0,null,null,null,null,null,null,null,null,null,null,null,null,null,null,null,null,null,null,null,0,null,null,null,null,0,null,null,null,null,{"$f":"'Раздел 2'!H104","v":0}]
[null,null,null,null,null,"Кикбоксинг","99",40,null,null,null,10,null,18,null,null,null,null,null,null,12,null,null,null,null,null,null,16,null,16,null,null,21,null,19,2,null,{"$f":"'Раздел 2'!H105","v":1}]
[null,null,null,null,null,"Кинологический спорт","100",0,null,null,null,null,null,null,null,null,null,null,null,null,null,null,null,null,null,null,null,0,null,null,null,null,0,null,null,null,null,{"$f":"'Раздел 2'!H106","v":0}]
[null,null,null,null,null,"Киокусинкай","101",345,24,62,127,56,16,32,28,null,null,null,null,null,null,null,null,null,null,null,null,86,71,15,null,null,83,42,41,null,null,{"$f":"'Раздел 2'!H107","v":1}]
[null,null,null,null,null,"Киокушин","102",0,null,null,null,null,null,null,null,null,null,null,null,null,null,null,null,null,null,null,null,0,null,null,null,null,0,null,null,null,null,{"$f":"'Раздел 2'!H108","v":0}]
[null,null,null,null,null,"Комплексное единоборство","103",0,null,null,null,null,null,null,null,null,null,null,null,null,null,null,null,null,null,null,null,0,null,null,null,null,0,null,null,null,null,{"$f":"'Раздел 2'!H109","v":0}]
[null,null,null,null,null,"Компьютерный спорт - всего","104",0,{"$f":"SUM(I111:I117)","v":0},{"$f":"SUM(J111:J117)","v":0},0,0,0,0,0,0,0,0,0,0,0,0,0,0,0,0,0,0,0,0,0,0,0,0,0,0,0,{"$f":"'Раздел 2'!H110","v":0}]
[null,null,null,null,null,"в том числе:\nБоевая арена","105",0,null,null,null,null,null,null,null,null,null,null,null,null,null,null,null,null,null,null,null,0,null,null,null,null,0,null,null,null,null,{"$f":"'Раздел 2'!H111","v":0}]
[null,null,null,null,null,"Соревновательные головоломки","106",0,null,null,null,null,null,null,null,null,null,null,null,null,null,null,null,null,null,null,null,0,null,null,null,null,0,null,null,null,null,{"$f":"'Раздел 2'!H112","v":0}]
[null,null,null,null,null,"Спортивный симулятор","107",0,null,null,null,null,null,null,null,null,null,null,null,null,null,null,null,null,null,null,null,0,null,null,null,null,0,null,null,null,null,{"$f":"'Раздел 2'!H113","v":0}]
[null,null,null,null,null,"Стратегия в реальном времени","108",0,null,null,null,null,null,null,null,null,null,null,null,null,null,null,null,null,null,null,null,0,null,null,null,null,0,null,null,null,null,{"$f":"'Раздел 2'!H114","v":0}]
[null,null,null,null,null,"Тактический трехмерный бой","109",0,null,null,null,null,null,null,null,null,null,null,null,null,null,null,null,null,null,null,null,0,null,null,null,null,0,null,null,null,null,{"$f":"'Раздел 2'!H115","v":0}]
[null,null,null,null,null,"Технический симулятор","110",0,null,null,null,null,null,null,null,null,null,null,null,null,null,null,null,null,null,null,null,0,null,null,null,null,0,null,null,null,null,{"$f":"'Раздел 2'!H116","v":0}]
[null,null,null,null,null,"Файтинг","111",0,null,null,null,null,null,null,null,null,null,null,null,null,null,null,null,null,null,null,null,0,null,null,null,null,0,null,null,null,null,{"$f":"'Раздел 2'!H117","v":0}]
[null,null,null,null,null,"Конный спорт","112",0,null,null,null,null,null,null,null,null,null,null,null,null,null,null,null,null,null,null,null,0,null,null,null,null,0,null,null,null,null,{"$f":"'Раздел 2'!H118","v":0}]
[null,null,null,null,null,"Конькобежный спорт - всего","113",0,{"$f":"SUM(I120:I123)","v":0},{"$f":"SUM(J120:J123)","v":0},0,0,0,0,0,0,0,0,0,0,0,0,0,0,0,0,0,0,0,0,0,0,0,0,0,0,0,{"$f":"'Раздел 2'!H119","v":0}]
[null,null,null,null,null,"в том числе:\nКонькобежный спорт","114",0,null,null,null,null,null,null,null,null,null,null,null,null,null,null,null,null,null,null,null,0,null,null,null,null,0,null,null,null,null,{"$f":"'Раздел 2'!H120","v":0}]
[null,null,null,null,null,"Шорт-трек","115",0,null,null,null,null,null,null,null,null,null,null,null,null,null,null,null,null,null,null,null,0,null,null,null,null,0,null,null,null,null,{"$f":"'Раздел 2'!H121","v":0}]
[null,null,null,null,null,"Масс-старт","116",0,null,null,null,null,null,null,null,null,null,null,null,null,null,null,null,null,null,null,null,0,null,null,null,null,0,null,null,null,null,{"$f":"'Раздел 2'!H122","v":0}]
[null,null,null,null,null,"Командный забег","117",0,null,null,null,null,null,null,null,null,null,null,null,null,null,null,null,null,null,null,null,0,null,null,null,null,0,null,null,null,null,{"$f":"'Раздел 2'!H123","v":0}]
[null,null,null,null,null,"Корэш","118",0,null,null,null,null,null,null,null,null,null,null,null,null,null,null,null,null,null,null,null,0,null,null,null,null,0,null,null,null,null,{"$f":"'Раздел 2'!H124","v":0}]
[null,null,null,null,null,"Крикет","119",0,null,null,null,null,null,null,null,null,null,null,null,null,null,null,null,null,null,null,null,0,null,null,null,null,0,null,null,null,null,{"$f":"'Раздел 2'!H125","v":0}]
[null,null,null,null,null,"Кудо","120",62,18,null,null,15,null,15,14,null,null,null,null,null,null,null,null,null,null,null,null,21,17,4,null,null,27,3,24,null,null,{"$f":"'Раздел 2'!H126","v":1}]
[null,null,null,null,null,"Лазерный бой","121",0,null,null,null,null,null,null,null,null,null,null,null,null,null,null,null,null,null,null,null,0,null,null,null,null,0,null,null,null,null,{"$f":"'Раздел 2'!H127","v":0}]
[null,null,null,null,null,"Лапта","122",0,null,null,null,null,null,null,null,null,null,null,null,null,null,null,null,null,null,null,null,0,null,null,null,null,0,null,null,null,null,{"$f":"'Раздел 2'!H128","v":0}]
[null,null,null,null,null,"Легкая атлетика","123",0,null,null,null,null,null,null,null,null,null,null,null,null,null,null,null,null,null,null,null,0,null,null,null,null,0,null,null,null,null,{"$f":"'Раздел 2'!H129","v":0}]
[null,null,null,null,null,"Лыжное двоеборье","124",0,null,null,null,null,null,null,null,null,null,null,null,null,null,null,null,null,null,null,null,0,null,null,null,null,0,null,null,null,null,{"$f":"'Раздел 2'!H130","v":0}]
[null,null,null,null,null,"Лыжные гонки","125",0,null,null,null,null,null,null,null,null,null,null,null,null,null,null,null,null,null,null,null,0,null,null,null,null,0,null,null,null,null,{"$f":"'Раздел 2'!H131","v":0}]
[null,null,null,null,null,"Мас-рестлинг","126",0,null,null,null,null,null,null,null,null,null,null,null,null,null,null,null,null,null,null,null,0,null,null,null,null,0,null,null,null,null,{"$f":"'Раздел 2'!H132","v":0}]
[null,null,null,null,null,"Международное военно-спортивное многоборье","127",0,null,null,null,null,null,null,null,null,null,null,null,null,null,null,null,null,null,null,null,0,null,null,null,null,0,null,null,null,null,{"$f":"'Раздел 2'!H133","v":0}]
[null,null,null,null,null,"Микрофутзал","128",0,null,null,null,null,null,null,null,null,null,null,null,null,null,null,null,null,null,null,null,0,null,null,null,null,0,null,null,null,null,{"$f":"'Раздел 2'!H134","v":0}]
[null,null,null,null,null,"Многоборье готов к труду и обороне","129",0,null,null,null,null,null,null,null,null,null,null,null,null,null,null,null,null,null,null,null,0,null,null,null,null,0,null,null,null,null,{"$f":"'Раздел 2'!H135","v":0}]
[null,null,null,null,null,"Многоборье кинологов","130",{"$f":"SUM(I136:AA136)","v":0},null,null,null,null,null,null,null,null,null,null,null,null,null,null,null,null,null,null,null,{"$f":"SUM(AC136:AF136)","v":0},null,null,null,null,{"$f":"SUM(AH136:AK136)","v":0},null,null,null,null,{"$f":"'Раздел 2'!H136","v":0}]
[null,null,null,null,null,"Многоборье спасателей МЧС России","131",0,null,null,null,null,null,null,null,null,null,null,null,null,null,null,null,null,null,null,null,0,null,null,null,null,0,null,null,null,null,{"$f":"'Раздел 2'!H137","v":0}]
[null,null,null,null,null,"Морское многоборье","132",0,null,null,null,null,null,null,null,null,null,null,null,null,null,null,null,null,null,null,null,0,null,null,null,null,0,null,null,null,null,{"$f":"'Раздел 2'!H138","v":0}]
[null,null,null,null,null,"Мотоциклетный спорт","133",0,null,null,null,null,null,null,null,null,null,null,null,null,null,null,null,null,null,null,null,0,null,null,null,null,0,null,null,null,null,{"$f":"'Раздел 2'!H139","v":0}]
[null,null,null,null,null,"Муайтай","134",27,14,13,null,null,null,null,null,null,null,null,null,null,null,null,null,null,null,null,null,14,14,null,null,null,3,3,null,null,null,{"$f":"'Раздел 2'!H140","v":1}]
[null,null,null,null,null,"Нарды","135",0,null,null,null,null,null,null,null,null,null,null,null,null,null,null,null,null,null,null,null,0,null,null,null,null,0,null,null,null,null,{"$f":"'Раздел 2'!H141","v":0}]
[null,null,null,null,null,"Настольный теннис","136",0,null,null,null,null,null,null,null,null,null,null,null,null,null,null,null,null,null,null,null,0,null,null,null,null,0,null,null,null,null,{"$f":"'Раздел 2'!H142","v":0}]
[null,null,null,null,null,"Падел","137",0,null,null,null,null,null,null,null,null,null,null,null,null,null,null,null,null,null,null,null,0,null,null,null,null,0,null,null,null,null,{"$f":"'Раздел 2'!H143","v":0}]
[null,null,null,null,null,"Парашютный спорт","138",0,null,null,null,null,null,null,null,null,null,null,null,null,null,null,null,null,null,null,null,0,null,null,null,null,0,null,null,null,null,{"$f":"'Раздел 2'!H144","v":0}]
[null,null,null,null,null,"Парусный спорт","139",0,null,null,null,null,null,null,null,null,null,null,null,null,null,null,null,null,null,null,null,0,null,null,null,null,0,null,null,null,null,{"$f":"'Раздел 2'!H145","v":0}]
[null,null,null,null,null,"Пауэрлифтинг","140",77,14,null,15,null,null,12,null,20,null,null,null,null,null,16,null,null,null,null,null,29,20,9,null,null,27,15,8,4,null,{"$f":"'Раздел 2'!H146","v":1}]
[null,null,null,null,null,"Перетягивание каната","141",0,null,null,null,null,null,null,null,null,null,null,null,null,null,null,null,null,null,null,null,0,null,null,null,null,0,null,null,null,null,{"$f":"'Раздел 2'!H147","v":0}]
[null,null,null,null,null,"Пилонный спорт","142",0,null,null,null,null,null,null,null,null,null,null,null,null,null,null,null,null,null,null,null,0,null,null,null,null,0,null,null,null,null,{"$f":"'Раздел 2'!H148","v":0}]
[null,null,null,null,null,"Плавание - всего","143",0,{"$f":"SUM(I150:I151)","v":0},{"$f":"SUM(J150:J151)","v":0},0,0,0,0,0,0,0,0,0,0,0,0,0,0,0,0,0,0,0,0,0,0,0,0,0,0,0,{"$f":"'Раздел 2'!H149","v":1}]
[null,null,null,null,null,"в том числе:\nОткрытая вода","144",0,null,null,null,null,null,null,null,null,null,null,null,null,null,null,null,null,null,null,null,0,null,null,null,null,0,null,null,null,null,{"$f":"'Раздел 2'!H150","v":0}]
[null,null,null,null,null,"Иные дисциплины вида спорта \"плавание\"","145",0,null,null,null,null,null,null,null,null,null,null,null,null,null,null,null,null,null,null,null,0,null,null,null,null,0,null,null,null,null,{"$f":"'Раздел 2'!H151","v":1}]
[null,null,null,null,null,"Планерный спорт","146",0,null,null,null,null,null,null,null,null,null,null,null,null,null,null,null,null,null,null,null,0,null,null,null,null,0,null,null,null,null,{"$f":"'Раздел 2'!H152","v":0}]
[null,null,null,null,null,"Подводный спорт","147",0,null,null,null,null,null,null,null,null,null,null,null,null,null,null,null,null,null,null,null,0,null,null,null,null,0,null,null,null,null,{"$f":"'Раздел 2'!H153","v":0}]
[null,null,null,null,null,"Пожарно-спасательный спорт","148",0,null,null,null,null,null,null,null,null,null,null,null,null,null,null,null,null,null,null,null,0,null,null,null,null,0,null,null,null,null,{"$f":"'Раздел 2'!H154","v":0}]
[null,null,null,null,null,"Полиатлон","149",0,null,null,null,null,null,null,null,null,null,null,null,null,null,null,null,null,null,null,null,0,null,null,null,null,0,null,null,null,null,{"$f":"'Раздел 2'!H155","v":0}]
[null,null,null,null,null,"Практическая стрельба","150",0,null,null,null,null,null,null,null,null,null,null,null,null,null,null,null,null,null,null,null,0,null,null,null,null,0,null,null,null,null,{"$f":"'Раздел 2'!H156","v":0}]
[null,null,null,null,null,"Прыжки в воду","151",0,null,null,null,null,null,null,null,null,null,null,null,null,null,null,null,null,null,null,null,0,null,null,null,null,0,null,null,null,null,{"$f":"'Раздел 2'!H157","v":0}]
[null,null,null,null,null,"Прыжки на батуте - всего","152",0,{"$f":"SUM(I159:I162)","v":0},{"$f":"SUM(J159:J162)","v":0},0,0,0,0,0,0,0,0,0,0,0,0,0,0,0,0,0,0,0,0,0,0,0,0,0,0,0,{"$f":"'Раздел 2'!H158","v":0}]
[null,null,null,null,null,"в том числе:\nАкробатическая дорожка","153",0,null,null,null,null,null,null,null,null,null,null,null,null,null,null,null,null,null,null,null,0,null,null,null,null,0,null,null,null,null,{"$f":"'Раздел 2'!H159","v":0}]
[null,null,null,null,null,"Двойной минитрамп","154",0,null,null,null,null,null,null,null,null,null,null,null,null,null,null,null,null,null,null,null,0,null,null,null,null,0,null,null,null,null,{"$f":"'Раздел 2'!H160","v":0}]
[null,null,null,null,null,"Индивидуальные прыжки","155",0,null,null,null,null,null,null,null,null,null,null,null,null,null,null,null,null,null,null,null,0,null,null,null,null,0,null,null,null,null,{"$f":"'Раздел 2'!H161","v":0}]
[null,null,null,null,null,"Синхронные прыжки","156",0,null,null,null,null,null,null,null,null,null,null,null,null,null,null,null,null,null,null,null,0,null,null,null,null,0,null,null,null,null,{"$f":"'Раздел 2'!H162","v":0}]
[null,null,null,null,null,"Прыжки на лыжах с трамплина","157",0,null,null,null,null,null,null,null,null,null,null,null,null,null,null,null,null,null,null,null,0,null,null,null,null,0,null,null,null,null,{"$f":"'Раздел 2'!H163","v":0}]
[null,null,null,null,null,"Пулевая стрельба - всего","158",0,{"$f":"SUM(I165:I169)","v":0},{"$f":"SUM(J165:J169)","v":0},0,0,0,0,0,0,0,0,0,0,0,0,0,0,0,0,0,0,0,0,0,0,0,0,0,0,0,{"$f":"'Раздел 2'!H164","v":0}]
[null,null,null,null,null,"в том числе:\nПневматическая винтовка","159",0,null,null,null,null,null,null,null,null,null,null,null,null,null,null,null,null,null,null,null,0,null,null,null,null,0,null,null,null,null,{"$f":"'Раздел 2'!H165","v":0}]
[null,null,null,null,null,"Пневматический пистолет","160",0,null,null,null,null,null,null,null,null,null,null,null,null,null,null,null,null,null,null,null,0,null,null,null,null,0,null,null,null,null,{"$f":"'Раздел 2'!H166","v":0}]
[null,null,null,null,null,"Малокалиберная винтовка","161",0,null,null,null,null,null,null,null,null,null,null,null,null,null,null,null,null,null,null,null,0,null,null,null,null,0,null,null,null,null,{"$f":"'Раздел 2'!H167","v":0}]
[null,null,null,null,null,"Малокалиберный пистолет","162",0,null,null,null,null,null,null,null,null,null,null,null,null,null,null,null,null,null,null,null,0,null,null,null,null,0,null,null,null,null,{"$f":"'Раздел 2'!H168","v":0}]
[null,null,null,null,null,"Иные дисциплины вида спорта \"пулевая стрельба\"","163",0,null,null,null,null,null,null,null,null,null,null,null,null,null,null,null,null,null,null,null,0,null,null,null,null,0,null,null,null,null,{"$f":"'Раздел 2'!H169","v":0}]
[null,null,null,null,null,"Пэйнтбол","164",0,null,null,null,null,null,null,null,null,null,null,null,null,null,null,null,null,null,null,null,0,null,null,null,null,0,null,null,null,null,{"$f":"'Раздел 2'!H170","v":0}]
[null,null,null,null,null,"Радиоспорт","165",0,null,null,null,null,null,null,null,null,null,null,null,null,null,null,null,null,null,null,null,0,null,null,null,null,0,null,null,null,null,{"$f":"'Раздел 2'!H171","v":0}]
[null,null,null,null,null,"Рафтинг","166",0,null,null,null,null,null,null,null,null,null,null,null,null,null,null,null,null,null,null,null,0,null,null,null,null,0,null,null,null,null,{"$f":"'Раздел 2'!H172","v":0}]
[null,null,null,null,null,"Регби - всего","167",0,{"$f":"SUM(I174:I179)","v":0},{"$f":"SUM(J174:J179)","v":0},0,0,0,0,0,0,0,0,0,0,0,0,0,0,0,0,0,0,0,0,0,0,0,0,0,0,0,{"$f":"'Раздел 2'!H173","v":0}]
[null,null,null,null,null,"в том числе:\nРегби","168",0,null,null,null,null,null,null,null,null,null,null,null,null,null,null,null,null,null,null,null,0,null,null,null,null,0,null,null,null,null,{"$f":"'Раздел 2'!H174","v":0}]
[null,null,null,null,null,"Регби 7 (муж.)","169",0,null,null,null,null,null,null,null,null,null,null,null,null,null,null,null,null,null,null,null,0,null,null,null,null,0,null,null,null,null,{"$f":"'Раздел 2'!H175","v":0}]
[null,null,null,null,null,"Регби 7 (жен.)","170",0,null,null,null,null,null,null,null,null,null,null,null,null,null,null,null,null,null,null,null,0,null,null,null,null,0,null,null,null,null,{"$f":"'Раздел 2'!H176","v":0}]
[null,null,null,null,null,"Регби - пляжное","171",0,null,null,null,null,null,null,null,null,null,null,null,null,null,null,null,null,null,null,null,0,null,null,null,null,0,null,null,null,null,{"$f":"'Раздел 2'!H177","v":0}]
[null,null,null,null,null,"Регби на снегу","172",0,null,null,null,null,null,null,null,null,null,null,null,null,null,null,null,null,null,null,null,0,null,null,null,null,0,null,null,null,null,{"$f":"'Раздел 2'!H178","v":0}]
[null,null,null,null,null,"Регби бесконтактное","173",0,null,null,null,null,null,null,null,null,null,null,null,null,null,null,null,null,null,null,null,0,null,null,null,null,0,null,null,null,null,{"$f":"'Раздел 2'!H179","v":0}]
[null,null,null,null,null,"Регбол","174",0,null,null,null,null,null,null,null,null,null,null,null,null,null,null,null,null,null,null,null,0,null,null,null,null,0,null,null,null,null,{"$f":"'Раздел 2'!H180","v":0}]
[null,null,null,null,null,"Роллер спорт","175",0,null,null,null,null,null,null,null,null,null,null,null,null,null,null,null,null,null,null,null,0,null,null,null,null,0,null,null,null,null,{"$f":"'Раздел 2'!H181","v":0}]
[null,null,null,null,null,"Роуп скиппинг (спортивная скакалка)","176",0,null,null,null,null,null,null,null,null,null,null,null,null,null,null,null,null,null,null,null,0,null,null,null,null,0,null,null,null,null,{"$f":"'Раздел 2'!H182","v":0}]
[null,null,null,null,null,"Рукопашный бой","177",116,65,31,null,null,null,20,null,null,null,null,null,null,null,null,null,null,null,null,null,81,74,7,null,null,59,23,36,null,null,{"$f":"'Раздел 2'!H183","v":1}]
[null,null,null,null,null,"Рыболовный спорт","178",0,null,null,null,null,null,null,null,null,null,null,null,null,null,null,null,null,null,null,null,0,null,null,null,null,0,null,null,null,null,{"$f":"'Раздел 2'!H184","v":0}]
[null,null,null,null,null,"Сават","179",0,null,null,null,null,null,null,null,null,null,null,null,null,null,null,null,null,null,null,null,0,null,null,null,null,0,null,null,null,null,{"$f":"'Раздел 2'!H185","v":0}]
[null,null,null,null,null,"Самбо","180",0,null,null,null,null,null,null,null,null,null,null,null,null,null,null,null,null,null,null,null,0,null,null,null,null,0,null,null,null,null,{"$f":"'Раздел 2'!H186","v":0}]
[null,null,null,null,null,"Самолетный спорт","181",0,null,null,null,null,null,null,null,null,null,null,null,null,null,null,null,null,null,null,null,0,null,null,null,null,0,null,null,null,null,{"$f":"'Раздел 2'!H187","v":0}]
[null,null,null,null,null,"Санный спорт","182",0,null,null,null,null,null,null,null,null,null,null,null,null,null,null,null,null,null,null,null,0,null,null,null,null,0,null,null,null,null,{"$f":"'Раздел 2'!H188","v":0}]
[null,null,null,null,null,"Северное многоборье","183",121,40,38,null,null,16,null,27,null,null,null,null,null,null,null,null,null,null,null,null,65,57,8,null,null,44,34,10,null,null,{"$f":"'Раздел 2'!H189","v":1}]
[null,null,null,null,null,"Серфинг","184",0,null,null,null,null,null,null,null,null,null,null,null,null,null,null,null,null,null,null,null,0,null,null,null,null,0,null,null,null,null,{"$f":"'Раздел 2'!H190","v":0}]
[null,null,null,null,null,"Силовой спорт","185",0,null,null,null,null,null,null,null,null,null,null,null,null,null,null,null,null,null,null,null,0,null,null,null,null,0,null,null,null,null,{"$f":"'Раздел 2'!H191","v":0}]
[null,null,null,null,null,"Силовой экстрим","186",0,null,null,null,null,null,null,null,null,null,null,null,null,null,null,null,null,null,null,null,0,null,null,null,null,0,null,null,null,null,{"$f":"'Раздел 2'!H192","v":0}]
[null,null,null,null,null,"Синхронное плавание","187",0,null,null,null,null,null,null,null,null,null,null,null,null,null,null,null,null,null,null,null,0,null,null,null,null,0,null,null,null,null,{"$f":"'Раздел 2'!H193","v":0}]
[null,null,null,null,null,"Скалолазание - всего","188",0,{"$f":"SUM(I195:I197)","v":0},{"$f":"SUM(J195:J197)","v":0},0,0,0,0,0,0,0,0,0,0,0,0,0,0,0,0,0,0,0,0,0,0,0,0,0,0,0,{"$f":"'Раздел 2'!H194","v":0}]
[null,null,null,null,null,"в том числе:\nДвоеборье","189",0,null,null,null,null,null,null,null,null,null,null,null,null,null,null,null,null,null,null,null,0,null,null,null,null,0,null,null,null,null,{"$f":"'Раздел 2'!H195","v":0}]
[null,null,null,null,null,"Лазание на скорость","190",0,null,null,null,null,null,null,null,null,null,null,null,null,null,null,null,null,null,null,null,0,null,null,null,null,0,null,null,null,null,{"$f":"'Раздел 2'!H196","v":0}]
[null,null,null,null,null,"Иные дисциплины вида спорта \"скалолазание\"","191",0,null,null,null,null,null,null,null,null,null,null,null,null,null,null,null,null,null,null,null,0,null,null,null,null,0,null,null,null,null,{"$f":"'Раздел 2'!H197","v":0}]
[null,null,null,null,null,"Сквош","192",0,null,null,null,null,null,null,null,null,null,null,null,null,null,null,null,null,null,null,null,0,null,null,null,null,0,null,null,null,null,{"$f":"'Раздел 2'!H198","v":0}]
[null,null,null,null,null,"Скейтбординг","193",0,null,null,null,null,null,null,null,null,null,null,null,null,null,null,null,null,null,null,null,0,null,null,null,null,0,null,null,null,null,{"$f":"'Раздел 2'!H199","v":0}]
[null,null,null,null,null,"Служебно-боевая стрельба","194",{"$f":"SUM(I200:AA200)","v":0},null,null,null,null,null,null,null,null,null,null,null,null,null,null,null,null,null,null,null,{"$f":"SUM(AC200:AF200)","v":0},null,null,null,null,{"$f":"SUM(AH200:AK200)","v":0},null,null,null,null,{"$f":"'Раздел 2'!H200","v":0}]
[null,null,null,null,null,"Служебное двоеборье","195",0,null,null,null,null,null,null,null,null,null,null,null,null,null,null,null,null,null,null,null,0,null,null,null,null,0,null,null,null,null,{"$f":"'Раздел 2'!H201","v":0}]
[null,null,null,null,null,"Служебное единоборство","196",0,null,null,null,null,null,null,null,null,null,null,null,null,null,null,null,null,null,null,null,0,null,null,null,null,0,null,null,null,null,{"$f":"'Раздел 2'!H202","v":0}]
[null,null,null,null,null,"Служебное многоборье","197",0,null,null,null,null,null,null,null,null,null,null,null,null,null,null,null,null,null,null,null,0,null,null,null,null,0,null,null,null,null,{"$f":"'Раздел 2'!H203","v":0}]
[null,null,null,null,null,"Служебно-прикладной спорт","198",0,null,null,null,null,null,null,null,null,null,null,null,null,null,null,null,null,null,null,null,0,null,null,null,null,0,null,null,null,null,{"$f":"'Раздел 2'!H204","v":0}]
[null,null,null,null,null,"Служебно-прикладной спорт ФСО России","199",0,null,null,null,null,null,null,null,null,null,null,null,null,null,null,null,null,null,null,null,0,null,null,null,null,0,null,null,null,null,{"$f":"'Раздел 2'!H205","v":0}]
[null,null,null,null,null,"Служебно-прикладной спорт ФТС России","200",0,null,null,null,null,null,null,null,null,null,null,null,null,null,null,null,null,null,null,null,0,null,null,null,null,0,null,null,null,null,{"$f":"'Раздел 2'!H206","v":0}]
[null,null,null,null,null,"Служебный биатлон","201",0,null,null,null,null,null,null,null,null,null,null,null,null,null,null,null,null,null,null,null,0,null,null,null,null,0,null,null,null,null,{"$f":"'Раздел 2'!H207","v":0}]
[null,null,null,null,null,"Смешанное боевое единоборство (ММА)","202",45,null,null,12,null,null,20,13,null,null,null,null,null,null,null,null,null,null,null,null,6,2,4,null,null,7,null,7,null,null,{"$f":"'Раздел 2'!H208","v":1}]
[null,null,null,null,null,"Сноуборд - всего","203",0,{"$f":"SUM(I210:I214)","v":0},{"$f":"SUM(J210:J214)","v":0},0,0,0,0,0,0,0,0,0,0,0,0,0,0,0,0,0,0,0,0,0,0,0,0,0,0,0,{"$f":"'Раздел 2'!H209","v":0}]
[null,null,null,null,null,"в том числе:\nСноуборд-кросс","204",0,null,null,null,null,null,null,null,null,null,null,null,null,null,null,null,null,null,null,null,0,null,null,null,null,0,null,null,null,null,{"$f":"'Раздел 2'!H210","v":0}]
[null,null,null,null,null,"Параллельный слалом","205",0,null,null,null,null,null,null,null,null,null,null,null,null,null,null,null,null,null,null,null,0,null,null,null,null,0,null,null,null,null,{"$f":"'Раздел 2'!H211","v":0}]
[null,null,null,null,null,"Хаф-пайп","206",0,null,null,null,null,null,null,null,null,null,null,null,null,null,null,null,null,null,null,null,0,null,null,null,null,0,null,null,null,null,{"$f":"'Раздел 2'!H212","v":0}]
[null,null,null,null,null,"Биг-эйр","207",0,null,null,null,null,null,null,null,null,null,null,null,null,null,null,null,null,null,null,null,0,null,null,null,null,0,null,null,null,null,{"$f":"'Раздел 2'!H213","v":0}]
[null,null,null,null,null,"Слоупстайл","208",0,null,null,null,null,null,null,null,null,null,null,null,null,null,null,null,null,null,null,null,0,null,null,null,null,0,null,null,null,null,{"$f":"'Раздел 2'!H214","v":0}]
[null,null,null,null,null,"Современное пятиборье","209",0,null,null,null,null,null,null,null,null,null,null,null,null,null,null,null,null,null,null,null,0,null,null,null,null,0,null,null,null,null,{"$f":"'Раздел 2'!H215","v":0}]
[null,null,null,null,null,"Софтбол","210",0,null,null,null,null,null,null,null,null,null,null,null,null,null,null,null,null,null,null,null,0,null,null,null,null,0,null,null,null,null,{"$f":"'Раздел 2'!H216","v":0}]
[null,null,null,null,null,"Спасательный спорт","211",0,null,null,null,null,null,null,null,null,null,null,null,null,null,null,null,null,null,null,null,0,null,null,null,null,0,null,null,null,null,{"$f":"'Раздел 2'!H217","v":0}]
[null,null,null,null,null,"Спорт сверхлегкой авиации","212",0,null,null,null,null,null,null,null,null,null,null,null,null,null,null,null,null,null,null,null,0,null,null,null,null,0,null,null,null,null,{"$f":"'Раздел 2'!H218","v":0}]
[null,null,null,null,null,"Спортивная акробатика","213",324,79,40,59,44,12,44,20,null,null,null,null,null,15,11,null,null,null,null,null,92,89,1,2,null,102,78,15,9,null,{"$f":"'Раздел 2'!H219","v":1}]
[null,null,null,null,null,"Спортивная аэробика","214",299,86,41,35,48,15,25,26,15,null,null,null,null,8,null,null,null,null,null,null,101,100,1,null,null,63,39,21,3,null,{"$f":"'Раздел 2'!H220","v":1}]
[null,null,null,null,null,"Спортивная борьба - всего","215",0,{"$f":"SUM(I222:I226)","v":0},{"$f":"SUM(J222:J226)","v":0},0,0,0,0,0,0,0,0,0,0,0,0,0,0,0,0,0,0,0,0,0,0,0,0,0,0,0,{"$f":"'Раздел 2'!H221","v":0}]
[null,null,null,null,null,"в том числе:\nВольная борьба","216",0,null,null,null,null,null,null,null,null,null,null,null,null,null,null,null,null,null,null,null,0,null,null,null,null,0,null,null,null,null,{"$f":"'Раздел 2'!H222","v":0}]
[null,null,null,null,null,"Греко-римская борьба","217",0,null,null,null,null,null,null,null,null,null,null,null,null,null,null,null,null,null,null,null,0,null,null,null,null,0,null,null,null,null,{"$f":"'Раздел 2'!H223","v":0}]
[null,null,null,null,null,"Грэпплинг","218",0,null,null,null,null,null,null,null,null,null,null,null,null,null,null,null,null,null,null,null,0,null,null,null,null,0,null,null,null,null,{"$f":"'Раздел 2'!H224","v":0}]
[null,null,null,null,null,"Панкратион","219",0,null,null,null,null,null,null,null,null,null,null,null,null,null,null,null,null,null,null,null,0,null,null,null,null,0,null,null,null,null,{"$f":"'Раздел 2'!H225","v":0}]
[null,null,null,null,null,"Пляжная борьба","220",0,null,null,null,null,null,null,null,null,null,null,null,null,null,null,null,null,null,null,null,0,null,null,null,null,0,null,null,null,null,{"$f":"'Раздел 2'!H226","v":0}]
[null,null,null,null,null,"Спортивная гимнастика","221",0,null,null,null,null,null,null,null,null,null,null,null,null,null,null,null,null,null,null,null,0,null,null,null,null,0,null,null,null,null,{"$f":"'Раздел 2'!H227","v":0}]
[null,null,null,null,null,"Спортивная йога","222",0,null,null,null,null,null,null,null,null,null,null,null,null,null,null,null,null,null,null,null,0,null,null,null,null,0,null,null,null,null,{"$f":"'Раздел 2'!H228","v":0}]
[null,null,null,null,null,"Спортивное метание ножа","223",0,null,null,null,null,null,null,null,null,null,null,null,null,null,null,null,null,null,null,null,0,null,null,null,null,0,null,null,null,null,{"$f":"'Раздел 2'!H229","v":0}]
[null,null,null,null,null,"Спортивное ориентирование","224",0,null,null,null,null,null,null,null,null,null,null,null,null,null,null,null,null,null,null,null,0,null,null,null,null,0,null,null,null,null,{"$f":"'Раздел 2'!H230","v":0}]
[null,null,null,null,null,"Спортивное программирование - всего","225",0,{"$f":"SUM(I232:I236)","v":0},{"$f":"SUM(J232:J236)","v":0},0,0,0,0,0,0,0,0,0,0,0,0,0,0,0,0,0,0,0,0,0,0,0,0,0,0,0,{"$f":"'Раздел 2'!H231","v":0}]
[null,null,null,null,null,"в том числе:\nПрограммирование алгоритмическое","226",0,null,null,null,null,null,null,null,null,null,null,null,null,null,null,null,null,null,null,null,0,null,null,null,null,0,null,null,null,null,{"$f":"'Раздел 2'!H232","v":0}]
[null,null,null,null,null,"Программирование продуктовое","227",0,null,null,null,null,null,null,null,null,null,null,null,null,null,null,null,null,null,null,null,0,null,null,null,null,0,null,null,null,null,{"$f":"'Раздел 2'!H233","v":0}]
[null,null,null,null,null,"Программирование беспилотных авиационных систем","228",0,null,null,null,null,null,null,null,null,null,null,null,null,null,null,null,null,null,null,null,0,null,null,null,null,0,null,null,null,null,{"$f":"'Раздел 2'!H234","v":0}]
[null,null,null,null,null,"Программирование робототехники","229",0,null,null,null,null,null,null,null,null,null,null,null,null,null,null,null,null,null,null,null,0,null,null,null,null,0,null,null,null,null,{"$f":"'Раздел 2'!H235","v":0}]
[null,null,null,null,null,"Программирование систем информационной безопасности","230",0,null,null,null,null,null,null,null,null,null,null,null,null,null,null,null,null,null,null,null,0,null,null,null,null,0,null,null,null,null,{"$f":"'Раздел 2'!H236","v":0}]
[null,null,null,null,null,"Спортивно-прикладное собаководство","231",0,null,null,null,null,null,null,null,null,null,null,null,null,null,null,null,null,null,null,null,0,null,null,null,null,0,null,null,null,null,{"$f":"'Раздел 2'!H237","v":0}]
[null,null,null,null,null,"Спортивный бридж","232",0,null,null,null,null,null,null,null,null,null,null,null,null,null,null,null,null,null,null,null,0,null,null,null,null,0,null,null,null,null,{"$f":"'Раздел 2'!H238","v":0}]
[null,null,null,null,null,"Спортивный туризм","233",51,21,null,12,null,null,null,null,10,null,null,null,null,null,8,null,null,null,null,null,22,22,null,null,null,9,8,null,1,null,{"$f":"'Раздел 2'!H239","v":1}]
[null,null,null,null,null,"Стендовая стрельба - всего","234",0,{"$f":"SUM(I241:I243)","v":0},{"$f":"SUM(J241:J243)","v":0},0,0,0,0,0,0,0,0,0,0,0,0,0,0,0,0,0,0,0,0,0,0,0,0,0,0,0,{"$f":"'Раздел 2'!H240","v":0}]
[null,null,null,null,null,"в том числе:\nТрап","235",0,null,null,null,null,null,null,null,null,null,null,null,null,null,null,null,null,null,null,null,0,null,null,null,null,0,null,null,null,null,{"$f":"'Раздел 2'!H241","v":0}]
[null,null,null,null,null,"Скит","236",0,null,null,null,null,null,null,null,null,null,null,null,null,null,null,null,null,null,null,null,0,null,null,null,null,0,null,null,null,null,{"$f":"'Раздел 2'!H242","v":0}]
[null,null,null,null,null,"Иные дисциплины вида спорта \"стендовая стрельба\"","237",0,null,null,null,null,null,null,null,null,null,null,null,null,null,null,null,null,null,null,null,0,null,null,null,null,0,null,null,null,null,{"$f":"'Раздел 2'!H243","v":0}]
[null,null,null,null,null,"Страйкбол","238",0,null,null,null,null,null,null,null,null,null,null,null,null,null,null,null,null,null,null,null,0,null,null,null,null,0,null,null,null,null,{"$f":"'Раздел 2'!H244","v":0}]
[null,null,null,null,null,"Стрельба из арбалета","239",0,null,null,null,null,null,null,null,null,null,null,null,null,null,null,null,null,null,null,null,0,null,null,null,null,0,null,null,null,null,{"$f":"'Раздел 2'!H245","v":0}]
[null,null,null,null,null,"Стрельба из боевого ручного стрелкового оружия","240",0,null,null,null,null,null,null,null,null,null,null,null,null,null,null,null,null,null,null,null,0,null,null,null,null,0,null,null,null,null,{"$f":"'Раздел 2'!H246","v":0}]
[null,null,null,null,null,"Стрельба из лука - всего","241",0,{"$f":"SUM(I248:I251)","v":0},{"$f":"SUM(J248:J251)","v":0},0,0,0,0,0,0,0,0,0,0,0,0,0,0,0,0,0,0,0,0,0,0,0,0,0,0,0,{"$f":"'Раздел 2'!H247","v":0}]
[null,null,null,null,null,"в том числе:\nКлассический лук","242",0,null,null,null,null,null,null,null,null,null,null,null,null,null,null,null,null,null,null,null,0,null,null,null,null,0,null,null,null,null,{"$f":"'Раздел 2'!H248","v":0}]
[null,null,null,null,null,"Блочный лук","243",0,null,null,null,null,null,null,null,null,null,null,null,null,null,null,null,null,null,null,null,0,null,null,null,null,0,null,null,null,null,{"$f":"'Раздел 2'!H249","v":0}]
[null,null,null,null,null,"Ачери ","244",0,null,null,null,null,null,null,null,null,null,null,null,null,null,null,null,null,null,null,null,0,null,null,null,null,0,null,null,null,null,{"$f":"'Раздел 2'!H250","v":0}]
[null,null,null,null,null,"Иные дисциплины вида спорта \"стрельба из лука\"","245",0,null,null,null,null,null,null,null,null,null,null,null,null,null,null,null,null,null,null,null,0,null,null,null,null,0,null,null,null,null,{"$f":"'Раздел 2'!H251","v":0}]
[null,null,null,null,null,"Стрельба из штатного или табельного оружия","246",0,null,null,null,null,null,null,null,null,null,null,null,null,null,null,null,null,null,null,null,0,null,null,null,null,0,null,null,null,null,{"$f":"'Раздел 2'!H252","v":0}]
[null,null,null,null,null,"Стрельба на дальние дистанции","247",0,null,null,null,null,null,null,null,null,null,null,null,null,null,null,null,null,null,null,null,0,null,null,null,null,0,null,null,null,null,{"$f":"'Раздел 2'!H253","v":0}]
[null,null,null,null,null,"Судомодельный спорт","248",0,null,null,null,null,null,null,null,null,null,null,null,null,null,null,null,null,null,null,null,0,null,null,null,null,0,null,null,null,null,{"$f":"'Раздел 2'!H254","v":0}]
[null,null,null,null,null,"Сумо","249",0,null,null,null,null,null,null,null,null,null,null,null,null,null,null,null,null,null,null,null,0,null,null,null,null,0,null,null,null,null,{"$f":"'Раздел 2'!H255","v":0}]
[null,null,null,null,null,"Таврели","250",0,null,null,null,null,null,null,null,null,null,null,null,null,null,null,null,null,null,null,null,0,null,null,null,null,0,null,null,null,null,{"$f":"'Раздел 2'!H256","v":0}]
[null,null,null,null,null,"Танцевальный спорт","251",44,24,15,null,null,null,null,null,5,null,null,null,null,null,null,null,null,null,null,null,22,22,null,null,null,26,21,5,null,null,{"$f":"'Раздел 2'!H257","v":1}]
[null,null,null,null,null,"Теннис","252",0,null,null,null,null,null,null,null,null,null,null,null,null,null,null,null,null,null,null,null,0,null,null,null,null,0,null,null,null,null,{"$f":"'Раздел 2'!H258","v":0}]
[null,null,null,null,null,"Триатлон","253",0,null,null,null,null,null,null,null,null,null,null,null,null,null,null,null,null,null,null,null,0,null,null,null,null,0,null,null,null,null,{"$f":"'Раздел 2'!H259","v":0}]
[null,null,null,null,null,"Тхэквондо ВТФ","254",0,null,null,null,null,null,null,null,null,null,null,null,null,null,null,null,null,null,null,null,0,null,null,null,null,0,null,null,null,null,{"$f":"'Раздел 2'!H260","v":0}]
[null,null,null,null,null,"Тхэквондо ГТФ","255",0,null,null,null,null,null,null,null,null,null,null,null,null,null,null,null,null,null,null,null,0,null,null,null,null,0,null,null,null,null,{"$f":"'Раздел 2'!H261","v":0}]
[null,null,null,null,null,"Тхэквондо ИТФ","256",0,null,null,null,null,null,null,null,null,null,null,null,null,null,null,null,null,null,null,null,0,null,null,null,null,0,null,null,null,null,{"$f":"'Раздел 2'!H262","v":0}]
[null,null,null,null,null,"Тхэквондо МФТ","257",0,null,null,null,null,null,null,null,null,null,null,null,null,null,null,null,null,null,null,null,0,null,null,null,null,0,null,null,null,null,{"$f":"'Раздел 2'!H263","v":0}]
[null,null,null,null,null,"Тяжелая атлетика","258",{"$f":"SUM(I264:AA264)","v":0},null,null,null,null,null,null,null,null,null,null,null,null,null,null,null,null,null,null,null,{"$f":"SUM(AC264:AF264)","v":0},null,null,null,null,{"$f":"SUM(AH264:AK264)","v":0},null,null,null,null,{"$f":"'Раздел 2'!H264","v":0}]
[null,null,null,null,null,"Универсальный бой","259",0,null,null,null,null,null,null,null,null,null,null,null,null,null,null,null,null,null,null,null,0,null,null,null,null,0,null,null,null,null,{"$f":"'Раздел 2'!H265","v":0}]
[null,null,null,null,null,"Ушу","260",44,null,null,10,null,null,8,null,null,null,null,null,26,null,null,null,null,null,null,null,8,4,1,3,null,7,1,5,1,null,{"$f":"'Раздел 2'!H266","v":1}]
[null,null,null,null,null,"Фехтование - всего","261",0,{"$f":"SUM(I268:I271)","v":0},{"$f":"SUM(J268:J271)","v":0},0,0,0,0,0,0,0,0,0,0,0,0,0,0,0,0,0,0,0,0,0,0,0,0,0,0,0,{"$f":"'Раздел 2'!H267","v":0}]
[null,null,null,null,null,"в том числе:\nРапира","262",0,null,null,null,null,null,null,null,null,null,null,null,null,null,null,null,null,null,null,null,0,null,null,null,null,0,null,null,null,null,{"$f":"'Раздел 2'!H268","v":0}]
[null,null,null,null,null,"Сабля","263",0,null,null,null,null,null,null,null,null,null,null,null,null,null,null,null,null,null,null,null,0,null,null,null,null,0,null,null,null,null,{"$f":"'Раздел 2'!H269","v":0}]
[null,null,null,null,null,"Шпага","264",0,null,null,null,null,null,null,null,null,null,null,null,null,null,null,null,null,null,null,null,0,null,null,null,null,0,null,null,null,null,{"$f":"'Раздел 2'!H270","v":0}]
[null,null,null,null,null,"Арт-фехтование","265",0,null,null,null,null,null,null,null,null,null,null,null,null,null,null,null,null,null,null,null,0,null,null,null,null,0,null,null,null,null,{"$f":"'Раздел 2'!H271","v":0}]
[null,null,null,null,null,"Фигурное катание на коньках","266",0,null,null,null,null,null,null,null,null,null,null,null,null,null,null,null,null,null,null,null,0,null,null,null,null,0,null,null,null,null,{"$f":"'Раздел 2'!H272","v":0}]
[null,null,null,null,null,"Фиджитал спорт (функционально-цифровой спорт) - всего","267",0,{"$f":"SUM(I274:I278)","v":0},{"$f":"SUM(J274:J278)","v":0},0,0,0,0,0,0,0,0,0,0,0,0,0,0,0,0,0,0,0,0,0,0,0,0,0,0,0,{"$f":"'Раздел 2'!H273","v":0}]
[null,null,null,null,null,"в том числе:\nДвоеборье - автомодель","268",0,null,null,null,null,null,null,null,null,null,null,null,null,null,null,null,null,null,null,null,0,null,null,null,null,0,null,null,null,null,{"$f":"'Раздел 2'!H274","v":0}]
[null,null,null,null,null,"Двоеборье - единоборство","269",0,null,null,null,null,null,null,null,null,null,null,null,null,null,null,null,null,null,null,null,0,null,null,null,null,0,null,null,null,null,{"$f":"'Раздел 2'!H275","v":0}]
[null,null,null,null,null,"Двоеборье - тактическая стрельба","270",0,null,null,null,null,null,null,null,null,null,null,null,null,null,null,null,null,null,null,null,0,null,null,null,null,0,null,null,null,null,{"$f":"'Раздел 2'!H276","v":0}]
[null,null,null,null,null,"Преследование с препятствиями","271",0,null,null,null,null,null,null,null,null,null,null,null,null,null,null,null,null,null,null,null,0,null,null,null,null,0,null,null,null,null,{"$f":"'Раздел 2'!H277","v":0}]
[null,null,null,null,null,"Ритм - симулятор","272",0,null,null,null,null,null,null,null,null,null,null,null,null,null,null,null,null,null,null,null,0,null,null,null,null,0,null,null,null,null,{"$f":"'Раздел 2'!H278","v":0}]
[null,null,null,null,null,"Фитнес-аэробика","273",0,null,null,null,null,null,null,null,null,null,null,null,null,null,null,null,null,null,null,null,0,null,null,null,null,0,null,null,null,null,{"$f":"'Раздел 2'!H279","v":0}]
[null,null,null,null,null,"Флаинг диск","274",0,null,null,null,null,null,null,null,null,null,null,null,null,null,null,null,null,null,null,null,0,null,null,null,null,0,null,null,null,null,{"$f":"'Раздел 2'!H280","v":0}]
[null,null,null,null,null,"Флорбол","275",0,null,null,null,null,null,null,null,null,null,null,null,null,null,null,null,null,null,null,null,0,null,null,null,null,0,null,null,null,null,{"$f":"'Раздел 2'!H281","v":0}]
[null,null,null,null,null,"Фристайл - всего","276",0,{"$f":"SUM(I283:I288)","v":0},{"$f":"SUM(J283:J288)","v":0},0,0,0,0,0,0,0,0,0,0,0,0,0,0,0,0,0,0,0,0,0,0,0,0,0,0,0,{"$f":"'Раздел 2'!H282","v":0}]
[null,null,null,null,null,"в том числе:\nАкробатика","277",0,null,null,null,null,null,null,null,null,null,null,null,null,null,null,null,null,null,null,null,0,null,null,null,null,0,null,null,null,null,{"$f":"'Раздел 2'!H283","v":0}]
[null,null,null,null,null,"Биг-эйр","278",0,null,null,null,null,null,null,null,null,null,null,null,null,null,null,null,null,null,null,null,0,null,null,null,null,0,null,null,null,null,{"$f":"'Раздел 2'!H284","v":0}]
[null,null,null,null,null,"Могул","279",0,null,null,null,null,null,null,null,null,null,null,null,null,null,null,null,null,null,null,null,0,null,null,null,null,0,null,null,null,null,{"$f":"'Раздел 2'!H285","v":0}]
[null,null,null,null,null,"Ски-кросс","280",0,null,null,null,null,null,null,null,null,null,null,null,null,null,null,null,null,null,null,null,0,null,null,null,null,0,null,null,null,null,{"$f":"'Раздел 2'!H286","v":0}]
[null,null,null,null,null,"Хаф-пайп","281",0,null,null,null,null,null,null,null,null,null,null,null,null,null,null,null,null,null,null,null,0,null,null,null,null,0,null,null,null,null,{"$f":"'Раздел 2'!H287","v":0}]
[null,null,null,null,null,"Слоупстайл","282",0,null,null,null,null,null,null,null,null,null,null,null,null,null,null,null,null,null,null,null,0,null,null,null,null,0,null,null,null,null,{"$f":"'Раздел 2'!H288","v":0}]
[null,null,null,null,null,"Функциональное многоборье","283",0,null,null,null,null,null,null,null,null,null,null,null,null,null,null,null,null,null,null,null,0,null,null,null,null,0,null,null,null,null,{"$f":"'Раздел 2'!H289","v":0}]
[null,null,null,null,null,"Футбол - всего","284",0,{"$f":"SUM(I291:I297)","v":0},{"$f":"SUM(J291:J297)","v":0},0,0,0,0,0,0,0,0,0,0,0,0,0,0,0,0,0,0,0,0,0,0,0,0,0,0,0,{"$f":"'Раздел 2'!H290","v":1}]
[null,null,null,null,null,"в том числе:\nФутбол (муж.)","285",0,null,null,null,null,null,null,null,null,null,null,null,null,null,null,null,null,null,null,null,0,null,null,null,null,0,null,null,null,null,{"$f":"'Раздел 2'!H291","v":0}]
[null,null,null,null,null,"Футбол (жен.)","286",0,null,null,null,null,null,null,null,null,null,null,null,null,null,null,null,null,null,null,null,0,null,null,null,null,0,null,null,null,null,{"$f":"'Раздел 2'!H292","v":0}]
[null,null,null,null,null,"Интерактивный футбол","287",0,null,null,null,null,null,null,null,null,null,null,null,null,null,null,null,null,null,null,null,0,null,null,null,null,0,null,null,null,null,{"$f":"'Раздел 2'!H293","v":0}]
[null,null,null,null,null,"Мини-футбол","288",0,null,null,null,null,null,null,null,null,null,null,null,null,null,null,null,null,null,null,null,0,null,null,null,null,0,null,null,null,null,{"$f":"'Раздел 2'!H294","v":0}]
[null,null,null,null,null,"Пляжный футбол","289",0,null,null,null,null,null,null,null,null,null,null,null,null,null,null,null,null,null,null,null,0,null,null,null,null,0,null,null,null,null,{"$f":"'Раздел 2'!H295","v":0}]
[null,null,null,null,null,"Футбольное двоеборье","290",0,null,null,null,null,null,null,null,null,null,null,null,null,null,null,null,null,null,null,null,0,null,null,null,null,0,null,null,null,null,{"$f":"'Раздел 2'!H296","v":0}]
[null,null,null,null,null,"Футзал","291",0,null,null,null,null,null,null,null,null,null,null,null,null,null,null,null,null,null,null,null,0,null,null,null,null,0,null,null,null,null,{"$f":"'Раздел 2'!H297","v":1}]
[null,null,null,null,null,"Хапкидо","292",0,null,null,null,null,null,null,null,null,null,null,null,null,null,null,null,null,null,null,null,0,null,null,null,null,0,null,null,null,null,{"$f":"'Раздел 2'!H298","v":0}]
[null,null,null,null,null,"Хапсагай","293",0,null,null,null,null,null,null,null,null,null,null,null,null,null,null,null,null,null,null,null,0,null,null,null,null,0,null,null,null,null,{"$f":"'Раздел 2'!H299","v":0}]
[null,null,null,null,null,"Хоккей - всего","294",0,{"$f":"SUM(I301:I305)","v":0},{"$f":"SUM(J301:J305)","v":0},0,0,0,0,0,0,0,0,0,0,0,0,0,0,0,0,0,0,0,0,0,0,0,0,0,0,0,{"$f":"'Раздел 2'!H300","v":0}]
[null,null,null,null,null,"в том числе:\nХоккей (муж.)","295",0,null,null,null,null,null,null,null,null,null,null,null,null,null,null,null,null,null,null,null,0,null,null,null,null,0,null,null,null,null,{"$f":"'Раздел 2'!H301","v":0}]
[null,null,null,null,null,"Хоккей (жен.)","296",0,null,null,null,null,null,null,null,null,null,null,null,null,null,null,null,null,null,null,null,0,null,null,null,null,0,null,null,null,null,{"$f":"'Раздел 2'!H302","v":0}]
[null,null,null,null,null,"Хоккейное двоеборье","297",0,null,null,null,null,null,null,null,null,null,null,null,null,null,null,null,null,null,null,null,0,null,null,null,null,0,null,null,null,null,{"$f":"'Раздел 2'!H303","v":0}]
[null,null,null,null,null,"Хоккей 2х2, 3х3, 4х4","298",0,null,null,null,null,null,null,null,null,null,null,null,null,null,null,null,null,null,null,null,0,null,null,null,null,0,null,null,null,null,{"$f":"'Раздел 2'!H304","v":0}]
[null,null,null,null,null,"Интерактивный хоккей","299",0,null,null,null,null,null,null,null,null,null,null,null,null,null,null,null,null,null,null,null,0,null,null,null,null,0,null,null,null,null,{"$f":"'Раздел 2'!H305","v":0}]
[null,null,null,null,null,"Хоккей на траве - всего","300",0,{"$f":"SUM(I307:I309)","v":0},{"$f":"SUM(J307:J309)","v":0},0,0,0,0,0,0,0,0,0,0,0,0,0,0,0,0,0,0,0,0,0,0,0,0,0,0,0,{"$f":"'Раздел 2'!H306","v":0}]
[null,null,null,null,null,"в том числе:\nХоккей на траве (муж.)","301",0,null,null,null,null,null,null,null,null,null,null,null,null,null,null,null,null,null,null,null,0,null,null,null,null,0,null,null,null,null,{"$f":"'Раздел 2'!H307","v":0}]
[null,null,null,null,null,"Хоккей на траве (жен.)","302",0,null,null,null,null,null,null,null,null,null,null,null,null,null,null,null,null,null,null,null,0,null,null,null,null,0,null,null,null,null,{"$f":"'Раздел 2'!H308","v":0}]
[null,null,null,null,null,"Иные дисциплины вида спорта \"хоккей на траве\"","303",0,null,null,null,null,null,null,null,null,null,null,null,null,null,null,null,null,null,null,null,0,null,null,null,null,0,null,null,null,null,{"$f":"'Раздел 2'!H309","v":0}]
[null,null,null,null,null,"Хоккей с мячом","304",0,null,null,null,null,null,null,null,null,null,null,null,null,null,null,null,null,null,null,null,0,null,null,null,null,0,null,null,null,null,{"$f":"'Раздел 2'!H310","v":0}]
[null,null,null,null,null,"Художественная гимнастика","305",0,null,null,null,null,null,null,null,null,null,null,null,null,null,null,null,null,null,null,null,0,null,null,null,null,0,null,null,null,null,{"$f":"'Раздел 2'!H311","v":0}]
[null,null,null,null,null,"Хуреш","306",0,null,null,null,null,null,null,null,null,null,null,null,null,null,null,null,null,null,null,null,0,null,null,null,null,0,null,null,null,null,{"$f":"'Раздел 2'!H312","v":0}]
[null,null,null,null,null,"Чир спорт","307",0,null,null,null,null,null,null,null,null,null,null,null,null,null,null,null,null,null,null,null,0,null,null,null,null,0,null,null,null,null,{"$f":"'Раздел 2'!H313","v":0}]
[null,null,null,null,null,"Шахбокс","308",0,null,null,null,null,null,null,null,null,null,null,null,null,null,null,null,null,null,null,null,0,null,null,null,null,0,null,null,null,null,{"$f":"'Раздел 2'!H314","v":0}]
[null,null,null,null,null,"Шахматы","309",206,80,83,null,20,12,null,11,null,null,null,null,null,null,null,null,null,null,null,null,94,94,null,null,null,116,108,8,null,null,{"$f":"'Раздел 2'!H315","v":1}]
[null,null,null,null,null,"Шашки","310",0,null,null,null,null,null,null,null,null,null,null,null,null,null,null,null,null,null,null,null,0,null,null,null,null,0,null,null,null,null,{"$f":"'Раздел 2'!H316","v":0}]
[null,null,null,null,null,"Шодсанлат","311",0,null,null,null,null,null,null,null,null,null,null,null,null,null,null,null,null,null,null,null,0,null,null,null,null,0,null,null,null,null,{"$f":"'Раздел 2'!H317","v":0}]
[null,null,null,null,null,"Эстетическая гимнастика","312",0,null,null,null,null,null,null,null,null,null,null,null,null,null,null,null,null,null,null,null,0,null,null,null,null,0,null,null,null,null,{"$f":"'Раздел 2'!H318","v":0}]
[null,null,null,null,null,"Якутские национальные прыжки","313",0,null,null,null,null,null,null,null,null,null,null,null,null,null,null,null,null,null,null,null,0,null,null,null,null,0,null,null,null,null,{"$f":"'Раздел 2'!H319","v":0}]
[null,null,null,null,null,"ИТОГО","314",{"$f":"SUM(I320:AA320)","v":1801},{"$f":"SUM(I7:I13,I16:I21,I27:I30,I35:I41,I47:I48,I52:I60,I66:I68,I72:I75,I80:I87,I90:I101,I105:I110,I118:I119,I124:I149,I152:I158,I163:I164,I170:I173,I180:I194,I198:I209,I215:I221,I227:I231,I237:I240,I244:I247,I252:I267,I272:I273,I279:I282,I289:I290,I298:I300,I306,I310:I319)","v":465},{"$f":"SUM(J7:J13,J16:J21,J27:J30,J35:J41,J47:J48,J52:J60,J66:J68,J72:J75,J80:J87,J90:J101,J105:J110,J118:J119,J124:J149,J152:J158,J163:J164,J170:J173,J180:J194,J198:J209,J215:J221,J227:J231,J237:J240,J244:J247,J252:J267,J272:J273,J279:J282,J289:J290,J298:J300,J306,J310:J319)","v":323},{"$f":"SUM(K7:K13,K16:K21,K27:K30,K35:K41,K47:K48,K52:K60,K66:K68,K72:K75,K80:K87,K90:K101,K105:K110,K118:K119,K124:K149,K152:K158,K163:K164,K170:K173,K180:K194,K198:K209,K215:K221,K227:K231,K237:K240,K244:K247,K252:K267,K272:K273,K279:K282,K289:K290,K298:K300,K306,K310:K319)","v":270},{"$f":"SUM(L7:L13,L16:L21,L27:L30,L35:L41,L47:L48,L52:L60,L66:L68,L72:L75,L80:L87,L90:L101,L105:L110,L118:L119,L124:L149,L152:L158,L163:L164,L170:L173,L180:L194,L198:L209,L215:L221,L227:L231,L237:L240,L244:L247,L252:L267,L272:L273,L279:L282,L289:L290,L298:L300,L306,L310:L319)","v":193},{"$f":"SUM(M7:M13,M16:M21,M27:M30,M35:M41,M47:M48,M52:M60,M66:M68,M72:M75,M80:M87,M90:M101,M105:M110,M118:M119,M124:M149,M152:M158,M163:M164,M170:M173,M180:M194,M198:M209,M215:M221,M227:M231,M237:M240,M244:M247,M252:M267,M272:M273,M279:M282,M289:M290,M298:M300,M306,M310:M319)","v":71},194,139,50,0,0,0,26,35,35,0,0,0,0,0,657,586,66,5,0,594,375,199,20,{"$f":"SUM(AK7:AK13,AK16:AK21,AK27:AK30,AK35:AK41,AK47:AK48,AK52:AK60,AK66:AK68,AK72:AK75,AK80:AK87,AK90:AK101,AK105:AK110,AK118:AK119,AK124:AK149,AK152:AK158,AK163:AK164,AK170:AK173,AK180:AK194,AK198:AK209,AK215:AK221,AK227:AK231,AK237:AK240,AK244:AK247,AK252:AK267,AK272:AK273,AK279:AK282,AK289:AK290,AK298:AK300,AK306,AK310:AK319)","v":0}]

{"sheet":"Раздел 4","index":4,"n_rows":320,"n_cols":33,"rows_kept":320,"cut":false,"hidden":false,"merged":[[3,22,3,24],[3,8,4,8],[3,9,3,11],[3,12,4,12],[3,13,3,16],[3,17,4,17],[1,30,4,30],[3,25,4,25],[0,5,0,29],[2,17,2,20],[2,21,2,24],[2,25,2,29],[3,26,3,29],[3,18,3,20],[3,21,4,21],[1,5,4,5],[1,6,4,6],[1,7,1,16],[1,17,1,29],[2,7,4,7],[2,8,2,11],[2,12,2,16]]}
[null,null,null,null,null,"Раздел IV. Спортивные разряды, спортивные звания"]
[null,null,null,null,null,"Виды спорта","№ строки","Из численности обучающихся (гр.5 раздела II)\nспортсменов, имеющих разряды, звания, человек",null,null,null,null,null,null,null,null,null,"Разряды, звания, присвоенные и подтвержденные в отчетном периоде, единица",null,null,null,null,null,null,null,null,null,null,null,null,"Спортсмены, спортсмены-инструкторы \n(из гр. 3)"]
[null,null,null,null,null,null,null,"Итого","спортивные разряды",null,null,null,"спортивные звания",null,null,null,null,"спортивные разряды присвоенные",null,null,null,"спортивные разряды подтвержденные",null,null,null,"спортивные звания присвоенные"]
[null,null,null,null,null,null,null,null,"Всего","в том числе:",null,null,"Всего","в том числе:",null,null,null,"Всего","в том числе:",null,null,"Всего","в том числе:",null,null,"Всего","в том числе:"]
["Код региона","ОГРН","Ведоственная принадлежность","Вид организации","Вид правового образования",null,null,null,null,"КМС","1 разряд","другие разряды",null,"ЗМС","МСМК","МС","гроссмейстер",null,"КМС","1 разряд","другие разряды",null,"КМС","1 разряд","другие разряды",null,"ЗМС","МСМК","МС","гроссмейстер"]
[{"$f":"'Раздел 0'!M27","v":86},{"$f":"IF('Раздел 1'!D15>0,'Раздел 1'!D15,\"ОСП\")","v":1188617000428},{"$f":"(IF(SUM('Раздел 1'!D5:D6)>0,\"ФКИС\",IF(SUM('Раздел 1'!D7:D8)>0,\"ОБРАЗОВАНИЕ\",IF(SUM('Раздел 1'!D9:D10)>0,\"ДВП\",\" \"))))","v":"ФКИС"},{"$f":"(IF(SUM('Раздел 1'!E12:E13)>0,\"СШ\",IF(SUM('Раздел 1'!F12:F13)>0,\"СШОР\",IF(SUM('Раздел 1'!G12:G13)>0,\"УОР\",IF(SUM('Раздел 1'!H12:H13)>0,\"ЦСП\",IF(SUM('Раздел 1'!I12:I13)>0,\"Другие\"))))))","v":"СШ"},{"$f":"(IF('Раздел 1'!D19=1,\"РФ\",IF('Раздел 1'!E19=1,\"Суб РФ\",IF('Раздел 1'!F19=1,\"МО\",IF('Раздел 1'!H19=1,\"ИПО\",\"ОСП\")))))","v":"МО"},1,2,3,4,5,6,7,8,9,10,11,12,13,14,15,16,17,18,19,20,21,22,23,24,25,26,"2р","2р 21"]
[null,null,null,null,null,"Авиамодельный спорт","01",{"$f":"SUM(I7,M7)","v":0},{"$f":"SUM(J7:L7)","v":0},null,null,null,{"$f":"SUM(N7:Q7)","v":0},null,null,null,null,{"$f":"SUM(S7:U7)","v":0},null,null,null,{"$f":"SUM(W7:Y7)","v":0},null,null,null,{"$f":"SUM(AA7:AD7)","v":0},null,null,null,null,null,{"$f":"'Раздел 2'!H7","v":0},{"$f":"'Раздел 2'!Z7","v":0}]
[null,null,null,null,null,"Авиационные гонки","02",{"$f":"SUM(I8,M8)","v":0},{"$f":"SUM(J8:L8)","v":0},null,null,null,{"$f":"SUM(N8:Q8)","v":0},null,null,null,null,{"$f":"SUM(S8:U8)","v":0},null,null,null,{"$f":"SUM(W8:Y8)","v":0},null,null,null,{"$f":"SUM(AA8:AD8)","v":0},null,null,null,null,null,{"$f":"'Раздел 2'!H8","v":0},{"$f":"'Раздел 2'!Z8","v":0}]
[null,null,null,null,null,"Автомобильный спорт","03",0,0,null,null,null,{"$f":"SUM(N9:Q9)","v":0},null,null,null,null,0,null,null,null,0,null,null,null,0,null,null,null,null,null,{"$f":"'Раздел 2'!H9","v":0},{"$f":"'Раздел 2'!Z9","v":0}]
[null,null,null,null,null,"Автомодельный спорт","04",0,0,null,null,null,0,null,null,null,null,0,null,null,null,0,null,null,null,0,null,null,null,null,null,{"$f":"'Раздел 2'!H10","v":0},{"$f":"'Раздел 2'!Z10","v":0}]
[null,null,null,null,null,"Айкидо","05",0,0,null,null,null,0,null,null,null,null,0,null,null,null,0,null,null,null,0,null,null,null,null,null,{"$f":"'Раздел 2'!H11","v":0},{"$f":"'Раздел 2'!Z11","v":0}]
[null,null,null,null,null,"Акробатический рок-н-ролл","06",0,0,null,null,null,0,null,null,null,null,0,null,null,null,0,null,null,null,0,null,null,null,null,null,{"$f":"'Раздел 2'!H12","v":0},{"$f":"'Раздел 2'!Z12","v":0}]
[null,null,null,null,null,"Альпинизм - всего","07",0,0,{"$f":"SUM(J14:J15)","v":0},{"$f":"SUM(K14:K15)","v":0},0,0,0,0,0,0,0,0,0,0,0,0,0,0,0,0,0,0,0,0,{"$f":"'Раздел 2'!H13","v":0},{"$f":"'Раздел 2'!Z13","v":0}]
[null,null,null,null,null,"В том числе:\nСки-альпинизм","08",0,0,null,null,null,0,null,null,null,null,0,null,null,null,0,null,null,null,0,null,null,null,null,null,{"$f":"'Раздел 2'!H14","v":0},{"$f":"'Раздел 2'!Z14","v":0}]
[null,null,null,null,null,"Иные дисциплины вида спорта \"альпинизм\"","09",0,0,null,null,null,0,null,null,null,null,0,null,null,null,0,null,null,null,0,null,null,null,null,null,{"$f":"'Раздел 2'!H15","v":0},{"$f":"'Раздел 2'!Z15","v":0}]
[null,null,null,null,null,"Американский футбол","10",0,0,null,null,null,0,null,null,null,null,0,null,null,null,0,null,null,null,0,null,null,null,null,null,{"$f":"'Раздел 2'!H16","v":0},{"$f":"'Раздел 2'!Z16","v":0}]
[null,null,null,null,null,"Армейский рукопашный бой","11",0,0,null,null,null,0,null,null,null,null,0,null,null,null,0,null,null,null,0,null,null,null,null,null,{"$f":"'Раздел 2'!H17","v":0},{"$f":"'Раздел 2'!Z17","v":0}]
[null,null,null,null,null,"Армейское тактико-стрелковое многоборье","12",0,0,null,null,null,0,null,null,null,null,0,null,null,null,0,null,null,null,0,null,null,null,null,null,{"$f":"'Раздел 2'!H18","v":0},{"$f":"'Раздел 2'!Z18","v":0}]
[null,null,null,null,null,"Армрестлинг","13",0,0,null,null,null,0,null,null,null,null,0,null,null,null,0,null,null,null,0,null,null,null,null,null,{"$f":"'Раздел 2'!H19","v":0},{"$f":"'Раздел 2'!Z19","v":0}]
[null,null,null,null,null,"Бадминтон","14",0,0,null,null,null,0,null,null,null,null,0,null,null,null,0,null,null,null,0,null,null,null,null,null,{"$f":"'Раздел 2'!H20","v":0},{"$f":"'Раздел 2'!Z20","v":0}]
[null,null,null,null,null,"Баскетбол - всего","15",0,0,{"$f":"SUM(J22:J26)","v":0},{"$f":"SUM(K22:K26)","v":0},0,0,0,0,0,0,0,0,0,0,0,0,0,0,0,0,0,0,0,0,{"$f":"'Раздел 2'!H21","v":0},{"$f":"'Раздел 2'!Z21","v":0}]
[null,null,null,null,null,"в том числе:\nБаскетбол (муж.)","16",0,0,null,null,null,0,null,null,null,null,0,null,null,null,0,null,null,null,0,null,null,null,null,null,{"$f":"'Раздел 2'!H22","v":0},{"$f":"'Раздел 2'!Z22","v":0}]
[null,null,null,null,null,"Баскетбол (жен.)","17",0,0,null,null,null,0,null,null,null,null,0,null,null,null,0,null,null,null,0,null,null,null,null,null,{"$f":"'Раздел 2'!H23","v":0},{"$f":"'Раздел 2'!Z23","v":0}]
[null,null,null,null,null,"Баскетбол 3х3","18",0,0,null,null,null,0,null,null,null,null,0,null,null,null,0,null,null,null,0,null,null,null,null,null,{"$f":"'Раздел 2'!H24","v":0},{"$f":"'Раздел 2'!Z24","v":0}]
[null,null,null,null,null,"Интерактивный баскетбол","19",0,0,null,null,null,0,null,null,null,null,0,null,null,null,0,null,null,null,0,null,null,null,null,null,{"$f":"'Раздел 2'!H25","v":0},{"$f":"'Раздел 2'!Z25","v":0}]
[null,null,null,null,null,"Иные дисциплины вида спорта \"баскетбол\"","20",0,0,null,null,null,0,null,null,null,null,0,null,null,null,0,null,null,null,0,null,null,null,null,null,{"$f":"'Раздел 2'!H26","v":0},{"$f":"'Раздел 2'!Z26","v":0}]
[null,null,null,null,null,"Бейсбол","21",0,0,null,null,null,0,null,null,null,null,0,null,null,null,0,null,null,null,0,null,null,null,null,null,{"$f":"'Раздел 2'!H27","v":0},{"$f":"'Раздел 2'!Z27","v":0}]
[null,null,null,null,null,"Биатлон","22",0,0,null,null,null,0,null,null,null,null,0,null,null,null,0,null,null,null,0,null,null,null,null,null,{"$f":"'Раздел 2'!H28","v":0},{"$f":"'Раздел 2'!Z28","v":0}]
[null,null,null,null,null,"Бильярдный спорт","23",0,0,null,null,null,0,null,null,null,null,0,null,null,null,0,null,null,null,0,null,null,null,null,null,{"$f":"'Раздел 2'!H29","v":0},{"$f":"'Раздел 2'!Z29","v":0}]
[null,null,null,null,null,"Бобслей - всего","24",0,0,{"$f":"SUM(J31:J34)","v":0},{"$f":"SUM(K31:K34)","v":0},0,0,0,0,0,0,0,0,0,0,0,0,0,0,0,0,0,0,0,0,{"$f":"'Раздел 2'!H30","v":0},{"$f":"'Раздел 2'!Z30","v":0}]
[null,null,null,null,null,"В том числе:\nСкелетон","25",0,0,null,null,null,0,null,null,null,null,0,null,null,null,0,null,null,null,0,null,null,null,null,null,{"$f":"'Раздел 2'!H31","v":0},{"$f":"'Раздел 2'!Z31","v":0}]
[null,null,null,null,null,"Экипаж","26",0,0,null,null,null,0,null,null,null,null,0,null,null,null,0,null,null,null,0,null,null,null,null,null,{"$f":"'Раздел 2'!H32","v":0},{"$f":"'Раздел 2'!Z32","v":0}]
[null,null,null,null,null,"Монобоб","27",0,0,null,null,null,0,null,null,null,null,0,null,null,null,0,null,null,null,0,null,null,null,null,null,{"$f":"'Раздел 2'!H33","v":0},{"$f":"'Раздел 2'!Z33","v":0}]
[null,null,null,null,null,"Иные дисциплины вида спорта \"бобслей\"","28",0,0,null,null,null,0,null,null,null,null,0,null,null,null,0,null,null,null,0,null,null,null,null,null,{"$f":"'Раздел 2'!H34","v":0},{"$f":"'Раздел 2'!Z34","v":0}]
[null,null,null,null,null,"Бодибилдинг","29",0,0,null,null,null,0,null,null,null,null,0,null,null,null,0,null,null,null,0,null,null,null,null,null,{"$f":"'Раздел 2'!H35","v":0},{"$f":"'Раздел 2'!Z35","v":0}]
[null,null,null,null,null,"Бокс","30",0,0,null,null,null,0,null,null,null,null,0,null,null,null,0,null,null,null,0,null,null,null,null,null,{"$f":"'Раздел 2'!H36","v":0},{"$f":"'Раздел 2'!Z36","v":0}]
[null,null,null,null,null,"Борьба на поясах","31",0,0,null,null,null,0,null,null,null,null,0,null,null,null,0,null,null,null,0,null,null,null,null,null,{"$f":"'Раздел 2'!H37","v":0},{"$f":"'Раздел 2'!Z37","v":0}]
[null,null,null,null,null,"Боулинг","32",0,0,null,null,null,0,null,null,null,null,0,null,null,null,0,null,null,null,0,null,null,null,null,null,{"$f":"'Раздел 2'!H38","v":0},{"$f":"'Раздел 2'!Z38","v":0}]
[null,null,null,null,null,"Боулспорт","33",0,0,null,null,null,0,null,null,null,null,0,null,null,null,0,null,null,null,0,null,null,null,null,null,{"$f":"'Раздел 2'!H39","v":0},{"$f":"'Раздел 2'!Z39","v":0}]
[null,null,null,null,null,"Брейкинг","34",0,0,null,null,null,0,null,null,null,null,0,null,null,null,0,null,null,null,0,null,null,null,null,null,{"$f":"'Раздел 2'!H40","v":0},{"$f":"'Раздел 2'!Z40","v":0}]
[null,null,null,null,null,"Велосипедный спорт - всего","35",0,0,{"$f":"SUM(J42:J46)","v":0},{"$f":"SUM(K42:K46)","v":0},0,0,0,0,0,0,0,0,0,0,0,0,0,0,0,0,0,0,0,0,{"$f":"'Раздел 2'!H41","v":0},{"$f":"'Раздел 2'!Z41","v":0}]
[null,null,null,null,null,"в том числе:\nBMX (гонка, эстафета)","36",0,0,null,null,null,0,null,null,null,null,0,null,null,null,0,null,null,null,0,null,null,null,null,null,{"$f":"'Раздел 2'!H42","v":0},{"$f":"'Раздел 2'!Z42","v":0}]
[null,null,null,null,null,"BMX - фристайл","37",0,0,null,null,null,0,null,null,null,null,0,null,null,null,0,null,null,null,0,null,null,null,null,null,{"$f":"'Раздел 2'!H43","v":0},{"$f":"'Раздел 2'!Z43","v":0}]
[null,null,null,null,null,"Маунтинбайк","38",0,0,null,null,null,0,null,null,null,null,0,null,null,null,0,null,null,null,0,null,null,null,null,null,{"$f":"'Раздел 2'!H44","v":0},{"$f":"'Раздел 2'!Z44","v":0}]
[null,null,null,null,null,"Трек","39",0,0,null,null,null,0,null,null,null,null,0,null,null,null,0,null,null,null,0,null,null,null,null,null,{"$f":"'Раздел 2'!H45","v":0},{"$f":"'Раздел 2'!Z45","v":0}]
[null,null,null,null,null,"Шоссе","40",0,0,null,null,null,0,null,null,null,null,0,null,null,null,0,null,null,null,0,null,null,null,null,null,{"$f":"'Раздел 2'!H46","v":0},{"$f":"'Раздел 2'!Z46","v":0}]
[null,null,null,null,null,"Вертолетный спорт","41",0,0,null,null,null,0,null,null,null,null,0,null,null,null,0,null,null,null,0,null,null,null,null,null,{"$f":"'Раздел 2'!H47","v":0},{"$f":"'Раздел 2'!Z47","v":0}]
[null,null,null,null,null,"Водное поло - всего","42",0,0,{"$f":"SUM(J49:J51)","v":0},{"$f":"SUM(K49:K51)","v":0},0,0,0,0,0,0,0,0,0,0,0,0,0,0,0,0,0,0,0,0,{"$f":"'Раздел 2'!H48","v":0},{"$f":"'Раздел 2'!Z48","v":0}]
[null,null,null,null,null,"в том числе:\nВодное поло (муж.)","43",0,0,null,null,null,0,null,null,null,null,0,null,null,null,0,null,null,null,0,null,null,null,null,null,{"$f":"'Раздел 2'!H49","v":0},{"$f":"'Раздел 2'!Z49","v":0}]
[null,null,null,null,null,"Водное поло (жен.)","44",0,0,null,null,null,0,null,null,null,null,0,null,null,null,0,null,null,null,0,null,null,null,null,null,{"$f":"'Раздел 2'!H50","v":0},{"$f":"'Раздел 2'!Z50","v":0}]
[null,null,null,null,null,"Иные дисциплины вида спорта \"водное поло\"","45",0,0,null,null,null,0,null,null,null,null,0,null,null,null,0,null,null,null,0,null,null,null,null,null,{"$f":"'Раздел 2'!H51","v":0},{"$f":"'Раздел 2'!Z51","v":0}]
[null,null,null,null,null,"Воднолыжный спорт","46",0,0,null,null,null,0,null,null,null,null,0,null,null,null,0,null,null,null,0,null,null,null,null,null,{"$f":"'Раздел 2'!H52","v":0},{"$f":"'Раздел 2'!Z52","v":0}]
[null,null,null,null,null,"Водно-моторный спорт","47",0,0,null,null,null,0,null,null,null,null,0,null,null,null,0,null,null,null,0,null,null,null,null,null,{"$f":"'Раздел 2'!H53","v":0},{"$f":"'Раздел 2'!Z53","v":0}]
[null,null,null,null,null,"Водно-спасательное многоборье","48",0,0,null,null,null,0,null,null,null,null,0,null,null,null,0,null,null,null,0,null,null,null,null,null,{"$f":"'Раздел 2'!H54","v":0},{"$f":"'Раздел 2'!Z54","v":0}]
[null,null,null,null,null,"Военно-прикладной спорт","49",0,0,null,null,null,0,null,null,null,null,0,null,null,null,0,null,null,null,0,null,null,null,null,null,{"$f":"'Раздел 2'!H55","v":0},{"$f":"'Раздел 2'!Z55","v":0}]
[null,null,null,null,null,"Военно-спортивное многоборье","50",0,0,null,null,null,0,null,null,null,null,0,null,null,null,0,null,null,null,0,null,null,null,null,null,{"$f":"'Раздел 2'!H56","v":0},{"$f":"'Раздел 2'!Z56","v":0}]
[null,null,null,null,null,"Воздухоплавательный спорт","51",0,0,null,null,null,0,null,null,null,null,0,null,null,null,0,null,null,null,0,null,null,null,null,null,{"$f":"'Раздел 2'!H57","v":0},{"$f":"'Раздел 2'!Z57","v":0}]
[null,null,null,null,null,"Воздушная гимнастика","52",0,0,null,null,null,0,null,null,null,null,0,null,null,null,0,null,null,null,0,null,null,null,null,null,{"$f":"'Раздел 2'!H58","v":0},{"$f":"'Раздел 2'!Z58","v":0}]
[null,null,null,null,null,"Воздушно-силовая атлетика","53",0,0,null,null,null,0,null,null,null,null,0,null,null,null,0,null,null,null,0,null,null,null,null,null,{"$f":"'Раздел 2'!H59","v":0},{"$f":"'Раздел 2'!Z59","v":0}]
[null,null,null,null,null,"Волейбол - всего","54",0,0,{"$f":"SUM(J61:J65)","v":0},{"$f":"SUM(K61:K65)","v":0},0,0,0,0,0,0,0,0,0,0,0,0,0,0,0,0,0,0,0,0,{"$f":"'Раздел 2'!H60","v":0},{"$f":"'Раздел 2'!Z60","v":0}]
[null,null,null,null,null,"в том числе:\nВолейбол (муж.)","55",0,0,null,null,null,0,null,null,null,null,0,null,null,null,0,null,null,null,0,null,null,null,null,null,{"$f":"'Раздел 2'!H61","v":0},{"$f":"'Раздел 2'!Z61","v":0}]
[null,null,null,null,null,"Волейбол (жен.)","56",0,0,null,null,null,0,null,null,null,null,0,null,null,null,0,null,null,null,0,null,null,null,null,null,{"$f":"'Раздел 2'!H62","v":0},{"$f":"'Раздел 2'!Z62","v":0}]
[null,null,null,null,null,"Пляжный волейбол (муж.)","57",0,0,null,null,null,0,null,null,null,null,0,null,null,null,0,null,null,null,0,null,null,null,null,null,{"$f":"'Раздел 2'!H63","v":0},{"$f":"'Раздел 2'!Z63","v":0}]
[null,null,null,null,null,"Пляжный волейбол (жен.)","58",0,0,null,null,null,0,null,null,null,null,0,null,null,null,0,null,null,null,0,null,null,null,null,null,{"$f":"'Раздел 2'!H64","v":0},{"$f":"'Раздел 2'!Z64","v":0}]
[null,null,null,null,null,"Волейбол на снегу","59",0,0,null,null,null,0,null,null,null,null,0,null,null,null,0,null,null,null,0,null,null,null,null,null,{"$f":"'Раздел 2'!H65","v":0},{"$f":"'Раздел 2'!Z65","v":0}]
[null,null,null,null,null,"Восточное боевое единоборство","60",0,0,null,null,null,0,null,null,null,null,0,null,null,null,0,null,null,null,0,null,null,null,null,null,{"$f":"'Раздел 2'!H66","v":0},{"$f":"'Раздел 2'!Z66","v":0}]
[null,null,null,null,null,"Всестилевое каратэ","61",0,0,null,null,null,0,null,null,null,null,0,null,null,null,0,null,null,null,0,null,null,null,null,null,{"$f":"'Раздел 2'!H67","v":0},{"$f":"'Раздел 2'!Z67","v":0}]
[null,null,null,null,null,"Гандбол - всего","62",0,0,{"$f":"SUM(J69:J71)","v":0},{"$f":"SUM(K69:K71)","v":0},0,0,0,0,0,0,0,0,0,0,0,0,0,0,0,0,0,0,0,0,{"$f":"'Раздел 2'!H68","v":0},{"$f":"'Раздел 2'!Z68","v":0}]
[null,null,null,null,null,"в том числе:\nГандбол (муж.)","63",0,0,null,null,null,0,null,null,null,null,0,null,null,null,0,null,null,null,0,null,null,null,null,null,{"$f":"'Раздел 2'!H69","v":0},{"$f":"'Раздел 2'!Z69","v":0}]
[null,null,null,null,null,"Гандбол (жен.)","64",0,0,null,null,null,0,null,null,null,null,0,null,null,null,0,null,null,null,0,null,null,null,null,null,{"$f":"'Раздел 2'!H70","v":0},{"$f":"'Раздел 2'!Z70","v":0}]
[null,null,null,null,null,"Пляжный гандбол","65",0,0,null,null,null,0,null,null,null,null,0,null,null,null,0,null,null,null,0,null,null,null,null,null,{"$f":"'Раздел 2'!H71","v":0},{"$f":"'Раздел 2'!Z71","v":0}]
[null,null,null,null,null,"Гиревой спорт","66",{"$f":"SUM(I72,M72)","v":0},{"$f":"SUM(J72:L72)","v":0},null,null,null,{"$f":"SUM(N72:Q72)","v":0},null,null,null,null,{"$f":"SUM(S72:U72)","v":0},null,null,null,{"$f":"SUM(W72:Y72)","v":0},null,null,null,{"$f":"SUM(AA72:AD72)","v":0},null,null,null,null,null,{"$f":"'Раздел 2'!H72","v":0},{"$f":"'Раздел 2'!Z72","v":0}]
[null,null,null,null,null,"Го","67",0,0,null,null,null,0,null,null,null,null,0,null,null,null,0,null,null,null,0,null,null,null,null,null,{"$f":"'Раздел 2'!H73","v":0},{"$f":"'Раздел 2'!Z73","v":0}]
[null,null,null,null,null,"Гольф","68",0,0,null,null,null,0,null,null,null,null,0,null,null,null,0,null,null,null,0,null,null,null,null,null,{"$f":"'Раздел 2'!H74","v":0},{"$f":"'Раздел 2'!Z74","v":0}]
[null,null,null,null,null,"Гонки дронов (беспилотных воздушных судов) - всего","69",0,0,{"$f":"SUM(J76:J79)","v":0},{"$f":"SUM(K76:K79)","v":0},0,0,0,0,0,0,0,0,0,0,0,0,0,0,0,0,0,0,0,0,{"$f":"'Раздел 2'!H75","v":0},{"$f":"'Раздел 2'!Z75","v":0}]
[null,null,null,null,null,"в том числе:\nКласс 75 мм","70",0,0,null,null,null,0,null,null,null,null,0,null,null,null,0,null,null,null,0,null,null,null,null,null,{"$f":"'Раздел 2'!H76","v":0},{"$f":"'Раздел 2'!Z76","v":0}]
[null,null,null,null,null,"Класс 200 мм","71",0,0,null,null,null,0,null,null,null,null,0,null,null,null,0,null,null,null,0,null,null,null,null,null,{"$f":"'Раздел 2'!H77","v":0},{"$f":"'Раздел 2'!Z77","v":0}]
[null,null,null,null,null,"Класс 330 мм","72",0,0,null,null,null,0,null,null,null,null,0,null,null,null,0,null,null,null,0,null,null,null,null,null,{"$f":"'Раздел 2'!H78","v":0},{"$f":"'Раздел 2'!Z78","v":0}]
[null,null,null,null,null,"Технический симулятор","73",0,0,null,null,null,0,null,null,null,null,0,null,null,null,0,null,null,null,0,null,null,null,null,null,{"$f":"'Раздел 2'!H79","v":0},{"$f":"'Раздел 2'!Z79","v":0}]
[null,null,null,null,null,"Гонки на охотничьих лыжах","74",0,0,null,null,null,0,null,null,null,null,0,null,null,null,0,null,null,null,0,null,null,null,null,null,{"$f":"'Раздел 2'!H80","v":0},{"$f":"'Раздел 2'!Z80","v":0}]
[null,null,null,null,null,"Гонки с препятствиями","75",0,0,null,null,null,0,null,null,null,null,0,null,null,null,0,null,null,null,0,null,null,null,null,null,{"$f":"'Раздел 2'!H81","v":0},{"$f":"'Раздел 2'!Z81","v":0}]
[null,null,null,null,null,"Горнолыжный спорт","76",0,0,null,null,null,0,null,null,null,null,0,null,null,null,0,null,null,null,0,null,null,null,null,null,{"$f":"'Раздел 2'!H82","v":0},{"$f":"'Раздел 2'!Z82","v":0}]
[null,null,null,null,null,"Городошный спорт","77",0,0,null,null,null,0,null,null,null,null,0,null,null,null,0,null,null,null,0,null,null,null,null,null,{"$f":"'Раздел 2'!H83","v":0},{"$f":"'Раздел 2'!Z83","v":0}]
[null,null,null,null,null,"Гребля на байдарках и каноэ","78",0,0,null,null,null,0,null,null,null,null,0,null,null,null,0,null,null,null,0,null,null,null,null,null,{"$f":"'Раздел 2'!H84","v":0},{"$f":"'Раздел 2'!Z84","v":0}]
[null,null,null,null,null,"Гребля на шлюпках","79",0,0,null,null,null,0,null,null,null,null,0,null,null,null,0,null,null,null,0,null,null,null,null,null,{"$f":"'Раздел 2'!H85","v":0},{"$f":"'Раздел 2'!Z85","v":0}]
[null,null,null,null,null,"Гребной слалом","80",0,0,null,null,null,0,null,null,null,null,0,null,null,null,0,null,null,null,0,null,null,null,null,null,{"$f":"'Раздел 2'!H86","v":0},{"$f":"'Раздел 2'!Z86","v":0}]
[null,null,null,null,null,"Гребной спорт - всего","81",0,0,{"$f":"SUM(J88:J89)","v":0},{"$f":"SUM(K88:K89)","v":0},0,0,0,0,0,0,0,0,0,0,0,0,0,0,0,0,0,0,0,0,{"$f":"'Раздел 2'!H87","v":0},{"$f":"'Раздел 2'!Z87","v":0}]
[null,null,null,null,null,"в том числе:\nАкадемическая гребля","82",0,0,null,null,null,0,null,null,null,null,0,null,null,null,0,null,null,null,0,null,null,null,null,null,{"$f":"'Раздел 2'!H88","v":0},{"$f":"'Раздел 2'!Z88","v":0}]
[null,null,null,null,null,"Иные дисциплины вида спорта \"гребной спорт\"","83",0,0,null,null,null,0,null,null,null,null,0,null,null,null,0,null,null,null,0,null,null,null,null,null,{"$f":"'Раздел 2'!H89","v":0},{"$f":"'Раздел 2'!Z89","v":0}]
[null,null,null,null,null,"Гребно-парусное двоеборье","84",0,0,null,null,null,0,null,null,null,null,0,null,null,null,0,null,null,null,0,null,null,null,null,null,{"$f":"'Раздел 2'!H90","v":0},{"$f":"'Раздел 2'!Z90","v":0}]
[null,null,null,null,null,"Дартс","85",0,0,null,null,null,0,null,null,null,null,0,null,null,null,0,null,null,null,0,null,null,null,null,null,{"$f":"'Раздел 2'!H91","v":0},{"$f":"'Раздел 2'!Z91","v":0}]
[null,null,null,null,null,"Джиу-джитсу","86",0,0,null,null,null,0,null,null,null,null,0,null,null,null,0,null,null,null,0,null,null,null,null,null,{"$f":"'Раздел 2'!H92","v":0},{"$f":"'Раздел 2'!Z92","v":0}]
[null,null,null,null,null,"Джутайдо","87",0,0,null,null,null,0,null,null,null,null,0,null,null,null,0,null,null,null,0,null,null,null,null,null,{"$f":"'Раздел 2'!H93","v":0},{"$f":"'Раздел 2'!Z93","v":0}]
[null,null,null,null,null,"Дзюдо","88",0,0,null,null,null,0,null,null,null,null,0,null,null,null,0,null,null,null,0,null,null,null,null,null,{"$f":"'Раздел 2'!H94","v":0},{"$f":"'Раздел 2'!Z94","v":0}]
[null,null,null,null,null,"Ездовой спорт","89",0,0,null,null,null,0,null,null,null,null,0,null,null,null,0,null,null,null,0,null,null,null,null,null,{"$f":"'Раздел 2'!H95","v":0},{"$f":"'Раздел 2'!Z95","v":0}]
[null,null,null,null,null,"Зимнее плавание","90",0,0,null,null,null,0,null,null,null,null,0,null,null,null,0,null,null,null,0,null,null,null,null,null,{"$f":"'Раздел 2'!H96","v":0},{"$f":"'Раздел 2'!Z96","v":0}]
[null,null,null,null,null,"Капоэйра","91",0,0,null,null,null,0,null,null,null,null,0,null,null,null,0,null,null,null,0,null,null,null,null,null,{"$f":"'Раздел 2'!H97","v":0},{"$f":"'Раздел 2'!Z97","v":0}]
[null,null,null,null,null,"Каратэ","92",0,0,null,null,null,0,null,null,null,null,0,null,null,null,0,null,null,null,0,null,null,null,null,null,{"$f":"'Раздел 2'!H98","v":0},{"$f":"'Раздел 2'!Z98","v":0}]
[null,null,null,null,null,"Кендо","93",0,0,null,null,null,0,null,null,null,null,0,null,null,null,0,null,null,null,0,null,null,null,null,null,{"$f":"'Раздел 2'!H99","v":0},{"$f":"'Раздел 2'!Z99","v":0}]
[null,null,null,null,null,"Керешу","94",0,0,null,null,null,0,null,null,null,null,0,null,null,null,0,null,null,null,0,null,null,null,null,null,{"$f":"'Раздел 2'!H100","v":0},{"$f":"'Раздел 2'!Z100","v":0}]
[null,null,null,null,null,"Кёрлинг - всего","95",0,0,{"$f":"SUM(J102:J104)","v":0},{"$f":"SUM(K102:K104)","v":0},0,0,0,0,0,0,0,0,0,0,0,0,0,0,0,0,0,0,0,0,{"$f":"'Раздел 2'!H101","v":0},{"$f":"'Раздел 2'!Z101","v":0}]
[null,null,null,null,null,"в том числе:\nКёрлинг (муж.)","96",0,0,null,null,null,0,null,null,null,null,0,null,null,null,0,null,null,null,0,null,null,null,null,null,{"$f":"'Раздел 2'!H102","v":0},{"$f":"'Раздел 2'!Z102","v":0}]
[null,null,null,null,null,"Кёрлинг (жен.)","97",0,0,null,null,null,0,null,null,null,null,0,null,null,null,0,null,null,null,0,null,null,null,null,null,{"$f":"'Раздел 2'!H103","v":0},{"$f":"'Раздел 2'!Z103","v":0}]
[null,null,null,null,null,"Кёрлинг – смешанные пары","98",0,0,null,null,null,0,null,null,null,null,0,null,null,null,0,null,null,null,0,null,null,null,null,null,{"$f":"'Раздел 2'!H104","v":0},{"$f":"'Раздел 2'!Z104","v":0}]
[null,null,null,null,null,"Кикбоксинг","99",40,34,7,4,23,6,null,1,5,null,29,null,6,23,0,null,null,null,0,null,null,null,null,null,{"$f":"'Раздел 2'!H105","v":1},{"$f":"'Раздел 2'!Z105","v":0}]
[null,null,null,null,null,"Кинологический спорт","100",0,0,null,null,null,0,null,null,null,null,0,null,null,null,0,null,null,null,0,null,null,null,null,null,{"$f":"'Раздел 2'!H106","v":0},{"$f":"'Раздел 2'!Z106","v":0}]
[null,null,null,null,null,"Киокусинкай","101",275,275,null,9,266,0,null,null,null,null,351,null,11,340,0,null,null,null,0,null,null,null,null,null,{"$f":"'Раздел 2'!H107","v":1},{"$f":"'Раздел 2'!Z107","v":0}]
[null,null,null,null,null,"Киокушин","102",0,0,null,null,null,0,null,null,null,null,0,null,null,null,0,null,null,null,0,null,null,null,null,null,{"$f":"'Раздел 2'!H108","v":0},{"$f":"'Раздел 2'!Z108","v":0}]
[null,null,null,null,null,"Комплексное единоборство","103",0,0,null,null,null,0,null,null,null,null,0,null,null,null,0,null,null,null,0,null,null,null,null,null,{"$f":"'Раздел 2'!H109","v":0},{"$f":"'Раздел 2'!Z109","v":0}]
[null,null,null,null,null,"Компьютерный спорт - всего","104",0,0,{"$f":"SUM(J111:J117)","v":0},{"$f":"SUM(K111:K117)","v":0},0,0,0,0,0,0,0,0,0,0,0,0,0,0,0,0,0,0,0,0,{"$f":"'Раздел 2'!H110","v":0},{"$f":"'Раздел 2'!Z110","v":0}]
[null,null,null,null,null,"в том числе:\nБоевая арена","105",0,0,null,null,null,0,null,null,null,null,0,null,null,null,0,null,null,null,0,null,null,null,null,null,{"$f":"'Раздел 2'!H111","v":0},{"$f":"'Раздел 2'!Z111","v":0}]
[null,null,null,null,null,"Соревновательные головоломки","106",0,0,null,null,null,0,null,null,null,null,0,null,null,null,0,null,null,null,0,null,null,null,null,null,{"$f":"'Раздел 2'!H112","v":0},{"$f":"'Раздел 2'!Z112","v":0}]
[null,null,null,null,null,"Спортивный симулятор","107",0,0,null,null,null,0,null,null,null,null,0,null,null,null,0,null,null,null,0,null,null,null,null,null,{"$f":"'Раздел 2'!H113","v":0},{"$f":"'Раздел 2'!Z113","v":0}]
[null,null,null,null,null,"Стратегия в реальном времени","108",0,0,null,null,null,0,null,null,null,null,0,null,null,null,0,null,null,null,0,null,null,null,null,null,{"$f":"'Раздел 2'!H114","v":0},{"$f":"'Раздел 2'!Z114","v":0}]
[null,null,null,null,null,"Тактический трехмерный бой","109",0,0,null,null,null,0,null,null,null,null,0,null,null,null,0,null,null,null,0,null,null,null,null,null,{"$f":"'Раздел 2'!H115","v":0},{"$f":"'Раздел 2'!Z115","v":0}]
[null,null,null,null,null,"Технический симулятор","110",0,0,null,null,null,0,null,null,null,null,0,null,null,null,0,null,null,null,0,null,null,null,null,null,{"$f":"'Раздел 2'!H116","v":0},{"$f":"'Раздел 2'!Z116","v":0}]
[null,null,null,null,null,"Файтинг","111",0,0,null,null,null,0,null,null,null,null,0,null,null,null,0,null,null,null,0,null,null,null,null,null,{"$f":"'Раздел 2'!H117","v":0},{"$f":"'Раздел 2'!Z117","v":0}]
[null,null,null,null,null,"Конный спорт","112",0,0,null,null,null,0,null,null,null,null,0,null,null,null,0,null,null,null,0,null,null,null,null,null,{"$f":"'Раздел 2'!H118","v":0},{"$f":"'Раздел 2'!Z118","v":0}]
[null,null,null,null,null,"Конькобежный спорт - всего","113",0,0,{"$f":"SUM(J120:J123)","v":0},{"$f":"SUM(K120:K123)","v":0},0,0,0,0,0,0,0,0,0,0,0,0,0,0,0,0,0,0,0,0,{"$f":"'Раздел 2'!H119","v":0},{"$f":"'Раздел 2'!Z119","v":0}]
[null,null,null,null,null,"в том числе:\nКонькобежный спорт","114",0,0,null,null,null,0,null,null,null,null,0,null,null,null,0,null,null,null,0,null,null,null,null,null,{"$f":"'Раздел 2'!H120","v":0},{"$f":"'Раздел 2'!Z120","v":0}]
[null,null,null,null,null,"Шорт-трек","115",0,0,null,null,null,0,null,null,null,null,0,null,null,null,0,null,null,null,0,null,null,null,null,null,{"$f":"'Раздел 2'!H121","v":0},{"$f":"'Раздел 2'!Z121","v":0}]
[null,null,null,null,null,"Масс-старт","116",0,0,null,null,null,0,null,null,null,null,0,null,null,null,0,null,null,null,0,null,null,null,null,null,{"$f":"'Раздел 2'!H122","v":0},{"$f":"'Раздел 2'!Z122","v":0}]
[null,null,null,null,null,"Командный забег","117",0,0,null,null,null,0,null,null,null,null,0,null,null,null,0,null,null,null,0,null,null,null,null,null,{"$f":"'Раздел 2'!H123","v":0},{"$f":"'Раздел 2'!Z123","v":0}]
[null,null,null,null,null,"Корэш","118",0,0,null,null,null,0,null,null,null,null,0,null,null,null,0,null,null,null,0,null,null,null,null,null,{"$f":"'Раздел 2'!H124","v":0},{"$f":"'Раздел 2'!Z124","v":0}]
[null,null,null,null,null,"Крикет","119",0,0,null,null,null,0,null,null,null,null,0,null,null,null,0,null,null,null,0,null,null,null,null,null,{"$f":"'Раздел 2'!H125","v":0},{"$f":"'Раздел 2'!Z125","v":0}]
[null,null,null,null,null,"Кудо","120",59,59,2,null,57,0,null,null,null,null,76,null,null,76,0,null,null,null,0,null,null,null,null,null,{"$f":"'Раздел 2'!H126","v":1},{"$f":"'Раздел 2'!Z126","v":0}]
[null,null,null,null,null,"Лазерный бой","121",0,0,null,null,null,0,null,null,null,null,0,null,null,null,0,null,null,null,0,null,null,null,null,null,{"$f":"'Раздел 2'!H127","v":0},{"$f":"'Раздел 2'!Z127","v":0}]
[null,null,null,null,null,"Лапта","122",0,0,null,null,null,0,null,null,null,null,0,null,null,null,0,null,null,null,0,null,null,null,null,null,{"$f":"'Раздел 2'!H128","v":0},{"$f":"'Раздел 2'!Z128","v":0}]
[null,null,null,null,null,"Легкая атлетика","123",0,0,null,null,null,0,null,null,null,null,0,null,null,null,0,null,null,null,0,null,null,null,null,null,{"$f":"'Раздел 2'!H129","v":0},{"$f":"'Раздел 2'!Z129","v":0}]
[null,null,null,null,null,"Лыжное двоеборье","124",0,0,null,null,null,0,null,null,null,null,0,null,null,null,0,null,null,null,0,null,null,null,null,null,{"$f":"'Раздел 2'!H130","v":0},{"$f":"'Раздел 2'!Z130","v":0}]
[null,null,null,null,null,"Лыжные гонки","125",0,0,null,null,null,0,null,null,null,null,0,null,null,null,0,null,null,null,0,null,null,null,null,null,{"$f":"'Раздел 2'!H131","v":0},{"$f":"'Раздел 2'!Z131","v":0}]
[null,null,null,null,null,"Мас-рестлинг","126",0,0,null,null,null,0,null,null,null,null,0,null,null,null,0,null,null,null,0,null,null,null,null,null,{"$f":"'Раздел 2'!H132","v":0},{"$f":"'Раздел 2'!Z132","v":0}]
[null,null,null,null,null,"Международное военно-спортивное многоборье","127",0,0,null,null,null,0,null,null,null,null,0,null,null,null,0,null,null,null,0,null,null,null,null,null,{"$f":"'Раздел 2'!H133","v":0},{"$f":"'Раздел 2'!Z133","v":0}]
[null,null,null,null,null,"Микрофутзал","128",0,0,null,null,null,0,null,null,null,null,0,null,null,null,0,null,null,null,0,null,null,null,null,null,{"$f":"'Раздел 2'!H134","v":0},{"$f":"'Раздел 2'!Z134","v":0}]
[null,null,null,null,null,"Многоборье готов к труду и обороне","129",0,0,null,null,null,0,null,null,null,null,0,null,null,null,0,null,null,null,0,null,null,null,null,null,{"$f":"'Раздел 2'!H135","v":0},{"$f":"'Раздел 2'!Z135","v":0}]
[null,null,null,null,null,"Многоборье кинологов","130",{"$f":"SUM(I136,M136)","v":0},{"$f":"SUM(J136:L136)","v":0},null,null,null,{"$f":"SUM(N136:Q136)","v":0},null,null,null,null,{"$f":"SUM(S136:U136)","v":0},null,null,null,{"$f":"SUM(W136:Y136)","v":0},null,null,null,{"$f":"SUM(AA136:AD136)","v":0},null,null,null,null,null,{"$f":"'Раздел 2'!H136","v":0},{"$f":"'Раздел 2'!Z136","v":0}]
[null,null,null,null,null,"Многоборье спасателей МЧС России","131",0,0,null,null,null,0,null,null,null,null,0,null,null,null,0,null,null,null,0,null,null,null,null,null,{"$f":"'Раздел 2'!H137","v":0},{"$f":"'Раздел 2'!Z137","v":0}]
[null,null,null,null,null,"Морское многоборье","132",0,0,null,null,null,0,null,null,null,null,0,null,null,null,0,null,null,null,0,null,null,null,null,null,{"$f":"'Раздел 2'!H138","v":0},{"$f":"'Раздел 2'!Z138","v":0}]
[null,null,null,null,null,"Мотоциклетный спорт","133",0,0,null,null,null,0,null,null,null,null,0,null,null,null,0,null,null,null,0,null,null,null,null,null,{"$f":"'Раздел 2'!H139","v":0},{"$f":"'Раздел 2'!Z139","v":0}]
[null,null,null,null,null,"Муайтай","134",7,7,null,null,7,0,null,null,null,null,7,null,null,7,0,null,null,null,0,null,null,null,null,null,{"$f":"'Раздел 2'!H140","v":1},{"$f":"'Раздел 2'!Z140","v":0}]
[null,null,null,null,null,"Нарды","135",0,0,null,null,null,0,null,null,null,null,0,null,null,null,0,null,null,null,0,null,null,null,null,null,{"$f":"'Раздел 2'!H141","v":0},{"$f":"'Раздел 2'!Z141","v":0}]
[null,null,null,null,null,"Настольный теннис","136",0,0,null,null,null,0,null,null,null,null,0,null,null,null,0,null,null,null,0,null,null,null,null,null,{"$f":"'Раздел 2'!H142","v":0},{"$f":"'Раздел 2'!Z142","v":0}]
[null,null,null,null,null,"Падел","137",0,0,null,null,null,0,null,null,null,null,0,null,null,null,0,null,null,null,0,null,null,null,null,null,{"$f":"'Раздел 2'!H143","v":0},{"$f":"'Раздел 2'!Z143","v":0}]
[null,null,null,null,null,"Парашютный спорт","138",0,0,null,null,null,0,null,null,null,null,0,null,null,null,0,null,null,null,0,null,null,null,null,null,{"$f":"'Раздел 2'!H144","v":0},{"$f":"'Раздел 2'!Z144","v":0}]
[null,null,null,null,null,"Парусный спорт","139",0,0,null,null,null,0,null,null,null,null,0,null,null,null,0,null,null,null,0,null,null,null,null,null,{"$f":"'Раздел 2'!H145","v":0},{"$f":"'Раздел 2'!Z145","v":0}]
[null,null,null,null,null,"Пауэрлифтинг","140",62,58,15,13,30,4,null,2,2,null,66,12,12,42,0,null,null,null,1,null,1,null,null,null,{"$f":"'Раздел 2'!H146","v":1},{"$f":"'Раздел 2'!Z146","v":0}]
[null,null,null,null,null,"Перетягивание каната","141",0,0,null,null,null,0,null,null,null,null,0,null,null,null,0,null,null,null,0,null,null,null,null,null,{"$f":"'Раздел 2'!H147","v":0},{"$f":"'Раздел 2'!Z147","v":0}]
[null,null,null,null,null,"Пилонный спорт","142",0,0,null,null,null,0,null,null,null,null,0,null,null,null,0,null,null,null,0,null,null,null,null,null,{"$f":"'Раздел 2'!H148","v":0},{"$f":"'Раздел 2'!Z148","v":0}]
[null,null,null,null,null,"Плавание - всего","143",0,0,{"$f":"SUM(J150:J151)","v":0},{"$f":"SUM(K150:K151)","v":0},0,0,0,0,0,0,0,0,0,0,0,0,0,0,0,0,0,0,0,0,{"$f":"'Раздел 2'!H149","v":1},{"$f":"'Раздел 2'!Z149","v":0}]
[null,null,null,null,null,"в том числе:\nОткрытая вода","144",0,0,null,null,null,0,null,null,null,null,0,null,null,null,0,null,null,null,0,null,null,null,null,null,{"$f":"'Раздел 2'!H150","v":0},{"$f":"'Раздел 2'!Z150","v":0}]
[null,null,null,null,null,"Иные дисциплины вида спорта \"плавание\"","145",0,0,null,null,null,0,null,null,null,null,0,null,null,null,0,null,null,null,0,null,null,null,null,null,{"$f":"'Раздел 2'!H151","v":1},{"$f":"'Раздел 2'!Z151","v":0}]
[null,null,null,null,null,"Планерный спорт","146",0,0,null,null,null,0,null,null,null,null,0,null,null,null,0,null,null,null,0,null,null,null,null,null,{"$f":"'Раздел 2'!H152","v":0},{"$f":"'Раздел 2'!Z152","v":0}]
[null,null,null,null,null,"Подводный спорт","147",0,0,null,null,null,0,null,null,null,null,0,null,null,null,0,null,null,null,0,null,null,null,null,null,{"$f":"'Раздел 2'!H153","v":0},{"$f":"'Раздел 2'!Z153","v":0}]
[null,null,null,null,null,"Пожарно-спасательный спорт","148",0,0,null,null,null,0,null,null,null,null,0,null,null,null,0,null,null,null,0,null,null,null,null,null,{"$f":"'Раздел 2'!H154","v":0},{"$f":"'Раздел 2'!Z154","v":0}]
[null,null,null,null,null,"Полиатлон","149",0,0,null,null,null,0,null,null,null,null,0,null,null,null,0,null,null,null,0,null,null,null,null,null,{"$f":"'Раздел 2'!H155","v":0},{"$f":"'Раздел 2'!Z155","v":0}]
[null,null,null,null,null,"Практическая стрельба","150",0,0,null,null,null,0,null,null,null,null,0,null,null,null,0,null,null,null,0,null,null,null,null,null,{"$f":"'Раздел 2'!H156","v":0},{"$f":"'Раздел 2'!Z156","v":0}]
[null,null,null,null,null,"Прыжки в воду","151",0,0,null,null,null,0,null,null,null,null,0,null,null,null,0,null,null,null,0,null,null,null,null,null,{"$f":"'Раздел 2'!H157","v":0},{"$f":"'Раздел 2'!Z157","v":0}]
[null,null,null,null,null,"Прыжки на батуте - всего","152",0,0,{"$f":"SUM(J159:J162)","v":0},{"$f":"SUM(K159:K162)","v":0},0,0,0,0,0,0,0,0,0,0,0,0,0,0,0,0,0,0,0,0,{"$f":"'Раздел 2'!H158","v":0},{"$f":"'Раздел 2'!Z158","v":0}]
[null,null,null,null,null,"в том числе:\nАкробатическая дорожка","153",0,0,null,null,null,0,null,null,null,null,0,null,null,null,0,null,null,null,0,null,null,null,null,null,{"$f":"'Раздел 2'!H159","v":0},{"$f":"'Раздел 2'!Z159","v":0}]
[null,null,null,null,null,"Двойной минитрамп","154",0,0,null,null,null,0,null,null,null,null,0,null,null,null,0,null,null,null,0,null,null,null,null,null,{"$f":"'Раздел 2'!H160","v":0},{"$f":"'Раздел 2'!Z160","v":0}]
[null,null,null,null,null,"Индивидуальные прыжки","155",0,0,null,null,null,0,null,null,null,null,0,null,null,null,0,null,null,null,0,null,null,null,null,null,{"$f":"'Раздел 2'!H161","v":0},{"$f":"'Раздел 2'!Z161","v":0}]
[null,null,null,null,null,"Синхронные прыжки","156",0,0,null,null,null,0,null,null,null,null,0,null,null,null,0,null,null,null,0,null,null,null,null,null,{"$f":"'Раздел 2'!H162","v":0},{"$f":"'Раздел 2'!Z162","v":0}]
[null,null,null,null,null,"Прыжки на лыжах с трамплина","157",0,0,null,null,null,0,null,null,null,null,0,null,null,null,0,null,null,null,0,null,null,null,null,null,{"$f":"'Раздел 2'!H163","v":0},{"$f":"'Раздел 2'!Z163","v":0}]
[null,null,null,null,null,"Пулевая стрельба - всего","158",0,0,{"$f":"SUM(J165:J169)","v":0},{"$f":"SUM(K165:K169)","v":0},0,0,0,0,0,0,0,0,0,0,0,0,0,0,0,0,0,0,0,0,{"$f":"'Раздел 2'!H164","v":0},{"$f":"'Раздел 2'!Z164","v":0}]
[null,null,null,null,null,"в том числе:\nПневматическая винтовка","159",0,0,null,null,null,0,null,null,null,null,0,null,null,null,0,null,null,null,0,null,null,null,null,null,{"$f":"'Раздел 2'!H165","v":0},{"$f":"'Раздел 2'!Z165","v":0}]
[null,null,null,null,null,"Пневматический пистолет","160",0,0,null,null,null,0,null,null,null,null,0,null,null,null,0,null,null,null,0,null,null,null,null,null,{"$f":"'Раздел 2'!H166","v":0},{"$f":"'Раздел 2'!Z166","v":0}]
[null,null,null,null,null,"Малокалиберная винтовка","161",0,0,null,null,null,0,null,null,null,null,0,null,null,null,0,null,null,null,0,null,null,null,null,null,{"$f":"'Раздел 2'!H167","v":0},{"$f":"'Раздел 2'!Z167","v":0}]
[null,null,null,null,null,"Малокалиберный пистолет","162",0,0,null,null,null,0,null,null,null,null,0,null,null,null,0,null,null,null,0,null,null,null,null,null,{"$f":"'Раздел 2'!H168","v":0},{"$f":"'Раздел 2'!Z168","v":0}]
[null,null,null,null,null,"Иные дисциплины вида спорта \"пулевая стрельба\"","163",0,0,null,null,null,0,null,null,null,null,0,null,null,null,0,null,null,null,0,null,null,null,null,null,{"$f":"'Раздел 2'!H169","v":0},{"$f":"'Раздел 2'!Z169","v":0}]
[null,null,null,null,null,"Пэйнтбол","164",0,0,null,null,null,0,null,null,null,null,0,null,null,null,0,null,null,null,0,null,null,null,null,null,{"$f":"'Раздел 2'!H170","v":0},{"$f":"'Раздел 2'!Z170","v":0}]
[null,null,null,null,null,"Радиоспорт","165",0,0,null,null,null,0,null,null,null,null,0,null,null,null,0,null,null,null,0,null,null,null,null,null,{"$f":"'Раздел 2'!H171","v":0},{"$f":"'Раздел 2'!Z171","v":0}]
[null,null,null,null,null,"Рафтинг","166",0,0,null,null,null,0,null,null,null,null,0,null,null,null,0,null,null,null,0,null,null,null,null,null,{"$f":"'Раздел 2'!H172","v":0},{"$f":"'Раздел 2'!Z172","v":0}]
[null,null,null,null,null,"Регби - всего","167",0,0,{"$f":"SUM(J174:J179)","v":0},{"$f":"SUM(K174:K179)","v":0},0,0,0,0,0,0,0,0,0,0,0,0,0,0,0,0,0,0,0,0,{"$f":"'Раздел 2'!H173","v":0},{"$f":"'Раздел 2'!Z173","v":0}]
[null,null,null,null,null,"в том числе:\nРегби","168",0,0,null,null,null,0,null,null,null,null,0,null,null,null,0,null,null,null,0,null,null,null,null,null,{"$f":"'Раздел 2'!H174","v":0},{"$f":"'Раздел 2'!Z174","v":0}]
[null,null,null,null,null,"Регби 7 (муж.)","169",0,0,null,null,null,0,null,null,null,null,0,null,null,null,0,null,null,null,0,null,null,null,null,null,{"$f":"'Раздел 2'!H175","v":0},{"$f":"'Раздел 2'!Z175","v":0}]
[null,null,null,null,null,"Регби 7 (жен.)","170",0,0,null,null,null,0,null,null,null,null,0,null,null,null,0,null,null,null,0,null,null,null,null,null,{"$f":"'Раздел 2'!H176","v":0},{"$f":"'Раздел 2'!Z176","v":0}]
[null,null,null,null,null,"Регби - пляжное","171",0,0,null,null,null,0,null,null,null,null,0,null,null,null,0,null,null,null,0,null,null,null,null,null,{"$f":"'Раздел 2'!H177","v":0},{"$f":"'Раздел 2'!Z177","v":0}]
[null,null,null,null,null,"Регби на снегу","172",0,0,null,null,null,0,null,null,null,null,0,null,null,null,0,null,null,null,0,null,null,null,null,null,{"$f":"'Раздел 2'!H178","v":0},{"$f":"'Раздел 2'!Z178","v":0}]
[null,null,null,null,null,"Регби бесконтактное","173",0,0,null,null,null,0,null,null,null,null,0,null,null,null,0,null,null,null,0,null,null,null,null,null,{"$f":"'Раздел 2'!H179","v":0},{"$f":"'Раздел 2'!Z179","v":0}]
[null,null,null,null,null,"Регбол","174",0,0,null,null,null,0,null,null,null,null,0,null,null,null,0,null,null,null,0,null,null,null,null,null,{"$f":"'Раздел 2'!H180","v":0},{"$f":"'Раздел 2'!Z180","v":0}]
[null,null,null,null,null,"Роллер спорт","175",0,0,null,null,null,0,null,null,null,null,0,null,null,null,0,null,null,null,0,null,null,null,null,null,{"$f":"'Раздел 2'!H181","v":0},{"$f":"'Раздел 2'!Z181","v":0}]
[null,null,null,null,null,"Роуп скиппинг (спортивная скакалка)","176",0,0,null,null,null,0,null,null,null,null,0,null,null,null,0,null,null,null,0,null,null,null,null,null,{"$f":"'Раздел 2'!H182","v":0},{"$f":"'Раздел 2'!Z182","v":0}]
[null,null,null,null,null,"Рукопашный бой","177",25,25,4,3,18,0,null,null,null,null,17,3,3,11,0,null,null,null,0,null,null,null,null,null,{"$f":"'Раздел 2'!H183","v":1},{"$f":"'Раздел 2'!Z183","v":0}]
[null,null,null,null,null,"Рыболовный спорт","178",0,0,null,null,null,0,null,null,null,null,0,null,null,null,0,null,null,null,0,null,null,null,null,null,{"$f":"'Раздел 2'!H184","v":0},{"$f":"'Раздел 2'!Z184","v":0}]
[null,null,null,null,null,"Сават","179",0,0,null,null,null,0,null,null,null,null,0,null,null,null,0,null,null,null,0,null,null,null,null,null,{"$f":"'Раздел 2'!H185","v":0},{"$f":"'Раздел 2'!Z185","v":0}]
[null,null,null,null,null,"Самбо","180",0,0,null,null,null,0,null,null,null,null,0,null,null,null,0,null,null,null,0,null,null,null,null,null,{"$f":"'Раздел 2'!H186","v":0},{"$f":"'Раздел 2'!Z186","v":0}]
[null,null,null,null,null,"Самолетный спорт","181",0,0,null,null,null,0,null,null,null,null,0,null,null,null,0,null,null,null,0,null,null,null,null,null,{"$f":"'Раздел 2'!H187","v":0},{"$f":"'Раздел 2'!Z187","v":0}]
[null,null,null,null,null,"Санный спорт","182",0,0,null,null,null,0,null,null,null,null,0,null,null,null,0,null,null,null,0,null,null,null,null,null,{"$f":"'Раздел 2'!H188","v":0},{"$f":"'Раздел 2'!Z188","v":0}]
[null,null,null,null,null,"Северное многоборье","183",49,48,2,null,46,1,null,null,1,null,50,null,null,50,0,null,null,null,0,null,null,null,null,null,{"$f":"'Раздел 2'!H189","v":1},{"$f":"'Раздел 2'!Z189","v":0}]
[null,null,null,null,null,"Серфинг","184",0,0,null,null,null,0,null,null,null,null,0,null,null,null,0,null,null,null,0,null,null,null,null,null,{"$f":"'Раздел 2'!H190","v":0},{"$f":"'Раздел 2'!Z190","v":0}]
[null,null,null,null,null,"Силовой спорт","185",0,0,null,null,null,0,null,null,null,null,0,null,null,null,0,null,null,null,0,null,null,null,null,null,{"$f":"'Раздел 2'!H191","v":0},{"$f":"'Раздел 2'!Z191","v":0}]
[null,null,null,null,null,"Силовой экстрим","186",0,0,null,null,null,0,null,null,null,null,0,null,null,null,0,null,null,null,0,null,null,null,null,null,{"$f":"'Раздел 2'!H192","v":0},{"$f":"'Раздел 2'!Z192","v":0}]
[null,null,null,null,null,"Синхронное плавание","187",0,0,null,null,null,0,null,null,null,null,0,null,null,null,0,null,null,null,0,null,null,null,null,null,{"$f":"'Раздел 2'!H193","v":0},{"$f":"'Раздел 2'!Z193","v":0}]
[null,null,null,null,null,"Скалолазание - всего","188",0,0,{"$f":"SUM(J195:J197)","v":0},{"$f":"SUM(K195:K197)","v":0},0,0,0,0,0,0,0,0,0,0,0,0,0,0,0,0,0,0,0,0,{"$f":"'Раздел 2'!H194","v":0},{"$f":"'Раздел 2'!Z194","v":0}]
[null,null,null,null,null,"в том числе:\nДвоеборье","189",0,0,null,null,null,0,null,null,null,null,0,null,null,null,0,null,null,null,0,null,null,null,null,null,{"$f":"'Раздел 2'!H195","v":0},{"$f":"'Раздел 2'!Z195","v":0}]
[null,null,null,null,null,"Лазание на скорость","190",0,0,null,null,null,0,null,null,null,null,0,null,null,null,0,null,null,null,0,null,null,null,null,null,{"$f":"'Раздел 2'!H196","v":0},{"$f":"'Раздел 2'!Z196","v":0}]
[null,null,null,null,null,"Иные дисциплины вида спорта \"скалолазание\"","191",0,0,null,null,null,0,null,null,null,null,0,null,null,null,0,null,null,null,0,null,null,null,null,null,{"$f":"'Раздел 2'!H197","v":0},{"$f":"'Раздел 2'!Z197","v":0}]
[null,null,null,null,null,"Сквош","192",0,0,null,null,null,0,null,null,null,null,0,null,null,null,0,null,null,null,0,null,null,null,null,null,{"$f":"'Раздел 2'!H198","v":0},{"$f":"'Раздел 2'!Z198","v":0}]
[null,null,null,null,null,"Скейтбординг","193",0,0,null,null,null,0,null,null,null,null,0,null,null,null,0,null,null,null,0,null,null,null,null,null,{"$f":"'Раздел 2'!H199","v":0},{"$f":"'Раздел 2'!Z199","v":0}]
[null,null,null,null,null,"Служебно-боевая стрельба","194",{"$f":"SUM(I200,M200)","v":0},{"$f":"SUM(J200:L200)","v":0},null,null,null,{"$f":"SUM(N200:Q200)","v":0},null,null,null,null,{"$f":"SUM(S200:U200)","v":0},null,null,null,{"$f":"SUM(W200:Y200)","v":0},null,null,null,{"$f":"SUM(AA200:AD200)","v":0},null,null,null,null,null,{"$f":"'Раздел 2'!H200","v":0},{"$f":"'Раздел 2'!Z200","v":0}]
[null,null,null,null,null,"Служебное двоеборье","195",0,0,null,null,null,0,null,null,null,null,0,null,null,null,0,null,null,null,0,null,null,null,null,null,{"$f":"'Раздел 2'!H201","v":0},{"$f":"'Раздел 2'!Z201","v":0}]
[null,null,null,null,null,"Служебное единоборство","196",0,0,null,null,null,0,null,null,null,null,0,null,null,null,0,null,null,null,0,null,null,null,null,null,{"$f":"'Раздел 2'!H202","v":0},{"$f":"'Раздел 2'!Z202","v":0}]
[null,null,null,null,null,"Служебное многоборье","197",0,0,null,null,null,0,null,null,null,null,0,null,null,null,0,null,null,null,0,null,null,null,null,null,{"$f":"'Раздел 2'!H203","v":0},{"$f":"'Раздел 2'!Z203","v":0}]
[null,null,null,null,null,"Служебно-прикладной спорт","198",0,0,null,null,null,0,null,null,null,null,0,null,null,null,0,null,null,null,0,null,null,null,null,null,{"$f":"'Раздел 2'!H204","v":0},{"$f":"'Раздел 2'!Z204","v":0}]
[null,null,null,null,null,"Служебно-прикладной спорт ФСО России","199",0,0,null,null,null,0,null,null,null,null,0,null,null,null,0,null,null,null,0,null,null,null,null,null,{"$f":"'Раздел 2'!H205","v":0},{"$f":"'Раздел 2'!Z205","v":0}]
[null,null,null,null,null,"Служебно-прикладной спорт ФТС России","200",0,0,null,null,null,0,null,null,null,null,0,null,null,null,0,null,null,null,0,null,null,null,null,null,{"$f":"'Раздел 2'!H206","v":0},{"$f":"'Раздел 2'!Z206","v":0}]
[null,null,null,null,null,"Служебный биатлон","201",0,0,null,null,null,0,null,null,null,null,0,null,null,null,0,null,null,null,0,null,null,null,null,null,{"$f":"'Раздел 2'!H207","v":0},{"$f":"'Раздел 2'!Z207","v":0}]
[null,null,null,null,null,"Смешанное боевое единоборство (ММА)","202",33,33,1,2,30,0,null,null,null,null,19,1,1,17,0,null,null,null,0,null,null,null,null,null,{"$f":"'Раздел 2'!H208","v":1},{"$f":"'Раздел 2'!Z208","v":0}]
[null,null,null,null,null,"Сноуборд - всего","203",0,0,{"$f":"SUM(J210:J214)","v":0},{"$f":"SUM(K210:K214)","v":0},0,0,0,0,0,0,0,0,0,0,0,0,0,0,0,0,0,0,0,0,{"$f":"'Раздел 2'!H209","v":0},{"$f":"'Раздел 2'!Z209","v":0}]
[null,null,null,null,null,"в том числе:\nСноуборд-кросс","204",0,0,null,null,null,0,null,null,null,null,0,null,null,null,0,null,null,null,0,null,null,null,null,null,{"$f":"'Раздел 2'!H210","v":0},{"$f":"'Раздел 2'!Z210","v":0}]
[null,null,null,null,null,"Параллельный слалом","205",0,0,null,null,null,0,null,null,null,null,0,null,null,null,0,null,null,null,0,null,null,null,null,null,{"$f":"'Раздел 2'!H211","v":0},{"$f":"'Раздел 2'!Z211","v":0}]
[null,null,null,null,null,"Хаф-пайп","206",0,0,null,null,null,0,null,null,null,null,0,null,null,null,0,null,null,null,0,null,null,null,null,null,{"$f":"'Раздел 2'!H212","v":0},{"$f":"'Раздел 2'!Z212","v":0}]
[null,null,null,null,null,"Биг-эйр","207",0,0,null,null,null,0,null,null,null,null,0,null,null,null,0,null,null,null,0,null,null,null,null,null,{"$f":"'Раздел 2'!H213","v":0},{"$f":"'Раздел 2'!Z213","v":0}]
[null,null,null,null,null,"Слоупстайл","208",0,0,null,null,null,0,null,null,null,null,0,null,null,null,0,null,null,null,0,null,null,null,null,null,{"$f":"'Раздел 2'!H214","v":0},{"$f":"'Раздел 2'!Z214","v":0}]
[null,null,null,null,null,"Современное пятиборье","209",0,0,null,null,null,0,null,null,null,null,0,null,null,null,0,null,null,null,0,null,null,null,null,null,{"$f":"'Раздел 2'!H215","v":0},{"$f":"'Раздел 2'!Z215","v":0}]
[null,null,null,null,null,"Софтбол","210",0,0,null,null,null,0,null,null,null,null,0,null,null,null,0,null,null,null,0,null,null,null,null,null,{"$f":"'Раздел 2'!H216","v":0},{"$f":"'Раздел 2'!Z216","v":0}]
[null,null,null,null,null,"Спасательный спорт","211",0,0,null,null,null,0,null,null,null,null,0,null,null,null,0,null,null,null,0,null,null,null,null,null,{"$f":"'Раздел 2'!H217","v":0},{"$f":"'Раздел 2'!Z217","v":0}]
[null,null,null,null,null,"Спорт сверхлегкой авиации","212",0,0,null,null,null,0,null,null,null,null,0,null,null,null,0,null,null,null,0,null,null,null,null,null,{"$f":"'Раздел 2'!H218","v":0},{"$f":"'Раздел 2'!Z218","v":0}]
[null,null,null,null,null,"Спортивная акробатика","213",207,200,31,23,146,7,null,null,7,null,258,22,23,213,0,null,null,null,1,null,null,1,null,null,{"$f":"'Раздел 2'!H219","v":1},{"$f":"'Раздел 2'!Z219","v":0}]
[null,null,null,null,null,"Спортивная аэробика","214",184,183,7,9,167,1,null,null,1,null,195,7,1,187,0,null,null,null,2,null,null,2,null,null,{"$f":"'Раздел 2'!H220","v":1},{"$f":"'Раздел 2'!Z220","v":0}]
[null,null,null,null,null,"Спортивная борьба - всего","215",0,0,{"$f":"SUM(J222:J226)","v":0},{"$f":"SUM(K222:K226)","v":0},0,0,0,0,0,0,0,0,0,0,0,0,0,0,0,0,0,0,0,0,{"$f":"'Раздел 2'!H221","v":0},{"$f":"'Раздел 2'!Z221","v":0}]
[null,null,null,null,null,"в том числе:\nВольная борьба","216",0,0,null,null,null,0,null,null,null,null,0,null,null,null,0,null,null,null,0,null,null,null,null,null,{"$f":"'Раздел 2'!H222","v":0},{"$f":"'Раздел 2'!Z222","v":0}]
[null,null,null,null,null,"Греко-римская борьба","217",0,0,null,null,null,0,null,null,null,null,0,null,null,null,0,null,null,null,0,null,null,null,null,null,{"$f":"'Раздел 2'!H223","v":0},{"$f":"'Раздел 2'!Z223","v":0}]
[null,null,null,null,null,"Грэпплинг","218",0,0,null,null,null,0,null,null,null,null,0,null,null,null,0,null,null,null,0,null,null,null,null,null,{"$f":"'Раздел 2'!H224","v":0},{"$f":"'Раздел 2'!Z224","v":0}]
[null,null,null,null,null,"Панкратион","219",0,0,null,null,null,0,null,null,null,null,0,null,null,null,0,null,null,null,0,null,null,null,null,null,{"$f":"'Раздел 2'!H225","v":0},{"$f":"'Раздел 2'!Z225","v":0}]
[null,null,null,null,null,"Пляжная борьба","220",0,0,null,null,null,0,null,null,null,null,0,null,null,null,0,null,null,null,0,null,null,null,null,null,{"$f":"'Раздел 2'!H226","v":0},{"$f":"'Раздел 2'!Z226","v":0}]
[null,null,null,null,null,"Спортивная гимнастика","221",0,0,null,null,null,0,null,null,null,null,0,null,null,null,0,null,null,null,0,null,null,null,null,null,{"$f":"'Раздел 2'!H227","v":0},{"$f":"'Раздел 2'!Z227","v":0}]
[null,null,null,null,null,"Спортивная йога","222",0,0,null,null,null,0,null,null,null,null,0,null,null,null,0,null,null,null,0,null,null,null,null,null,{"$f":"'Раздел 2'!H228","v":0},{"$f":"'Раздел 2'!Z228","v":0}]
[null,null,null,null,null,"Спортивное метание ножа","223",0,0,null,null,null,0,null,null,null,null,0,null,null,null,0,null,null,null,0,null,null,null,null,null,{"$f":"'Раздел 2'!H229","v":0},{"$f":"'Раздел 2'!Z229","v":0}]
[null,null,null,null,null,"Спортивное ориентирование","224",0,0,null,null,null,0,null,null,null,null,0,null,null,null,0,null,null,null,0,null,null,null,null,null,{"$f":"'Раздел 2'!H230","v":0},{"$f":"'Раздел 2'!Z230","v":0}]
[null,null,null,null,null,"Спортивное программирование - всего","225",0,0,{"$f":"SUM(J232:J236)","v":0},{"$f":"SUM(K232:K236)","v":0},0,0,0,0,0,0,0,0,0,0,0,0,0,0,0,0,0,0,0,0,{"$f":"'Раздел 2'!H231","v":0},{"$f":"'Раздел 2'!Z231","v":0}]
[null,null,null,null,null,"в том числе:\nПрограммирование алгоритмическое","226",0,0,null,null,null,0,null,null,null,null,0,null,null,null,0,null,null,null,0,null,null,null,null,null,{"$f":"'Раздел 2'!H232","v":0},{"$f":"'Раздел 2'!Z232","v":0}]
[null,null,null,null,null,"Программирование продуктовое","227",0,0,null,null,null,0,null,null,null,null,0,null,null,null,0,null,null,null,0,null,null,null,null,null,{"$f":"'Раздел 2'!H233","v":0},{"$f":"'Раздел 2'!Z233","v":0}]
[null,null,null,null,null,"Программирование беспилотных авиационных систем","228",0,0,null,null,null,0,null,null,null,null,0,null,null,null,0,null,null,null,0,null,null,null,null,null,{"$f":"'Раздел 2'!H234","v":0},{"$f":"'Раздел 2'!Z234","v":0}]
[null,null,null,null,null,"Программирование робототехники","229",0,0,null,null,null,0,null,null,null,null,0,null,null,null,0,null,null,null,0,null,null,null,null,null,{"$f":"'Раздел 2'!H235","v":0},{"$f":"'Раздел 2'!Z235","v":0}]
[null,null,null,null,null,"Программирование систем информационной безопасности","230",0,0,null,null,null,0,null,null,null,null,0,null,null,null,0,null,null,null,0,null,null,null,null,null,{"$f":"'Раздел 2'!H236","v":0},{"$f":"'Раздел 2'!Z236","v":0}]
[null,null,null,null,null,"Спортивно-прикладное собаководство","231",0,0,null,null,null,0,null,null,null,null,0,null,null,null,0,null,null,null,0,null,null,null,null,null,{"$f":"'Раздел 2'!H237","v":0},{"$f":"'Раздел 2'!Z237","v":0}]
[null,null,null,null,null,"Спортивный бридж","232",0,0,null,null,null,0,null,null,null,null,0,null,null,null,0,null,null,null,0,null,null,null,null,null,{"$f":"'Раздел 2'!H238","v":0},{"$f":"'Раздел 2'!Z238","v":0}]
[null,null,null,null,null,"Спортивный туризм","233",27,25,7,5,13,2,null,null,2,null,8,1,1,6,0,null,null,null,0,null,null,null,null,null,{"$f":"'Раздел 2'!H239","v":1},{"$f":"'Раздел 2'!Z239","v":0}]
[null,null,null,null,null,"Стендовая стрельба - всего","234",0,0,{"$f":"SUM(J241:J243)","v":0},{"$f":"SUM(K241:K243)","v":0},0,0,0,0,0,0,0,0,0,0,0,0,0,0,0,0,0,0,0,0,{"$f":"'Раздел 2'!H240","v":0},{"$f":"'Раздел 2'!Z240","v":0}]
[null,null,null,null,null,"в том числе:\nТрап","235",0,0,null,null,null,0,null,null,null,null,0,null,null,null,0,null,null,null,0,null,null,null,null,null,{"$f":"'Раздел 2'!H241","v":0},{"$f":"'Раздел 2'!Z241","v":0}]
[null,null,null,null,null,"Скит","236",0,0,null,null,null,0,null,null,null,null,0,null,null,null,0,null,null,null,0,null,null,null,null,null,{"$f":"'Раздел 2'!H242","v":0},{"$f":"'Раздел 2'!Z242","v":0}]
[null,null,null,null,null,"Иные дисциплины вида спорта \"стендовая стрельба\"","237",0,0,null,null,null,0,null,null,null,null,0,null,null,null,0,null,null,null,0,null,null,null,null,null,{"$f":"'Раздел 2'!H243","v":0},{"$f":"'Раздел 2'!Z243","v":0}]
[null,null,null,null,null,"Страйкбол","238",0,0,null,null,null,0,null,null,null,null,0,null,null,null,0,null,null,null,0,null,null,null,null,null,{"$f":"'Раздел 2'!H244","v":0},{"$f":"'Раздел 2'!Z244","v":0}]
[null,null,null,null,null,"Стрельба из арбалета","239",0,0,null,null,null,0,null,null,null,null,0,null,null,null,0,null,null,null,0,null,null,null,null,null,{"$f":"'Раздел 2'!H245","v":0},{"$f":"'Раздел 2'!Z245","v":0}]
[null,null,null,null,null,"Стрельба из боевого ручного стрелкового оружия","240",0,0,null,null,null,0,null,null,null,null,0,null,null,null,0,null,null,null,0,null,null,null,null,null,{"$f":"'Раздел 2'!H246","v":0},{"$f":"'Раздел 2'!Z246","v":0}]
[null,null,null,null,null,"Стрельба из лука - всего","241",0,0,{"$f":"SUM(J248:J251)","v":0},{"$f":"SUM(K248:K251)","v":0},0,0,0,0,0,0,0,0,0,0,0,0,0,0,0,0,0,0,0,0,{"$f":"'Раздел 2'!H247","v":0},{"$f":"'Раздел 2'!Z247","v":0}]
[null,null,null,null,null,"в том числе:\nКлассический лук","242",0,0,null,null,null,0,null,null,null,null,0,null,null,null,0,null,null,null,0,null,null,null,null,null,{"$f":"'Раздел 2'!H248","v":0},{"$f":"'Раздел 2'!Z248","v":0}]
[null,null,null,null,null,"Блочный лук","243",0,0,null,null,null,0,null,null,null,null,0,null,null,null,0,null,null,null,0,null,null,null,null,null,{"$f":"'Раздел 2'!H249","v":0},{"$f":"'Раздел 2'!Z249","v":0}]
[null,null,null,null,null,"Ачери ","244",0,0,null,null,null,0,null,null,null,null,0,null,null,null,0,null,null,null,0,null,null,null,null,null,{"$f":"'Раздел 2'!H250","v":0},{"$f":"'Раздел 2'!Z250","v":0}]
[null,null,null,null,null,"Иные дисциплины вида спорта \"стрельба из лука\"","245",0,0,null,null,null,0,null,null,null,null,0,null,null,null,0,null,null,null,0,null,null,null,null,null,{"$f":"'Раздел 2'!H251","v":0},{"$f":"'Раздел 2'!Z251","v":0}]
[null,null,null,null,null,"Стрельба из штатного или табельного оружия","246",0,0,null,null,null,0,null,null,null,null,0,null,null,null,0,null,null,null,0,null,null,null,null,null,{"$f":"'Раздел 2'!H252","v":0},{"$f":"'Раздел 2'!Z252","v":0}]
[null,null,null,null,null,"Стрельба на дальние дистанции","247",0,0,null,null,null,0,null,null,null,null,0,null,null,null,0,null,null,null,0,null,null,null,null,null,{"$f":"'Раздел 2'!H253","v":0},{"$f":"'Раздел 2'!Z253","v":0}]
[null,null,null,null,null,"Судомодельный спорт","248",0,0,null,null,null,0,null,null,null,null,0,null,null,null,0,null,null,null,0,null,null,null,null,null,{"$f":"'Раздел 2'!H254","v":0},{"$f":"'Раздел 2'!Z254","v":0}]
[null,null,null,null,null,"Сумо","249",0,0,null,null,null,0,null,null,null,null,0,null,null,null,0,null,null,null,0,null,null,null,null,null,{"$f":"'Раздел 2'!H255","v":0},{"$f":"'Раздел 2'!Z255","v":0}]
[null,null,null,null,null,"Таврели","250",0,0,null,null,null,0,null,null,null,null,0,null,null,null,0,null,null,null,0,null,null,null,null,null,{"$f":"'Раздел 2'!H256","v":0},{"$f":"'Раздел 2'!Z256","v":0}]
[null,null,null,null,null,"Танцевальный спорт","251",6,6,null,3,3,0,null,null,null,null,5,null,4,1,0,null,null,null,0,null,null,null,null,null,{"$f":"'Раздел 2'!H257","v":1},{"$f":"'Раздел 2'!Z257","v":0}]
[null,null,null,null,null,"Теннис","252",0,0,null,null,null,0,null,null,null,null,0,null,null,null,0,null,null,null,0,null,null,null,null,null,{"$f":"'Раздел 2'!H258","v":0},{"$f":"'Раздел 2'!Z258","v":0}]
[null,null,null,null,null,"Триатлон","253",0,0,null,null,null,0,null,null,null,null,0,null,null,null,0,null,null,null,0,null,null,null,null,null,{"$f":"'Раздел 2'!H259","v":0},{"$f":"'Раздел 2'!Z259","v":0}]
[null,null,null,null,null,"Тхэквондо ВТФ","254",0,0,null,null,null,0,null,null,null,null,0,null,null,null,0,null,null,null,0,null,null,null,null,null,{"$f":"'Раздел 2'!H260","v":0},{"$f":"'Раздел 2'!Z260","v":0}]
[null,null,null,null,null,"Тхэквондо ГТФ","255",0,0,null,null,null,0,null,null,null,null,0,null,null,null,0,null,null,null,0,null,null,null,null,null,{"$f":"'Раздел 2'!H261","v":0},{"$f":"'Раздел 2'!Z261","v":0}]
[null,null,null,null,null,"Тхэквондо ИТФ","256",0,0,null,null,null,0,null,null,null,null,0,null,null,null,0,null,null,null,0,null,null,null,null,null,{"$f":"'Раздел 2'!H262","v":0},{"$f":"'Раздел 2'!Z262","v":0}]
[null,null,null,null,null,"Тхэквондо МФТ","257",0,0,null,null,null,0,null,null,null,null,0,null,null,null,0,null,null,null,0,null,null,null,null,null,{"$f":"'Раздел 2'!H263","v":0},{"$f":"'Раздел 2'!Z263","v":0}]
[null,null,null,null,null,"Тяжелая атлетика","258",{"$f":"SUM(I264,M264)","v":0},{"$f":"SUM(J264:L264)","v":0},null,null,null,{"$f":"SUM(N264:Q264)","v":0},null,null,null,null,{"$f":"SUM(S264:U264)","v":0},null,null,null,{"$f":"SUM(W264:Y264)","v":0},null,null,null,{"$f":"SUM(AA264:AD264)","v":0},null,null,null,null,null,{"$f":"'Раздел 2'!H264","v":0},{"$f":"'Раздел 2'!Z264","v":0}]
[null,null,null,null,null,"Универсальный бой","259",0,0,null,null,null,0,null,null,null,null,0,null,null,null,0,null,null,null,0,null,null,null,null,null,{"$f":"'Раздел 2'!H265","v":0},{"$f":"'Раздел 2'!Z265","v":0}]
[null,null,null,null,null,"Ушу","260",40,40,26,4,10,0,null,null,null,null,20,15,1,4,0,null,null,null,0,null,null,null,null,null,{"$f":"'Раздел 2'!H266","v":1},{"$f":"'Раздел 2'!Z266","v":0}]
[null,null,null,null,null,"Фехтование - всего","261",0,0,{"$f":"SUM(J268:J271)","v":0},{"$f":"SUM(K268:K271)","v":0},0,0,0,0,0,0,0,0,0,0,0,0,0,0,0,0,0,0,0,0,{"$f":"'Раздел 2'!H267","v":0},{"$f":"'Раздел 2'!Z267","v":0}]
[null,null,null,null,null,"в том числе:\nРапира","262",0,0,null,null,null,0,null,null,null,null,0,null,null,null,0,null,null,null,0,null,null,null,null,null,{"$f":"'Раздел 2'!H268","v":0},{"$f":"'Раздел 2'!Z268","v":0}]
[null,null,null,null,null,"Сабля","263",0,0,null,null,null,0,null,null,null,null,0,null,null,null,0,null,null,null,0,null,null,null,null,null,{"$f":"'Раздел 2'!H269","v":0},{"$f":"'Раздел 2'!Z269","v":0}]
[null,null,null,null,null,"Шпага","264",0,0,null,null,null,0,null,null,null,null,0,null,null,null,0,null,null,null,0,null,null,null,null,null,{"$f":"'Раздел 2'!H270","v":0},{"$f":"'Раздел 2'!Z270","v":0}]
[null,null,null,null,null,"Арт-фехтование","265",0,0,null,null,null,0,null,null,null,null,0,null,null,null,0,null,null,null,0,null,null,null,null,null,{"$f":"'Раздел 2'!H271","v":0},{"$f":"'Раздел 2'!Z271","v":0}]
[null,null,null,null,null,"Фигурное катание на коньках","266",0,0,null,null,null,0,null,null,null,null,0,null,null,null,0,null,null,null,0,null,null,null,null,null,{"$f":"'Раздел 2'!H272","v":0},{"$f":"'Раздел 2'!Z272","v":0}]
[null,null,null,null,null,"Фиджитал спорт (функционально-цифровой спорт) - всего","267",0,0,{"$f":"SUM(J274:J278)","v":0},{"$f":"SUM(K274:K278)","v":0},0,0,0,0,0,0,0,0,0,0,0,0,0,0,0,0,0,0,0,0,{"$f":"'Раздел 2'!H273","v":0},{"$f":"'Раздел 2'!Z273","v":0}]
[null,null,null,null,null,"в том числе:\nДвоеборье - автомодель","268",0,0,null,null,null,0,null,null,null,null,0,null,null,null,0,null,null,null,0,null,null,null,null,null,{"$f":"'Раздел 2'!H274","v":0},{"$f":"'Раздел 2'!Z274","v":0}]
[null,null,null,null,null,"Двоеборье - единоборство","269",0,0,null,null,null,0,null,null,null,null,0,null,null,null,0,null,null,null,0,null,null,null,null,null,{"$f":"'Раздел 2'!H275","v":0},{"$f":"'Раздел 2'!Z275","v":0}]
[null,null,null,null,null,"Двоеборье - тактическая стрельба","270",0,0,null,null,null,0,null,null,null,null,0,null,null,null,0,null,null,null,0,null,null,null,null,null,{"$f":"'Раздел 2'!H276","v":0},{"$f":"'Раздел 2'!Z276","v":0}]
[null,null,null,null,null,"Преследование с препятствиями","271",0,0,null,null,null,0,null,null,null,null,0,null,null,null,0,null,null,null,0,null,null,null,null,null,{"$f":"'Раздел 2'!H277","v":0},{"$f":"'Раздел 2'!Z277","v":0}]
[null,null,null,null,null,"Ритм - симулятор","272",0,0,null,null,null,0,null,null,null,null,0,null,null,null,0,null,null,null,0,null,null,null,null,null,{"$f":"'Раздел 2'!H278","v":0},{"$f":"'Раздел 2'!Z278","v":0}]
[null,null,null,null,null,"Фитнес-аэробика","273",0,0,null,null,null,0,null,null,null,null,0,null,null,null,0,null,null,null,0,null,null,null,null,null,{"$f":"'Раздел 2'!H279","v":0},{"$f":"'Раздел 2'!Z279","v":0}]
[null,null,null,null,null,"Флаинг диск","274",0,0,null,null,null,0,null,null,null,null,0,null,null,null,0,null,null,null,0,null,null,null,null,null,{"$f":"'Раздел 2'!H280","v":0},{"$f":"'Раздел 2'!Z280","v":0}]
[null,null,null,null,null,"Флорбол","275",0,0,null,null,null,0,null,null,null,null,0,null,null,null,0,null,null,null,0,null,null,null,null,null,{"$f":"'Раздел 2'!H281","v":0},{"$f":"'Раздел 2'!Z281","v":0}]
[null,null,null,null,null,"Фристайл - всего","276",0,0,{"$f":"SUM(J283:J288)","v":0},{"$f":"SUM(K283:K288)","v":0},0,0,0,0,0,0,0,0,0,0,0,0,0,0,0,0,0,0,0,0,{"$f":"'Раздел 2'!H282","v":0},{"$f":"'Раздел 2'!Z282","v":0}]
[null,null,null,null,null,"в том числе:\nАкробатика","277",0,0,null,null,null,0,null,null,null,null,0,null,null,null,0,null,null,null,0,null,null,null,null,null,{"$f":"'Раздел 2'!H283","v":0},{"$f":"'Раздел 2'!Z283","v":0}]
[null,null,null,null,null,"Биг-эйр","278",0,0,null,null,null,0,null,null,null,null,0,null,null,null,0,null,null,null,0,null,null,null,null,null,{"$f":"'Раздел 2'!H284","v":0},{"$f":"'Раздел 2'!Z284","v":0}]
[null,null,null,null,null,"Могул","279",0,0,null,null,null,0,null,null,null,null,0,null,null,null,0,null,null,null,0,null,null,null,null,null,{"$f":"'Раздел 2'!H285","v":0},{"$f":"'Раздел 2'!Z285","v":0}]
[null,null,null,null,null,"Ски-кросс","280",0,0,null,null,null,0,null,null,null,null,0,null,null,null,0,null,null,null,0,null,null,null,null,null,{"$f":"'Раздел 2'!H286","v":0},{"$f":"'Раздел 2'!Z286","v":0}]
[null,null,null,null,null,"Хаф-пайп","281",0,0,null,null,null,0,null,null,null,null,0,null,null,null,0,null,null,null,0,null,null,null,null,null,{"$f":"'Раздел 2'!H287","v":0},{"$f":"'Раздел 2'!Z287","v":0}]
[null,null,null,null,null,"Слоупстайл","282",0,0,null,null,null,0,null,null,null,null,0,null,null,null,0,null,null,null,0,null,null,null,null,null,{"$f":"'Раздел 2'!H288","v":0},{"$f":"'Раздел 2'!Z288","v":0}]
[null,null,null,null,null,"Функциональное многоборье","283",0,0,null,null,null,0,null,null,null,null,0,null,null,null,0,null,null,null,0,null,null,null,null,null,{"$f":"'Раздел 2'!H289","v":0},{"$f":"'Раздел 2'!Z289","v":0}]
[null,null,null,null,null,"Футбол - всего","284",0,0,{"$f":"SUM(J291:J297)","v":0},{"$f":"SUM(K291:K297)","v":0},0,0,0,0,0,0,0,0,0,0,0,0,0,0,0,0,0,0,0,0,{"$f":"'Раздел 2'!H290","v":1},{"$f":"'Раздел 2'!Z290","v":0}]
[null,null,null,null,null,"в том числе:\nФутбол (муж.)","285",0,0,null,null,null,0,null,null,null,null,0,null,null,null,0,null,null,null,0,null,null,null,null,null,{"$f":"'Раздел 2'!H291","v":0},{"$f":"'Раздел 2'!Z291","v":0}]
[null,null,null,null,null,"Футбол (жен.)","286",0,0,null,null,null,0,null,null,null,null,0,null,null,null,0,null,null,null,0,null,null,null,null,null,{"$f":"'Раздел 2'!H292","v":0},{"$f":"'Раздел 2'!Z292","v":0}]
[null,null,null,null,null,"Интерактивный футбол","287",0,0,null,null,null,0,null,null,null,null,0,null,null,null,0,null,null,null,0,null,null,null,null,null,{"$f":"'Раздел 2'!H293","v":0},{"$f":"'Раздел 2'!Z293","v":0}]
[null,null,null,null,null,"Мини-футбол","288",0,0,null,null,null,0,null,null,null,null,0,null,null,null,0,null,null,null,0,null,null,null,null,null,{"$f":"'Раздел 2'!H294","v":0},{"$f":"'Раздел 2'!Z294","v":0}]
[null,null,null,null,null,"Пляжный футбол","289",0,0,null,null,null,0,null,null,null,null,0,null,null,null,0,null,null,null,0,null,null,null,null,null,{"$f":"'Раздел 2'!H295","v":0},{"$f":"'Раздел 2'!Z295","v":0}]
[null,null,null,null,null,"Футбольное двоеборье","290",0,0,null,null,null,0,null,null,null,null,0,null,null,null,0,null,null,null,0,null,null,null,null,null,{"$f":"'Раздел 2'!H296","v":0},{"$f":"'Раздел 2'!Z296","v":0}]
[null,null,null,null,null,"Футзал","291",0,0,null,null,null,0,null,null,null,null,0,null,null,null,0,null,null,null,0,null,null,null,null,null,{"$f":"'Раздел 2'!H297","v":1},{"$f":"'Раздел 2'!Z297","v":0}]
[null,null,null,null,null,"Хапкидо","292",0,0,null,null,null,0,null,null,null,null,0,null,null,null,0,null,null,null,0,null,null,null,null,null,{"$f":"'Раздел 2'!H298","v":0},{"$f":"'Раздел 2'!Z298","v":0}]
[null,null,null,null,null,"Хапсагай","293",0,0,null,null,null,0,null,null,null,null,0,null,null,null,0,null,null,null,0,null,null,null,null,null,{"$f":"'Раздел 2'!H299","v":0},{"$f":"'Раздел 2'!Z299","v":0}]
[null,null,null,null,null,"Хоккей - всего","294",0,0,{"$f":"SUM(J301:J305)","v":0},{"$f":"SUM(K301:K305)","v":0},0,0,0,0,0,0,0,0,0,0,0,0,0,0,0,0,0,0,0,0,{"$f":"'Раздел 2'!H300","v":0},{"$f":"'Раздел 2'!Z300","v":0}]
[null,null,null,null,null,"в том числе:\nХоккей (муж.)","295",0,0,null,null,null,0,null,null,null,null,0,null,null,null,0,null,null,null,0,null,null,null,null,null,{"$f":"'Раздел 2'!H301","v":0},{"$f":"'Раздел 2'!Z301","v":0}]
[null,null,null,null,null,"Хоккей (жен.)","296",0,0,null,null,null,0,null,null,null,null,0,null,null,null,0,null,null,null,0,null,null,null,null,null,{"$f":"'Раздел 2'!H302","v":0},{"$f":"'Раздел 2'!Z302","v":0}]
[null,null,null,null,null,"Хоккейное двоеборье","297",0,0,null,null,null,0,null,null,null,null,0,null,null,null,0,null,null,null,0,null,null,null,null,null,{"$f":"'Раздел 2'!H303","v":0},{"$f":"'Раздел 2'!Z303","v":0}]
[null,null,null,null,null,"Хоккей 2х2, 3х3, 4х4","298",0,0,null,null,null,0,null,null,null,null,0,null,null,null,0,null,null,null,0,null,null,null,null,null,{"$f":"'Раздел 2'!H304","v":0},{"$f":"'Раздел 2'!Z304","v":0}]
[null,null,null,null,null,"Интерактивный хоккей","299",0,0,null,null,null,0,null,null,null,null,0,null,null,null,0,null,null,null,0,null,null,null,null,null,{"$f":"'Раздел 2'!H305","v":0},{"$f":"'Раздел 2'!Z305","v":0}]
[null,null,null,null,null,"Хоккей на траве - всего","300",0,0,{"$f":"SUM(J307:J309)","v":0},{"$f":"SUM(K307:K309)","v":0},0,0,0,0,0,0,0,0,0,0,0,0,0,0,0,0,0,0,0,0,{"$f":"'Раздел 2'!H306","v":0},{"$f":"'Раздел 2'!Z306","v":0}]
[null,null,null,null,null,"в том числе:\nХоккей на траве (муж.)","301",0,0,null,null,null,0,null,null,null,null,0,null,null,null,0,null,null,null,0,null,null,null,null,null,{"$f":"'Раздел 2'!H307","v":0},{"$f":"'Раздел 2'!Z307","v":0}]
[null,null,null,null,null,"Хоккей на траве (жен.)","302",0,0,null,null,null,0,null,null,null,null,0,null,null,null,0,null,null,null,0,null,null,null,null,null,{"$f":"'Раздел 2'!H308","v":0},{"$f":"'Раздел 2'!Z308","v":0}]
[null,null,null,null,null,"Иные дисциплины вида спорта \"хоккей на траве\"","303",0,0,null,null,null,0,null,null,null,null,0,null,null,null,0,null,null,null,0,null,null,null,null,null,{"$f":"'Раздел 2'!H309","v":0},{"$f":"'Раздел 2'!Z309","v":0}]
[null,null,null,null,null,"Хоккей с мячом","304",0,0,null,null,null,0,null,null,null,null,0,null,null,null,0,null,null,null,0,null,null,null,null,null,{"$f":"'Раздел 2'!H310","v":0},{"$f":"'Раздел 2'!Z310","v":0}]
[null,null,null,null,null,"Художественная гимнастика","305",0,0,null,null,null,0,null,null,null,null,0,null,null,null,0,null,null,null,0,null,null,null,null,null,{"$f":"'Раздел 2'!H311","v":0},{"$f":"'Раздел 2'!Z311","v":0}]
[null,null,null,null,null,"Хуреш","306",0,0,null,null,null,0,null,null,null,null,0,null,null,null,0,null,null,null,0,null,null,null,null,null,{"$f":"'Раздел 2'!H312","v":0},{"$f":"'Раздел 2'!Z312","v":0}]
[null,null,null,null,null,"Чир спорт","307",0,0,null,null,null,0,null,null,null,null,0,null,null,null,0,null,null,null,0,null,null,null,null,null,{"$f":"'Раздел 2'!H313","v":0},{"$f":"'Раздел 2'!Z313","v":0}]
[null,null,null,null,null,"Шахбокс","308",0,0,null,null,null,0,null,null,null,null,0,null,null,null,0,null,null,null,0,null,null,null,null,null,{"$f":"'Раздел 2'!H314","v":0},{"$f":"'Раздел 2'!Z314","v":0}]
[null,null,null,null,null,"Шахматы","309",58,58,null,null,58,0,null,null,null,null,61,1,null,60,0,null,null,null,0,null,null,null,null,null,{"$f":"'Раздел 2'!H315","v":1},{"$f":"'Раздел 2'!Z315","v":0}]
[null,null,null,null,null,"Шашки","310",0,0,null,null,null,0,null,null,null,null,0,null,null,null,0,null,null,null,0,null,null,null,null,null,{"$f":"'Раздел 2'!H316","v":0},{"$f":"'Раздел 2'!Z316","v":0}]
[null,null,null,null,null,"Шодсанлат","311",0,0,null,null,null,0,null,null,null,null,0,null,null,null,0,null,null,null,0,null,null,null,null,null,{"$f":"'Раздел 2'!H317","v":0},{"$f":"'Раздел 2'!Z317","v":0}]
[null,null,null,null,null,"Эстетическая гимнастика","312",0,0,null,null,null,0,null,null,null,null,0,null,null,null,0,null,null,null,0,null,null,null,null,null,{"$f":"'Раздел 2'!H318","v":0},{"$f":"'Раздел 2'!Z318","v":0}]
[null,null,null,null,null,"Якутские национальные прыжки","313",0,0,null,null,null,0,null,null,null,null,0,null,null,null,0,null,null,null,0,null,null,null,null,null,{"$f":"'Раздел 2'!H319","v":0},{"$f":"'Раздел 2'!Z319","v":0}]
[null,null,null,null,null,"ИТОГО","314",1072,1051,{"$f":"SUM(J7:J13,J16:J21,J27:J30,J35:J41,J47:J48,J52:J60,J66:J68,J72:J75,J80:J87,J90:J101,J105:J110,J118:J119,J124:J149,J152:J158,J163:J164,J170:J173,J180:J194,J198:J209,J215:J221,J227:J231,J237:J240,J244:J247,J252:J267,J272:J273,J279:J282,J289:J290,J298:J300,J306,J310:J319)","v":102},{"$f":"SUM(K7:K13,K16:K21,K27:K30,K35:K41,K47:K48,K52:K60,K66:K68,K72:K75,K80:K87,K90:K101,K105:K110,K118:K119,K124:K149,K152:K158,K163:K164,K170:K173,K180:K194,K198:K209,K215:K221,K227:K231,K237:K240,K244:K247,K252:K267,K272:K273,K279:K282,K289:K290,K298:K300,K306,K310:K319)","v":75},874,21,{"$f":"SUM(N7:N13,N16:N21,N27:N30,N35:N41,N47:N48,N52:N60,N66:N68,N72:N75,N80:N87,N90:N101,N105:N110,N118:N119,N124:N149,N152:N158,N163:N164,N170:N173,N180:N194,N198:N209,N215:N221,N227:N231,N237:N240,N244:N247,N252:N267,N272:N273,N279:N282,N289:N290,N298:N300,N306,N310:N319)","v":0},3,18,0,1162,62,63,1037,0,0,0,0,4,0,1,3,0,0,null,{"$f":"'Раздел 2'!Z320","v":0}]

{"sheet":"Раздел 5","index":5,"n_rows":323,"n_cols":21,"rows_kept":323,"cut":false,"hidden":false,"merged":[[5,18,6,19],[3,5,3,19],[4,5,7,5],[4,6,7,6],[4,7,7,7],[4,8,4,13],[4,14,4,19],[5,8,6,9],[5,10,6,11],[5,12,6,13],[5,14,6,15],[5,16,6,17]]}
[]
[]
[]
[null,null,null,null,null," Раздел V. Обучающиеся – кандидаты в спортивные сборные команды Российской Федерации, человек"]
[null,null,null,null,null,"Виды спорта","№ строки","Всего кандидатов из численности обучающихся ","Из численности обучающихся \n(гр. 5 раздела II) – кандидаты, состоящие в списках спортивных сборных команд",null,null,null,null,null,"Кандидаты, подготовленные в отчетном периоде"]
[null,null,null,null,null,null,null,null,"Юношеский состав",null,"Юниорский состав",null,"Основной состав",null,"Юношеский состав",null,"Юниорский состав",null,"Основной состав"]
[]
["Код региона","ОГРН","Ведоственная принадлежность","Вид организации","Вид правового образования",null,null,null,"основной","резерв","основной","резерв","основной","резерв","основной","резерв","основной","резерв","основной","резерв"]
[{"$f":"'Раздел 0'!M27","v":86},{"$f":"IF('Раздел 1'!D15>0,'Раздел 1'!D15,\"ОСП\")","v":1188617000428},{"$f":"(IF(SUM('Раздел 1'!D5:D6)>0,\"ФКИС\",IF(SUM('Раздел 1'!D7:D8)>0,\"ОБРАЗОВАНИЕ\",IF(SUM('Раздел 1'!D9:D10)>0,\"ДВП\",\" \"))))","v":"ФКИС"},{"$f":"(IF(SUM('Раздел 1'!E12:E13)>0,\"СШ\",IF(SUM('Раздел 1'!F12:F13)>0,\"СШОР\",IF(SUM('Раздел 1'!G12:G13)>0,\"УОР\",IF(SUM('Раздел 1'!H12:H13)>0,\"ЦСП\",IF(SUM('Раздел 1'!I12:I13)>0,\"Другие\"))))))","v":"СШ"},{"$f":"(IF('Раздел 1'!D19=1,\"РФ\",IF('Раздел 1'!E19=1,\"Суб РФ\",IF('Раздел 1'!F19=1,\"МО\",IF('Раздел 1'!H19=1,\"ИПО\",\"ОСП\")))))","v":"МО"},1,2,3,4,5,6,7,8,9,10,11,12,13,14,15,"2р"]
[null,null,null,null,null,"Авиамодельный спорт","01",{"$f":"SUM(I10:N10)","v":0},null,null,null,null,null,null,null,null,null,null,null,null,{"$f":"'Раздел 2'!H7","v":0}]
[null,null,null,null,null,"Авиационные гонки","02",{"$f":"SUM(I11:N11)","v":0},null,null,null,null,null,null,null,null,null,null,null,null,{"$f":"'Раздел 2'!H8","v":0}]
[null,null,null,null,null,"Автомобильный спорт","03",0,null,null,null,null,null,null,null,null,null,null,null,null,{"$f":"'Раздел 2'!H9","v":0}]
[null,null,null,null,null,"Автомодельный спорт","04",0,null,null,null,null,null,null,null,null,null,null,null,null,{"$f":"'Раздел 2'!H10","v":0}]
[null,null,null,null,null,"Айкидо","05",0,null,null,null,null,null,null,null,null,null,null,null,null,{"$f":"'Раздел 2'!H11","v":0}]
[null,null,null,null,null,"Акробатический рок-н-ролл","06",0,null,null,null,null,null,null,null,null,null,null,null,null,{"$f":"'Раздел 2'!H12","v":0}]
[null,null,null,null,null,"Альпинизм - всего","07",0,{"$f":"SUM(I17:I18)","v":0},{"$f":"SUM(J17:J18)","v":0},0,0,0,0,0,0,0,0,0,0,{"$f":"'Раздел 2'!H13","v":0}]
[null,null,null,null,null,"В том числе:\nСки-альпинизм","08",0,null,null,null,null,null,null,null,null,null,null,null,null,{"$f":"'Раздел 2'!H14","v":0}]
[null,null,null,null,null,"Иные дисциплины вида спорта \"альпинизм\"","09",0,null,null,null,null,null,null,null,null,null,null,null,null,{"$f":"'Раздел 2'!H15","v":0}]
[null,null,null,null,null,"Американский футбол","10",0,null,null,null,null,null,null,null,null,null,null,null,null,{"$f":"'Раздел 2'!H16","v":0}]
[null,null,null,null,null,"Армейский рукопашный бой","11",0,null,null,null,null,null,null,null,null,null,null,null,null,{"$f":"'Раздел 2'!H17","v":0}]
[null,null,null,null,null,"Армейское тактико-стрелковое многоборье","12",0,null,null,null,null,null,null,null,null,null,null,null,null,{"$f":"'Раздел 2'!H18","v":0}]
[null,null,null,null,null,"Армрестлинг","13",0,null,null,null,null,null,null,null,null,null,null,null,null,{"$f":"'Раздел 2'!H19","v":0}]
[null,null,null,null,null,"Бадминтон","14",0,null,null,null,null,null,null,null,null,null,null,null,null,{"$f":"'Раздел 2'!H20","v":0}]
[null,null,null,null,null,"Баскетбол - всего","15",0,{"$f":"SUM(I25:I29)","v":0},{"$f":"SUM(J25:J29)","v":0},0,0,0,0,0,0,0,0,0,0,{"$f":"'Раздел 2'!H21","v":0}]
[null,null,null,null,null,"в том числе:\nБаскетбол (муж.)","16",0,null,null,null,null,null,null,null,null,null,null,null,null,{"$f":"'Раздел 2'!H22","v":0}]
[null,null,null,null,null,"Баскетбол (жен.)","17",0,null,null,null,null,null,null,null,null,null,null,null,null,{"$f":"'Раздел 2'!H23","v":0}]
[null,null,null,null,null,"Баскетбол 3х3","18",0,null,null,null,null,null,null,null,null,null,null,null,null,{"$f":"'Раздел 2'!H24","v":0}]
[null,null,null,null,null,"Интерактивный баскетбол","19",0,null,null,null,null,null,null,null,null,null,null,null,null,{"$f":"'Раздел 2'!H25","v":0}]
[null,null,null,null,null,"Иные дисциплины вида спорта \"баскетбол\"","20",0,null,null,null,null,null,null,null,null,null,null,null,null,{"$f":"'Раздел 2'!H26","v":0}]
[null,null,null,null,null,"Бейсбол","21",0,null,null,null,null,null,null,null,null,null,null,null,null,{"$f":"'Раздел 2'!H27","v":0}]
[null,null,null,null,null,"Биатлон","22",0,null,null,null,null,null,null,null,null,null,null,null,null,{"$f":"'Раздел 2'!H28","v":0}]
[null,null,null,null,null,"Бильярдный спорт","23",0,null,null,null,null,null,null,null,null,null,null,null,null,{"$f":"'Раздел 2'!H29","v":0}]
[null,null,null,null,null,"Бобслей - всего","24",0,{"$f":"SUM(I34:I37)","v":0},{"$f":"SUM(J34:J37)","v":0},0,0,0,0,0,0,0,0,0,0,{"$f":"'Раздел 2'!H30","v":0}]
[null,null,null,null,null,"В том числе:\nСкелетон","25",0,null,null,null,null,null,null,null,null,null,null,null,null,{"$f":"'Раздел 2'!H31","v":0}]
[null,null,null,null,null,"Экипаж","26",0,null,null,null,null,null,null,null,null,null,null,null,null,{"$f":"'Раздел 2'!H32","v":0}]
[null,null,null,null,null,"Монобоб","27",0,null,null,null,null,null,null,null,null,null,null,null,null,{"$f":"'Раздел 2'!H33","v":0}]
[null,null,null,null,null,"Иные дисциплины вида спорта \"бобслей\"","28",0,null,null,null,null,null,null,null,null,null,null,null,null,{"$f":"'Раздел 2'!H34","v":0}]
[null,null,null,null,null,"Бодибилдинг","29",0,null,null,null,null,null,null,null,null,null,null,null,null,{"$f":"'Раздел 2'!H35","v":0}]
[null,null,null,null,null,"Бокс","30",0,null,null,null,null,null,null,null,null,null,null,null,null,{"$f":"'Раздел 2'!H36","v":0}]
[null,null,null,null,null,"Борьба на поясах","31",0,null,null,null,null,null,null,null,null,null,null,null,null,{"$f":"'Раздел 2'!H37","v":0}]
[null,null,null,null,null,"Боулинг","32",0,null,null,null,null,null,null,null,null,null,null,null,null,{"$f":"'Раздел 2'!H38","v":0}]
[null,null,null,null,null,"Боулспорт","33",0,null,null,null,null,null,null,null,null,null,null,null,null,{"$f":"'Раздел 2'!H39","v":0}]
[null,null,null,null,null,"Брейкинг","34",0,null,null,null,null,null,null,null,null,null,null,null,null,{"$f":"'Раздел 2'!H40","v":0}]
[null,null,null,null,null,"Велосипедный спорт - всего","35",0,{"$f":"SUM(I45:I49)","v":0},{"$f":"SUM(J45:J49)","v":0},0,0,0,0,0,0,0,0,0,0,{"$f":"'Раздел 2'!H41","v":0}]
[null,null,null,null,null,"в том числе:\nBMX (гонка, эстафета)","36",0,null,null,null,null,null,null,null,null,null,null,null,null,{"$f":"'Раздел 2'!H42","v":0}]
[null,null,null,null,null,"BMX - фристайл","37",0,null,null,null,null,null,null,null,null,null,null,null,null,{"$f":"'Раздел 2'!H43","v":0}]
[null,null,null,null,null,"Маунтинбайк","38",0,null,null,null,null,null,null,null,null,null,null,null,null,{"$f":"'Раздел 2'!H44","v":0}]
[null,null,null,null,null,"Трек","39",0,null,null,null,null,null,null,null,null,null,null,null,null,{"$f":"'Раздел 2'!H45","v":0}]
[null,null,null,null,null,"Шоссе","40",0,null,null,null,null,null,null,null,null,null,null,null,null,{"$f":"'Раздел 2'!H46","v":0}]
[null,null,null,null,null,"Вертолетный спорт","41",0,null,null,null,null,null,null,null,null,null,null,null,null,{"$f":"'Раздел 2'!H47","v":0}]
[null,null,null,null,null,"Водное поло - всего","42",0,{"$f":"SUM(I52:I54)","v":0},{"$f":"SUM(J52:J54)","v":0},0,0,0,0,0,0,0,0,0,0,{"$f":"'Раздел 2'!H48","v":0}]
[null,null,null,null,null,"в том числе:\nВодное поло (муж.)","43",0,null,null,null,null,null,null,null,null,null,null,null,null,{"$f":"'Раздел 2'!H49","v":0}]
[null,null,null,null,null,"Водное поло (жен.)","44",0,null,null,null,null,null,null,null,null,null,null,null,null,{"$f":"'Раздел 2'!H50","v":0}]
[null,null,null,null,null,"Иные дисциплины вида спорта \"водное поло\"","45",0,null,null,null,null,null,null,null,null,null,null,null,null,{"$f":"'Раздел 2'!H51","v":0}]
[null,null,null,null,null,"Воднолыжный спорт","46",0,null,null,null,null,null,null,null,null,null,null,null,null,{"$f":"'Раздел 2'!H52","v":0}]
[null,null,null,null,null,"Водно-моторный спорт","47",0,null,null,null,null,null,null,null,null,null,null,null,null,{"$f":"'Раздел 2'!H53","v":0}]
[null,null,null,null,null,"Водно-спасательное многоборье","48",0,null,null,null,null,null,null,null,null,null,null,null,null,{"$f":"'Раздел 2'!H54","v":0}]
[null,null,null,null,null,"Военно-прикладной спорт","49",0,null,null,null,null,null,null,null,null,null,null,null,null,{"$f":"'Раздел 2'!H55","v":0}]
[null,null,null,null,null,"Военно-спортивное многоборье","50",0,null,null,null,null,null,null,null,null,null,null,null,null,{"$f":"'Раздел 2'!H56","v":0}]
[null,null,null,null,null,"Воздухоплавательный спорт","51",0,null,null,null,null,null,null,null,null,null,null,null,null,{"$f":"'Раздел 2'!H57","v":0}]
[null,null,null,null,null,"Воздушная гимнастика","52",0,null,null,null,null,null,null,null,null,null,null,null,null,{"$f":"'Раздел 2'!H58","v":0}]
[null,null,null,null,null,"Воздушно-силовая атлетика","53",0,null,null,null,null,null,null,null,null,null,null,null,null,{"$f":"'Раздел 2'!H59","v":0}]
[null,null,null,null,null,"Волейбол - всего","54",0,{"$f":"SUM(I64:I68)","v":0},{"$f":"SUM(J64:J68)","v":0},0,0,0,0,0,0,0,0,0,{"$f":"SUM(T64:T68)","v":0},{"$f":"'Раздел 2'!H60","v":0}]
[null,null,null,null,null,"в том числе:\nВолейбол (муж.)","55",0,null,null,null,null,null,null,null,null,null,null,null,null,{"$f":"'Раздел 2'!H61","v":0}]
[null,null,null,null,null,"Волейбол (жен.)","56",0,null,null,null,null,null,null,null,null,null,null,null,null,{"$f":"'Раздел 2'!H62","v":0}]
[null,null,null,null,null,"Пляжный волейбол (муж.)","57",0,null,null,null,null,null,null,null,null,null,null,null,null,{"$f":"'Раздел 2'!H63","v":0}]
[null,null,null,null,null,"Пляжный волейбол (жен.)","58",0,null,null,null,null,null,null,null,null,null,null,null,null,{"$f":"'Раздел 2'!H64","v":0}]
[null,null,null,null,null,"Волейбол на снегу","59",0,null,null,null,null,null,null,null,null,null,null,null,null,{"$f":"'Раздел 2'!H65","v":0}]
[null,null,null,null,null,"Восточное боевое единоборство","60",0,null,null,null,null,null,null,null,null,null,null,null,null,{"$f":"'Раздел 2'!H66","v":0}]
[null,null,null,null,null,"Всестилевое каратэ","61",0,null,null,null,null,null,null,null,null,null,null,null,null,{"$f":"'Раздел 2'!H67","v":0}]
[null,null,null,null,null,"Гандбол - всего","62",0,{"$f":"SUM(I72:I74)","v":0},{"$f":"SUM(J72:J74)","v":0},0,0,0,0,0,0,0,0,0,0,{"$f":"'Раздел 2'!H68","v":0}]
[null,null,null,null,null,"в том числе:\nГандбол (муж.)","63",0,null,null,null,null,null,null,null,null,null,null,null,null,{"$f":"'Раздел 2'!H69","v":0}]
[null,null,null,null,null,"Гандбол (жен.)","64",0,null,null,null,null,null,null,null,null,null,null,null,null,{"$f":"'Раздел 2'!H70","v":0}]
[null,null,null,null,null,"Пляжный гандбол","65",0,null,null,null,null,null,null,null,null,null,null,null,null,{"$f":"'Раздел 2'!H71","v":0}]
[null,null,null,null,null,"Гиревой спорт","66",{"$f":"SUM(I75:N75)","v":0},null,null,null,null,null,null,null,null,null,null,null,null,{"$f":"'Раздел 2'!H72","v":0}]
[null,null,null,null,null,"Го","67",0,null,null,null,null,null,null,null,null,null,null,null,null,{"$f":"'Раздел 2'!H73","v":0}]
[null,null,null,null,null,"Гольф","68",0,null,null,null,null,null,null,null,null,null,null,null,null,{"$f":"'Раздел 2'!H74","v":0}]
[null,null,null,null,null,"Гонки дронов (беспилотных воздушных судов) - всего","69",0,{"$f":"SUM(I79:I82)","v":0},{"$f":"SUM(J79:J82)","v":0},0,0,0,0,0,0,0,0,0,0,{"$f":"'Раздел 2'!H75","v":0}]
[null,null,null,null,null,"в том числе:\nКласс 75 мм","70",0,null,null,null,null,null,null,null,null,null,null,null,null,{"$f":"'Раздел 2'!H76","v":0}]
[null,null,null,null,null,"Класс 200 мм","71",0,null,null,null,null,null,null,null,null,null,null,null,null,{"$f":"'Раздел 2'!H77","v":0}]
[null,null,null,null,null,"Класс 330 мм","72",0,null,null,null,null,null,null,null,null,null,null,null,null,{"$f":"'Раздел 2'!H78","v":0}]
[null,null,null,null,null,"Технический симулятор","73",0,null,null,null,null,null,null,null,null,null,null,null,null,{"$f":"'Раздел 2'!H79","v":0}]
[null,null,null,null,null,"Гонки на охотничьих лыжах","74",0,null,null,null,null,null,null,null,null,null,null,null,null,{"$f":"'Раздел 2'!H80","v":0}]
[null,null,null,null,null,"Гонки с препятствиями","75",0,null,null,null,null,null,null,null,null,null,null,null,null,{"$f":"'Раздел 2'!H81","v":0}]
[null,null,null,null,null,"Горнолыжный спорт","76",0,null,null,null,null,null,null,null,null,null,null,null,null,{"$f":"'Раздел 2'!H82","v":0}]
[null,null,null,null,null,"Городошный спорт","77",0,null,null,null,null,null,null,null,null,null,null,null,null,{"$f":"'Раздел 2'!H83","v":0}]
[null,null,null,null,null,"Гребля на байдарках и каноэ","78",0,null,null,null,null,null,null,null,null,null,null,null,null,{"$f":"'Раздел 2'!H84","v":0}]
[null,null,null,null,null,"Гребля на шлюпках","79",0,null,null,null,null,null,null,null,null,null,null,null,null,{"$f":"'Раздел 2'!H85","v":0}]
[null,null,null,null,null,"Гребной слалом","80",0,null,null,null,null,null,null,null,null,null,null,null,null,{"$f":"'Раздел 2'!H86","v":0}]
[null,null,null,null,null,"Гребной спорт - всего","81",0,{"$f":"SUM(I91:I92)","v":0},{"$f":"SUM(J91:J92)","v":0},0,0,0,0,0,0,0,0,0,0,{"$f":"'Раздел 2'!H87","v":0}]
[null,null,null,null,null,"в том числе:\nАкадемическая гребля","82",0,null,null,null,null,null,null,null,null,null,null,null,null,{"$f":"'Раздел 2'!H88","v":0}]
[null,null,null,null,null,"Иные дисциплины вида спорта \"гребной спорт\"","83",0,null,null,null,null,null,null,null,null,null,null,null,null,{"$f":"'Раздел 2'!H89","v":0}]
[null,null,null,null,null,"Гребно-парусное двоеборье","84",0,null,null,null,null,null,null,null,null,null,null,null,null,{"$f":"'Раздел 2'!H90","v":0}]
[null,null,null,null,null,"Дартс","85",0,null,null,null,null,null,null,null,null,null,null,null,null,{"$f":"'Раздел 2'!H91","v":0}]
[null,null,null,null,null,"Джиу-джитсу","86",0,null,null,null,null,null,null,null,null,null,null,null,null,{"$f":"'Раздел 2'!H92","v":0}]
[null,null,null,null,null,"Джутайдо","87",0,null,null,null,null,null,null,null,null,null,null,null,null,{"$f":"'Раздел 2'!H93","v":0}]
[null,null,null,null,null,"Дзюдо","88",0,null,null,null,null,null,null,null,null,null,null,null,null,{"$f":"'Раздел 2'!H94","v":0}]
[null,null,null,null,null,"Ездовой спорт","89",0,null,null,null,null,null,null,null,null,null,null,null,null,{"$f":"'Раздел 2'!H95","v":0}]
[null,null,null,null,null,"Зимнее плавание","90",0,null,null,null,null,null,null,null,null,null,null,null,null,{"$f":"'Раздел 2'!H96","v":0}]
[null,null,null,null,null,"Капоэйра","91",0,null,null,null,null,null,null,null,null,null,null,null,null,{"$f":"'Раздел 2'!H97","v":0}]
[null,null,null,null,null,"Каратэ","92",0,null,null,null,null,null,null,null,null,null,null,null,null,{"$f":"'Раздел 2'!H98","v":0}]
[null,null,null,null,null,"Кендо","93",0,null,null,null,null,null,null,null,null,null,null,null,null,{"$f":"'Раздел 2'!H99","v":0}]
[null,null,null,null,null,"Керешу","94",0,null,null,null,null,null,null,null,null,null,null,null,null,{"$f":"'Раздел 2'!H100","v":0}]
[null,null,null,null,null,"Кёрлинг - всего","95",0,{"$f":"SUM(I105:I107)","v":0},{"$f":"SUM(J105:J107)","v":0},0,0,0,0,0,0,0,0,0,0,{"$f":"'Раздел 2'!H101","v":0}]
[null,null,null,null,null,"в том числе:\nКёрлинг (муж.)","96",0,null,null,null,null,null,null,null,null,null,null,null,null,{"$f":"'Раздел 2'!H102","v":0}]
[null,null,null,null,null,"Кёрлинг (жен.)","97",0,null,null,null,null,null,null,null,null,null,null,null,null,{"$f":"'Раздел 2'!H103","v":0}]
[null,null,null,null,null,"Кёрлинг – смешанные пары","98",0,null,null,null,null,null,null,null,null,null,null,null,null,{"$f":"'Раздел 2'!H104","v":0}]
[null,null,null,null,null,"Кикбоксинг","99",7,3,null,null,null,3,1,3,null,null,null,2,null,{"$f":"'Раздел 2'!H105","v":1}]
[null,null,null,null,null,"Кинологический спорт","100",0,null,null,null,null,null,null,null,null,null,null,null,null,{"$f":"'Раздел 2'!H106","v":0}]
[null,null,null,null,null,"Киокусинкай","101",0,null,null,null,null,null,null,null,null,null,null,null,null,{"$f":"'Раздел 2'!H107","v":1}]
[null,null,null,null,null,"Киокушин","102",0,null,null,null,null,null,null,null,null,null,null,null,null,{"$f":"'Раздел 2'!H108","v":0}]
[null,null,null,null,null,"Комплексное единоборство","103",0,null,null,null,null,null,null,null,null,null,null,null,null,{"$f":"'Раздел 2'!H109","v":0}]
[null,null,null,null,null,"Компьютерный спорт - всего","104",0,{"$f":"SUM(I114:I120)","v":0},{"$f":"SUM(J114:J120)","v":0},0,0,0,0,0,0,0,0,0,0,{"$f":"'Раздел 2'!H110","v":0}]
[null,null,null,null,null,"в том числе:\nБоевая арена","105",0,null,null,null,null,null,null,null,null,null,null,null,null,{"$f":"'Раздел 2'!H111","v":0}]
[null,null,null,null,null,"Соревновательные головоломки","106",0,null,null,null,null,null,null,null,null,null,null,null,null,{"$f":"'Раздел 2'!H112","v":0}]
[null,null,null,null,null,"Спортивный симулятор","107",0,null,null,null,null,null,null,null,null,null,null,null,null,{"$f":"'Раздел 2'!H113","v":0}]
[null,null,null,null,null,"Стратегия в реальном времени","108",0,null,null,null,null,null,null,null,null,null,null,null,null,{"$f":"'Раздел 2'!H114","v":0}]
[null,null,null,null,null,"Тактический трехмерный бой","109",0,null,null,null,null,null,null,null,null,null,null,null,null,{"$f":"'Раздел 2'!H115","v":0}]
[null,null,null,null,null,"Технический симулятор","110",0,null,null,null,null,null,null,null,null,null,null,null,null,{"$f":"'Раздел 2'!H116","v":0}]
[null,null,null,null,null,"Файтинг","111",0,null,null,null,null,null,null,null,null,null,null,null,null,{"$f":"'Раздел 2'!H117","v":0}]
[null,null,null,null,null,"Конный спорт","112",0,null,null,null,null,null,null,null,null,null,null,null,null,{"$f":"'Раздел 2'!H118","v":0}]
[null,null,null,null,null,"Конькобежный спорт - всего","113",0,{"$f":"SUM(I123:I126)","v":0},{"$f":"SUM(J123:J126)","v":0},0,0,0,0,0,0,0,0,0,0,{"$f":"'Раздел 2'!H119","v":0}]
[null,null,null,null,null,"в том числе:\nКонькобежный спорт","114",0,null,null,null,null,null,null,null,null,null,null,null,null,{"$f":"'Раздел 2'!H120","v":0}]
[null,null,null,null,null,"Шорт-трек","115",0,null,null,null,null,null,null,null,null,null,null,null,null,{"$f":"'Раздел 2'!H121","v":0}]
[null,null,null,null,null,"Масс-старт","116",0,null,null,null,null,null,null,null,null,null,null,null,null,{"$f":"'Раздел 2'!H122","v":0}]
[null,null,null,null,null,"Командный забег","117",0,null,null,null,null,null,null,null,null,null,null,null,null,{"$f":"'Раздел 2'!H123","v":0}]
[null,null,null,null,null,"Корэш","118",0,null,null,null,null,null,null,null,null,null,null,null,null,{"$f":"'Раздел 2'!H124","v":0}]
[null,null,null,null,null,"Крикет","119",0,null,null,null,null,null,null,null,null,null,null,null,null,{"$f":"'Раздел 2'!H125","v":0}]
[null,null,null,null,null,"Кудо","120",0,null,null,null,null,null,null,null,null,null,null,null,null,{"$f":"'Раздел 2'!H126","v":1}]
[null,null,null,null,null,"Лазерный бой","121",0,null,null,null,null,null,null,null,null,null,null,null,null,{"$f":"'Раздел 2'!H127","v":0}]
[null,null,null,null,null,"Лапта","122",0,null,null,null,null,null,null,null,null,null,null,null,null,{"$f":"'Раздел 2'!H128","v":0}]
[null,null,null,null,null,"Легкая атлетика","123",0,null,null,null,null,null,null,null,null,null,null,null,null,{"$f":"'Раздел 2'!H129","v":0}]
[null,null,null,null,null,"Лыжное двоеборье","124",0,null,null,null,null,null,null,null,null,null,null,null,null,{"$f":"'Раздел 2'!H130","v":0}]
[null,null,null,null,null,"Лыжные гонки","125",0,null,null,null,null,null,null,null,null,null,null,null,null,{"$f":"'Раздел 2'!H131","v":0}]
[null,null,null,null,null,"Мас-рестлинг","126",0,null,null,null,null,null,null,null,null,null,null,null,null,{"$f":"'Раздел 2'!H132","v":0}]
[null,null,null,null,null,"Международное военно-спортивное многоборье","127",0,null,null,null,null,null,null,null,null,null,null,null,null,{"$f":"'Раздел 2'!H133","v":0}]
[null,null,null,null,null,"Микрофутзал","128",0,null,null,null,null,null,null,null,null,null,null,null,null,{"$f":"'Раздел 2'!H134","v":0}]
[null,null,null,null,null,"Многоборье готов к труду и обороне","129",0,null,null,null,null,null,null,null,null,null,null,null,null,{"$f":"'Раздел 2'!H135","v":0}]
[null,null,null,null,null,"Многоборье кинологов","130",{"$f":"SUM(I139:N139)","v":0},null,null,null,null,null,null,null,null,null,null,null,null,{"$f":"'Раздел 2'!H136","v":0}]
[null,null,null,null,null,"Многоборье спасателей МЧС России","131",0,null,null,null,null,null,null,null,null,null,null,null,null,{"$f":"'Раздел 2'!H137","v":0}]
[null,null,null,null,null,"Морское многоборье","132",0,null,null,null,null,null,null,null,null,null,null,null,null,{"$f":"'Раздел 2'!H138","v":0}]
[null,null,null,null,null,"Мотоциклетный спорт","133",0,null,null,null,null,null,null,null,null,null,null,null,null,{"$f":"'Раздел 2'!H139","v":0}]
[null,null,null,null,null,"Муайтай","134",0,null,null,null,null,null,null,null,null,null,null,null,null,{"$f":"'Раздел 2'!H140","v":1}]
[null,null,null,null,null,"Нарды","135",0,null,null,null,null,null,null,null,null,null,null,null,null,{"$f":"'Раздел 2'!H141","v":0}]
[null,null,null,null,null,"Настольный теннис","136",0,null,null,null,null,null,null,null,null,null,null,null,null,{"$f":"'Раздел 2'!H142","v":0}]
[null,null,null,null,null,"Падел","137",0,null,null,null,null,null,null,null,null,null,null,null,null,{"$f":"'Раздел 2'!H143","v":0}]
[null,null,null,null,null,"Парашютный спорт","138",0,null,null,null,null,null,null,null,null,null,null,null,null,{"$f":"'Раздел 2'!H144","v":0}]
[null,null,null,null,null,"Парусный спорт","139",0,null,null,null,null,null,null,null,null,null,null,null,null,{"$f":"'Раздел 2'!H145","v":0}]
[null,null,null,null,null,"Пауэрлифтинг","140",2,null,null,1,null,1,null,null,null,1,null,null,null,{"$f":"'Раздел 2'!H146","v":1}]
[null,null,null,null,null,"Перетягивание каната","141",0,null,null,null,null,null,null,null,null,null,null,null,null,{"$f":"'Раздел 2'!H147","v":0}]
[null,null,null,null,null,"Пилонный спорт","142",0,null,null,null,null,null,null,null,null,null,null,null,null,{"$f":"'Раздел 2'!H148","v":0}]
[null,null,null,null,null,"Плавание - всего","143",0,{"$f":"SUM(I153:I154)","v":0},{"$f":"SUM(J153:J154)","v":0},0,0,0,0,0,0,0,0,0,0,{"$f":"'Раздел 2'!H149","v":1}]
[null,null,null,null,null,"в том числе:\nОткрытая вода","144",0,null,null,null,null,null,null,null,null,null,null,null,null,{"$f":"'Раздел 2'!H150","v":0}]
[null,null,null,null,null,"Иные дисциплины вида спорта \"плавание\"","145",0,null,null,null,null,null,null,null,null,null,null,null,null,{"$f":"'Раздел 2'!H151","v":1}]
[null,null,null,null,null,"Планерный спорт","146",0,null,null,null,null,null,null,null,null,null,null,null,null,{"$f":"'Раздел 2'!H152","v":0}]
[null,null,null,null,null,"Подводный спорт","147",0,null,null,null,null,null,null,null,null,null,null,null,null,{"$f":"'Раздел 2'!H153","v":0}]
[null,null,null,null,null,"Пожарно-спасательный спорт","148",0,null,null,null,null,null,null,null,null,null,null,null,null,{"$f":"'Раздел 2'!H154","v":0}]
[null,null,null,null,null,"Полиатлон","149",0,null,null,null,null,null,null,null,null,null,null,null,null,{"$f":"'Раздел 2'!H155","v":0}]
[null,null,null,null,null,"Практическая стрельба","150",0,null,null,null,null,null,null,null,null,null,null,null,null,{"$f":"'Раздел 2'!H156","v":0}]
[null,null,null,null,null,"Прыжки в воду","151",0,null,null,null,null,null,null,null,null,null,null,null,null,{"$f":"'Раздел 2'!H157","v":0}]
[null,null,null,null,null,"Прыжки на батуте - всего","152",0,{"$f":"SUM(I162:I165)","v":0},{"$f":"SUM(J162:J165)","v":0},0,0,0,0,0,0,0,0,0,0,{"$f":"'Раздел 2'!H158","v":0}]
[null,null,null,null,null,"в том числе:\nАкробатическая дорожка","153",0,null,null,null,null,null,null,null,null,null,null,null,null,{"$f":"'Раздел 2'!H159","v":0}]
[null,null,null,null,null,"Двойной минитрамп","154",0,null,null,null,null,null,null,null,null,null,null,null,null,{"$f":"'Раздел 2'!H160","v":0}]
[null,null,null,null,null,"Индивидуальные прыжки","155",0,null,null,null,null,null,null,null,null,null,null,null,null,{"$f":"'Раздел 2'!H161","v":0}]
[null,null,null,null,null,"Синхронные прыжки","156",0,null,null,null,null,null,null,null,null,null,null,null,null,{"$f":"'Раздел 2'!H162","v":0}]
[null,null,null,null,null,"Прыжки на лыжах с трамплина","157",0,null,null,null,null,null,null,null,null,null,null,null,null,{"$f":"'Раздел 2'!H163","v":0}]
[null,null,null,null,null,"Пулевая стрельба - всего","158",0,{"$f":"SUM(I168:I172)","v":0},{"$f":"SUM(J168:J172)","v":0},0,0,0,0,0,0,0,0,0,0,{"$f":"'Раздел 2'!H164","v":0}]
[null,null,null,null,null,"в том числе:\nПневматическая винтовка","159",0,null,null,null,null,null,null,null,null,null,null,null,null,{"$f":"'Раздел 2'!H165","v":0}]
[null,null,null,null,null,"Пневматический пистолет","160",0,null,null,null,null,null,null,null,null,null,null,null,null,{"$f":"'Раздел 2'!H166","v":0}]
[null,null,null,null,null,"Малокалиберная винтовка","161",0,null,null,null,null,null,null,null,null,null,null,null,null,{"$f":"'Раздел 2'!H167","v":0}]
[null,null,null,null,null,"Малокалиберный пистолет","162",0,null,null,null,null,null,null,null,null,null,null,null,null,{"$f":"'Раздел 2'!H168","v":0}]
[null,null,null,null,null,"Иные дисциплины вида спорта \"пулевая стрельба\"","163",0,null,null,null,null,null,null,null,null,null,null,null,null,{"$f":"'Раздел 2'!H169","v":0}]
[null,null,null,null,null,"Пэйнтбол","164",0,null,null,null,null,null,null,null,null,null,null,null,null,{"$f":"'Раздел 2'!H170","v":0}]
[null,null,null,null,null,"Радиоспорт","165",0,null,null,null,null,null,null,null,null,null,null,null,null,{"$f":"'Раздел 2'!H171","v":0}]
[null,null,null,null,null,"Рафтинг","166",0,null,null,null,null,null,null,null,null,null,null,null,null,{"$f":"'Раздел 2'!H172","v":0}]
[null,null,null,null,null,"Регби - всего","167",0,{"$f":"SUM(I177:I182)","v":0},{"$f":"SUM(J177:J182)","v":0},0,0,0,0,0,0,0,0,0,0,{"$f":"'Раздел 2'!H173","v":0}]
[null,null,null,null,null,"в том числе:\nРегби","168",0,null,null,null,null,null,null,null,null,null,null,null,null,{"$f":"'Раздел 2'!H174","v":0}]
[null,null,null,null,null,"Регби 7 (муж.)","169",0,null,null,null,null,null,null,null,null,null,null,null,null,{"$f":"'Раздел 2'!H175","v":0}]
[null,null,null,null,null,"Регби 7 (жен.)","170",0,null,null,null,null,null,null,null,null,null,null,null,null,{"$f":"'Раздел 2'!H176","v":0}]
[null,null,null,null,null,"Регби - пляжное","171",0,null,null,null,null,null,null,null,null,null,null,null,null,{"$f":"'Раздел 2'!H177","v":0}]
[null,null,null,null,null,"Регби на снегу","172",0,null,null,null,null,null,null,null,null,null,null,null,null,{"$f":"'Раздел 2'!H178","v":0}]
[null,null,null,null,null,"Регби бесконтактное","173",0,null,null,null,null,null,null,null,null,null,null,null,null,{"$f":"'Раздел 2'!H179","v":0}]
[null,null,null,null,null,"Регбол","174",0,null,null,null,null,null,null,null,null,null,null,null,null,{"$f":"'Раздел 2'!H180","v":0}]
[null,null,null,null,null,"Роллер спорт","175",0,null,null,null,null,null,null,null,null,null,null,null,null,{"$f":"'Раздел 2'!H181","v":0}]
[null,null,null,null,null,"Роуп скиппинг (спортивная скакалка)","176",0,null,null,null,null,null,null,null,null,null,null,null,null,{"$f":"'Раздел 2'!H182","v":0}]
[null,null,null,null,null,"Рукопашный бой","177",0,null,null,null,null,null,null,null,null,null,null,null,null,{"$f":"'Раздел 2'!H183","v":1}]
[null,null,null,null,null,"Рыболовный спорт","178",0,null,null,null,null,null,null,null,null,null,null,null,null,{"$f":"'Раздел 2'!H184","v":0}]
[null,null,null,null,null,"Сават","179",0,null,null,null,null,null,null,null,null,null,null,null,null,{"$f":"'Раздел 2'!H185","v":0}]
[null,null,null,null,null,"Самбо","180",0,null,null,null,null,null,null,null,null,null,null,null,null,{"$f":"'Раздел 2'!H186","v":0}]
[null,null,null,null,null,"Самолетный спорт","181",0,null,null,null,null,null,null,null,null,null,null,null,null,{"$f":"'Раздел 2'!H187","v":0}]
[null,null,null,null,null,"Санный спорт","182",0,null,null,null,null,null,null,null,null,null,null,null,null,{"$f":"'Раздел 2'!H188","v":0}]
[null,null,null,null,null,"Северное многоборье","183",0,null,null,null,null,null,null,null,null,null,null,null,null,{"$f":"'Раздел 2'!H189","v":1}]
[null,null,null,null,null,"Серфинг","184",0,null,null,null,null,null,null,null,null,null,null,null,null,{"$f":"'Раздел 2'!H190","v":0}]
[null,null,null,null,null,"Силовой спорт","185",0,null,null,null,null,null,null,null,null,null,null,null,null,{"$f":"'Раздел 2'!H191","v":0}]
[null,null,null,null,null,"Силовой экстрим","186",0,null,null,null,null,null,null,null,null,null,null,null,null,{"$f":"'Раздел 2'!H192","v":0}]
[null,null,null,null,null,"Синхронное плавание","187",0,null,null,null,null,null,null,null,null,null,null,null,null,{"$f":"'Раздел 2'!H193","v":0}]
[null,null,null,null,null,"Скалолазание - всего","188",0,{"$f":"SUM(I198:I200)","v":0},{"$f":"SUM(J198:J200)","v":0},0,0,0,0,0,0,0,0,{"$f":"SUM(S198:S200)","v":0},0,{"$f":"'Раздел 2'!H194","v":0}]
[null,null,null,null,null,"в том числе:\nДвоеборье","189",0,null,null,null,null,null,null,null,null,null,null,null,null,{"$f":"'Раздел 2'!H195","v":0}]
[null,null,null,null,null,"Лазание на скорость","190",0,null,null,null,null,null,null,null,null,null,null,null,null,{"$f":"'Раздел 2'!H196","v":0}]
[null,null,null,null,null,"Иные дисциплины вида спорта \"скалолазание\"","191",0,null,null,null,null,null,null,null,null,null,null,null,null,{"$f":"'Раздел 2'!H197","v":0}]
[null,null,null,null,null,"Сквош","192",0,null,null,null,null,null,null,null,null,null,null,null,null,{"$f":"'Раздел 2'!H198","v":0}]
[null,null,null,null,null,"Скейтбординг","193",0,null,null,null,null,null,null,null,null,null,null,null,null,{"$f":"'Раздел 2'!H199","v":0}]
[null,null,null,null,null,"Служебно-боевая стрельба","194",{"$f":"SUM(I203:N203)","v":0},null,null,null,null,null,null,null,null,null,null,null,null,{"$f":"'Раздел 2'!H200","v":0}]
[null,null,null,null,null,"Служебное двоеборье","195",0,null,null,null,null,null,null,null,null,null,null,null,null,{"$f":"'Раздел 2'!H201","v":0}]
[null,null,null,null,null,"Служебное единоборство","196",0,null,null,null,null,null,null,null,null,null,null,null,null,{"$f":"'Раздел 2'!H202","v":0}]
[null,null,null,null,null,"Служебное многоборье","197",0,null,null,null,null,null,null,null,null,null,null,null,null,{"$f":"'Раздел 2'!H203","v":0}]
[null,null,null,null,null,"Служебно-прикладной спорт","198",0,null,null,null,null,null,null,null,null,null,null,null,null,{"$f":"'Раздел 2'!H204","v":0}]
[null,null,null,null,null,"Служебно-прикладной спорт ФСО России","199",0,null,null,null,null,null,null,null,null,null,null,null,null,{"$f":"'Раздел 2'!H205","v":0}]
[null,null,null,null,null,"Служебно-прикладной спорт ФТС России","200",0,null,null,null,null,null,null,null,null,null,null,null,null,{"$f":"'Раздел 2'!H206","v":0}]
[null,null,null,null,null,"Служебный биатлон","201",0,null,null,null,null,null,null,null,null,null,null,null,null,{"$f":"'Раздел 2'!H207","v":0}]
[null,null,null,null,null,"Смешанное боевое единоборство (ММА)","202",1,1,null,null,null,null,null,1,null,null,null,null,null,{"$f":"'Раздел 2'!H208","v":1}]
[null,null,null,null,null,"Сноуборд - всего","203",0,{"$f":"SUM(I213:I217)","v":0},{"$f":"SUM(J213:J217)","v":0},0,0,0,0,0,0,0,0,0,0,{"$f":"'Раздел 2'!H209","v":0}]
[null,null,null,null,null,"в том числе:\nСноуборд-кросс","204",0,null,null,null,null,null,null,null,null,null,null,null,null,{"$f":"'Раздел 2'!H210","v":0}]
[null,null,null,null,null,"Параллельный слалом","205",0,null,null,null,null,null,null,null,null,null,null,null,null,{"$f":"'Раздел 2'!H211","v":0}]
[null,null,null,null,null,"Хаф-пайп","206",0,null,null,null,null,null,null,null,null,null,null,null,null,{"$f":"'Раздел 2'!H212","v":0}]
[null,null,null,null,null,"Биг-эйр","207",0,null,null,null,null,null,null,null,null,null,null,null,null,{"$f":"'Раздел 2'!H213","v":0}]
[null,null,null,null,null,"Слоупстайл","208",0,null,null,null,null,null,null,null,null,null,null,null,null,{"$f":"'Раздел 2'!H214","v":0}]
[null,null,null,null,null,"Современное пятиборье","209",0,null,null,null,null,null,null,null,null,null,null,null,null,{"$f":"'Раздел 2'!H215","v":0}]
[null,null,null,null,null,"Софтбол","210",0,null,null,null,null,null,null,null,null,null,null,null,null,{"$f":"'Раздел 2'!H216","v":0}]
[null,null,null,null,null,"Спасательный спорт","211",0,null,null,null,null,null,null,null,null,null,null,null,null,{"$f":"'Раздел 2'!H217","v":0}]
[null,null,null,null,null,"Спорт сверхлегкой авиации","212",0,null,null,null,null,null,null,null,null,null,null,null,null,{"$f":"'Раздел 2'!H218","v":0}]
[null,null,null,null,null,"Спортивная акробатика","213",0,null,null,null,null,null,null,null,null,null,null,null,null,{"$f":"'Раздел 2'!H219","v":1}]
[null,null,null,null,null,"Спортивная аэробика","214",0,null,null,null,null,null,null,null,null,null,null,null,null,{"$f":"'Раздел 2'!H220","v":1}]
[null,null,null,null,null,"Спортивная борьба - всего","215",0,{"$f":"SUM(I225:I229)","v":0},{"$f":"SUM(J225:J229)","v":0},0,0,0,0,0,0,0,0,0,0,{"$f":"'Раздел 2'!H221","v":0}]
[null,null,null,null,null,"в том числе:\nВольная борьба","216",0,null,null,null,null,null,null,null,null,null,null,null,null,{"$f":"'Раздел 2'!H222","v":0}]
[null,null,null,null,null,"Греко-римская борьба","217",0,null,null,null,null,null,null,null,null,null,null,null,null,{"$f":"'Раздел 2'!H223","v":0}]
[null,null,null,null,null,"Грэпплинг","218",0,null,null,null,null,null,null,null,null,null,null,null,null,{"$f":"'Раздел 2'!H224","v":0}]
[null,null,null,null,null,"Панкратион","219",0,null,null,null,null,null,null,null,null,null,null,null,null,{"$f":"'Раздел 2'!H225","v":0}]
[null,null,null,null,null,"Пляжная борьба","220",0,null,null,null,null,null,null,null,null,null,null,null,null,{"$f":"'Раздел 2'!H226","v":0}]
[null,null,null,null,null,"Спортивная гимнастика","221",0,null,null,null,null,null,null,null,null,null,null,null,null,{"$f":"'Раздел 2'!H227","v":0}]
[null,null,null,null,null,"Спортивная йога","222",0,null,null,null,null,null,null,null,null,null,null,null,null,{"$f":"'Раздел 2'!H228","v":0}]
[null,null,null,null,null,"Спортивное метание ножа","223",0,null,null,null,null,null,null,null,null,null,null,null,null,{"$f":"'Раздел 2'!H229","v":0}]
[null,null,null,null,null,"Спортивное ориентирование","224",0,null,null,null,null,null,null,null,null,null,null,null,null,{"$f":"'Раздел 2'!H230","v":0}]
[null,null,null,null,null,"Спортивное программирование - всего","225",0,{"$f":"SUM(I235:I239)","v":0},{"$f":"SUM(J235:J239)","v":0},0,0,0,0,0,0,0,0,0,0,{"$f":"'Раздел 2'!H231","v":0}]
[null,null,null,null,null,"в том числе:\nПрограммирование алгоритмическое","226",0,null,null,null,null,null,null,null,null,null,null,null,null,{"$f":"'Раздел 2'!H232","v":0}]
[null,null,null,null,null,"Программирование продуктовое","227",0,null,null,null,null,null,null,null,null,null,null,null,null,{"$f":"'Раздел 2'!H233","v":0}]
[null,null,null,null,null,"Программирование беспилотных авиационных систем","228",0,null,null,null,null,null,null,null,null,null,null,null,null,{"$f":"'Раздел 2'!H234","v":0}]
[null,null,null,null,null,"Программирование робототехники","229",0,null,null,null,null,null,null,null,null,null,null,null,null,{"$f":"'Раздел 2'!H235","v":0}]
[null,null,null,null,null,"Программирование систем информационной безопасности","230",0,null,null,null,null,null,null,null,null,null,null,null,null,{"$f":"'Раздел 2'!H236","v":0}]
[null,null,null,null,null,"Спортивно-прикладное собаководство","231",0,null,null,null,null,null,null,null,null,null,null,null,null,{"$f":"'Раздел 2'!H237","v":0}]
[null,null,null,null,null,"Спортивный бридж","232",0,null,null,null,null,null,null,null,null,null,null,null,null,{"$f":"'Раздел 2'!H238","v":0}]
[null,null,null,null,null,"Спортивный туризм","233",1,null,null,null,null,1,null,null,null,null,null,null,null,{"$f":"'Раздел 2'!H239","v":1}]
[null,null,null,null,null,"Стендовая стрельба - всего","234",0,{"$f":"SUM(I244:I246)","v":0},{"$f":"SUM(J244:J246)","v":0},0,0,0,0,0,0,0,0,0,0,{"$f":"'Раздел 2'!H240","v":0}]
[null,null,null,null,null,"в том числе:\nТрап","235",0,null,null,null,null,null,null,null,null,null,null,null,null,{"$f":"'Раздел 2'!H241","v":0}]
[null,null,null,null,null,"Скит","236",0,null,null,null,null,null,null,null,null,null,null,null,null,{"$f":"'Раздел 2'!H242","v":0}]
[null,null,null,null,null,"Иные дисциплины вида спорта \"стендовая стрельба\"","237",0,null,null,null,null,null,null,null,null,null,null,null,null,{"$f":"'Раздел 2'!H243","v":0}]
[null,null,null,null,null,"Страйкбол","238",0,null,null,null,null,null,null,null,null,null,null,null,null,{"$f":"'Раздел 2'!H244","v":0}]
[null,null,null,null,null,"Стрельба из арбалета","239",0,null,null,null,null,null,null,null,null,null,null,null,null,{"$f":"'Раздел 2'!H245","v":0}]
[null,null,null,null,null,"Стрельба из боевого ручного стрелкового оружия","240",0,null,null,null,null,null,null,null,null,null,null,null,null,{"$f":"'Раздел 2'!H246","v":0}]
[null,null,null,null,null,"Стрельба из лука - всего","241",0,{"$f":"SUM(I251:I254)","v":0},{"$f":"SUM(J251:J254)","v":0},0,0,0,0,0,0,0,0,0,0,{"$f":"'Раздел 2'!H247","v":0}]
[null,null,null,null,null,"в том числе:\nКлассический лук","242",0,null,null,null,null,null,null,null,null,null,null,null,null,{"$f":"'Раздел 2'!H248","v":0}]
[null,null,null,null,null,"Блочный лук","243",0,null,null,null,null,null,null,null,null,null,null,null,null,{"$f":"'Раздел 2'!H249","v":0}]
[null,null,null,null,null,"Ачери ","244",0,null,null,null,null,null,null,null,null,null,null,null,null,{"$f":"'Раздел 2'!H250","v":0}]
[null,null,null,null,null,"Иные дисциплины вида спорта \"стрельба из лука\"","245",0,null,null,null,null,null,null,null,null,null,null,null,null,{"$f":"'Раздел 2'!H251","v":0}]
[null,null,null,null,null,"Стрельба из штатного или табельного оружия","246",0,null,null,null,null,null,null,null,null,null,null,null,null,{"$f":"'Раздел 2'!H252","v":0}]
[null,null,null,null,null,"Стрельба на дальние дистанции","247",0,null,null,null,null,null,null,null,null,null,null,null,null,{"$f":"'Раздел 2'!H253","v":0}]
[null,null,null,null,null,"Судомодельный спорт","248",0,null,null,null,null,null,null,null,null,null,null,null,null,{"$f":"'Раздел 2'!H254","v":0}]
[null,null,null,null,null,"Сумо","249",0,null,null,null,null,null,null,null,null,null,null,null,null,{"$f":"'Раздел 2'!H255","v":0}]
[null,null,null,null,null,"Таврели","250",0,null,null,null,null,null,null,null,null,null,null,null,null,{"$f":"'Раздел 2'!H256","v":0}]
[null,null,null,null,null,"Танцевальный спорт","251",0,null,null,null,null,null,null,null,null,null,null,null,null,{"$f":"'Раздел 2'!H257","v":1}]
[null,null,null,null,null,"Теннис","252",0,null,null,null,null,null,null,null,null,null,null,null,null,{"$f":"'Раздел 2'!H258","v":0}]
[null,null,null,null,null,"Триатлон","253",0,null,null,null,null,null,null,null,null,null,null,null,null,{"$f":"'Раздел 2'!H259","v":0}]
[null,null,null,null,null,"Тхэквондо ВТФ","254",0,null,null,null,null,null,null,null,null,null,null,null,null,{"$f":"'Раздел 2'!H260","v":0}]
[null,null,null,null,null,"Тхэквондо ГТФ","255",0,null,null,null,null,null,null,null,null,null,null,null,null,{"$f":"'Раздел 2'!H261","v":0}]
[null,null,null,null,null,"Тхэквондо ИТФ","256",0,null,null,null,null,null,null,null,null,null,null,null,null,{"$f":"'Раздел 2'!H262","v":0}]
[null,null,null,null,null,"Тхэквондо МФТ","257",0,null,null,null,null,null,null,null,null,null,null,null,null,{"$f":"'Раздел 2'!H263","v":0}]
[null,null,null,null,null,"Тяжелая атлетика","258",{"$f":"SUM(I267:N267)","v":0},null,null,null,null,null,null,null,null,null,null,null,null,{"$f":"'Раздел 2'!H264","v":0}]
[null,null,null,null,null,"Универсальный бой","259",0,null,null,null,null,null,null,null,null,null,null,null,null,{"$f":"'Раздел 2'!H265","v":0}]
[null,null,null,null,null,"Ушу","260",0,null,null,null,null,null,null,null,null,null,null,null,null,{"$f":"'Раздел 2'!H266","v":1}]
[null,null,null,null,null,"Фехтование - всего","261",0,{"$f":"SUM(I271:I274)","v":0},{"$f":"SUM(J271:J274)","v":0},0,0,0,0,0,0,0,0,0,0,{"$f":"'Раздел 2'!H267","v":0}]
[null,null,null,null,null,"в том числе:\nРапира","262",0,null,null,null,null,null,null,null,null,null,null,null,null,{"$f":"'Раздел 2'!H268","v":0}]
[null,null,null,null,null,"Сабля","263",0,null,null,null,null,null,null,null,null,null,null,null,null,{"$f":"'Раздел 2'!H269","v":0}]
[null,null,null,null,null,"Шпага","264",0,null,null,null,null,null,null,null,null,null,null,null,null,{"$f":"'Раздел 2'!H270","v":0}]
[null,null,null,null,null,"Арт-фехтование","265",0,null,null,null,null,null,null,null,null,null,null,null,null,{"$f":"'Раздел 2'!H271","v":0}]
[null,null,null,null,null,"Фигурное катание на коньках","266",0,null,null,null,null,null,null,null,null,null,null,null,null,{"$f":"'Раздел 2'!H272","v":0}]
[null,null,null,null,null,"Фиджитал спорт (функционально-цифровой спорт) - всего","267",0,{"$f":"SUM(I277:I281)","v":0},{"$f":"SUM(J277:J281)","v":0},0,0,0,0,0,0,0,0,0,0,{"$f":"'Раздел 2'!H273","v":0}]
[null,null,null,null,null,"в том числе:\nДвоеборье - автомодель","268",0,null,null,null,null,null,null,null,null,null,null,null,null,{"$f":"'Раздел 2'!H274","v":0}]
[null,null,null,null,null,"Двоеборье - единоборство","269",0,null,null,null,null,null,null,null,null,null,null,null,null,{"$f":"'Раздел 2'!H275","v":0}]
[null,null,null,null,null,"Двоеборье - тактическая стрельба","270",0,null,null,null,null,null,null,null,null,null,null,null,null,{"$f":"'Раздел 2'!H276","v":0}]
[null,null,null,null,null,"Преследование с препятствиями","271",0,null,null,null,null,null,null,null,null,null,null,null,null,{"$f":"'Раздел 2'!H277","v":0}]
[null,null,null,null,null,"Ритм - симулятор","272",0,null,null,null,null,null,null,null,null,null,null,null,null,{"$f":"'Раздел 2'!H278","v":0}]
[null,null,null,null,null,"Фитнес-аэробика","273",0,null,null,null,null,null,null,null,null,null,null,null,null,{"$f":"'Раздел 2'!H279","v":0}]
[null,null,null,null,null,"Флаинг диск","274",0,null,null,null,null,null,null,null,null,null,null,null,null,{"$f":"'Раздел 2'!H280","v":0}]
[null,null,null,null,null,"Флорбол","275",0,null,null,null,null,null,null,null,null,null,null,null,null,{"$f":"'Раздел 2'!H281","v":0}]
[null,null,null,null,null,"Фристайл - всего","276",0,{"$f":"SUM(I286:I291)","v":0},{"$f":"SUM(J286:J291)","v":0},0,0,0,0,0,0,0,0,0,0,{"$f":"'Раздел 2'!H282","v":0}]
[null,null,null,null,null,"в том числе:\nАкробатика","277",0,null,null,null,null,null,null,null,null,null,null,null,null,{"$f":"'Раздел 2'!H283","v":0}]
[null,null,null,null,null,"Биг-эйр","278",0,null,null,null,null,null,null,null,null,null,null,null,null,{"$f":"'Раздел 2'!H284","v":0}]
[null,null,null,null,null,"Могул","279",0,null,null,null,null,null,null,null,null,null,null,null,null,{"$f":"'Раздел 2'!H285","v":0}]
[null,null,null,null,null,"Ски-кросс","280",0,null,null,null,null,null,null,null,null,null,null,null,null,{"$f":"'Раздел 2'!H286","v":0}]
[null,null,null,null,null,"Хаф-пайп","281",0,null,null,null,null,null,null,null,null,null,null,null,null,{"$f":"'Раздел 2'!H287","v":0}]
[null,null,null,null,null,"Слоупстайл","282",0,null,null,null,null,null,null,null,null,null,null,null,null,{"$f":"'Раздел 2'!H288","v":0}]
[null,null,null,null,null,"Функциональное многоборье","283",0,null,null,null,null,null,null,null,null,null,null,null,null,{"$f":"'Раздел 2'!H289","v":0}]
[null,null,null,null,null,"Футбол - всего","284",0,{"$f":"SUM(I294:I300)","v":0},{"$f":"SUM(J294:J300)","v":0},0,0,0,0,0,0,0,0,0,0,{"$f":"'Раздел 2'!H290","v":1}]
[null,null,null,null,null,"в том числе:\nФутбол (муж.)","285",0,null,null,null,null,null,null,null,null,null,null,null,null,{"$f":"'Раздел 2'!H291","v":0}]
[null,null,null,null,null,"Футбол (жен.)","286",0,null,null,null,null,null,null,null,null,null,null,null,null,{"$f":"'Раздел 2'!H292","v":0}]
[null,null,null,null,null,"Интерактивный футбол","287",0,null,null,null,null,null,null,null,null,null,null,null,null,{"$f":"'Раздел 2'!H293","v":0}]
[null,null,null,null,null,"Мини-футбол","288",0,null,null,null,null,null,null,null,null,null,null,null,null,{"$f":"'Раздел 2'!H294","v":0}]
[null,null,null,null,null,"Пляжный футбол","289",0,null,null,null,null,null,null,null,null,null,null,null,null,{"$f":"'Раздел 2'!H295","v":0}]
[null,null,null,null,null,"Футбольное двоеборье","290",0,null,null,null,null,null,null,null,null,null,null,null,null,{"$f":"'Раздел 2'!H296","v":0}]
[null,null,null,null,null,"Футзал","291",0,null,null,null,null,null,null,null,null,null,null,null,null,{"$f":"'Раздел 2'!H297","v":1}]
[null,null,null,null,null,"Хапкидо","292",0,null,null,null,null,null,null,null,null,null,null,null,null,{"$f":"'Раздел 2'!H298","v":0}]
[null,null,null,null,null,"Хапсагай","293",0,null,null,null,null,null,null,null,null,null,null,null,null,{"$f":"'Раздел 2'!H299","v":0}]
[null,null,null,null,null,"Хоккей - всего","294",0,{"$f":"SUM(I304:I308)","v":0},{"$f":"SUM(J304:J308)","v":0},0,0,0,0,0,0,0,0,0,0,{"$f":"'Раздел 2'!H300","v":0}]
[null,null,null,null,null,"в том числе:\nХоккей (муж.)","295",0,null,null,null,null,null,null,null,null,null,null,null,null,{"$f":"'Раздел 2'!H301","v":0}]
[null,null,null,null,null,"Хоккей (жен.)","296",0,null,null,null,null,null,null,null,null,null,null,null,null,{"$f":"'Раздел 2'!H302","v":0}]
[null,null,null,null,null,"Хоккейное двоеборье","297",0,null,null,null,null,null,null,null,null,null,null,null,null,{"$f":"'Раздел 2'!H303","v":0}]
[null,null,null,null,null,"Хоккей 2х2, 3х3, 4х4","298",0,null,null,null,null,null,null,null,null,null,null,null,null,{"$f":"'Раздел 2'!H304","v":0}]
[null,null,null,null,null,"Интерактивный хоккей","299",0,null,null,null,null,null,null,null,null,null,null,null,null,{"$f":"'Раздел 2'!H305","v":0}]
[null,null,null,null,null,"Хоккей на траве - всего","300",0,{"$f":"SUM(I310:I312)","v":0},{"$f":"SUM(J310:J312)","v":0},0,0,0,0,0,0,0,0,0,0,{"$f":"'Раздел 2'!H306","v":0}]
[null,null,null,null,null,"в том числе:\nХоккей на траве (муж.)","301",0,null,null,null,null,null,null,null,null,null,null,null,null,{"$f":"'Раздел 2'!H307","v":0}]
[null,null,null,null,null,"Хоккей на траве (жен.)","302",0,null,null,null,null,null,null,null,null,null,null,null,null,{"$f":"'Раздел 2'!H308","v":0}]
[null,null,null,null,null,"Иные дисциплины вида спорта \"хоккей на траве\"","303",0,null,null,null,null,null,null,null,null,null,null,null,null,{"$f":"'Раздел 2'!H309","v":0}]
[null,null,null,null,null,"Хоккей с мячом","304",0,null,null,null,null,null,null,null,null,null,null,null,null,{"$f":"'Раздел 2'!H310","v":0}]
[null,null,null,null,null,"Художественная гимнастика","305",0,null,null,null,null,null,null,null,null,null,null,null,null,{"$f":"'Раздел 2'!H311","v":0}]
[null,null,null,null,null,"Хуреш","306",0,null,null,null,null,null,null,null,null,null,null,null,null,{"$f":"'Раздел 2'!H312","v":0}]
[null,null,null,null,null,"Чир спорт","307",0,null,null,null,null,null,null,null,null,null,null,null,null,{"$f":"'Раздел 2'!H313","v":0}]
[null,null,null,null,null,"Шахбокс","308",0,null,null,null,null,null,null,null,null,null,null,null,null,{"$f":"'Раздел 2'!H314","v":0}]
[null,null,null,null,null,"Шахматы","309",0,null,null,null,null,null,null,null,null,null,null,null,null,{"$f":"'Раздел 2'!H315","v":1}]
[null,null,null,null,null,"Шашки","310",0,null,null,null,null,null,null,null,null,null,null,null,null,{"$f":"'Раздел 2'!H316","v":0}]
[null,null,null,null,null,"Шодсанлат","311",0,null,null,null,null,null,null,null,null,null,null,null,null,{"$f":"'Раздел 2'!H317","v":0}]
[null,null,null,null,null,"Эстетическая гимнастика","312",0,null,null,null,null,null,null,null,null,null,null,null,null,{"$f":"'Раздел 2'!H318","v":0}]
[null,null,null,null,null,"Якутские национальные прыжки","313",0,null,null,null,null,null,null,null,null,null,null,null,null,{"$f":"'Раздел 2'!H319","v":0}]
[null,null,null,null,null,"ИТОГО","314",11,{"$f":"SUM(\nI10:I16, I19:I24, I30:I33, I38:I44, I50:I51, I55:I63, I69:I71, I75:I78, I83:I90, I93:I104, I108:I113, I121:I122, I127:I152, I155:I161, I166:I167, I173:I176, I183:I197, I201:I212, I218:I224, I230:I234, I240:I243, I247:I250, I255:I270, I275:I276, I282:I285, I292:I293, I301:I303, I309, I313:I322)","v":4},{"$f":"SUM(\nJ10:J16, J19:J24, J30:J33, J38:J44, J50:J51, J55:J63, J69:J71, J75:J78, J83:J90, J93:J104, J108:J113, J121:J122, J127:J152, J155:J161, J166:J167, J173:J176, J183:J197, J201:J212, J218:J224, J230:J234, J240:J243, J247:J250, J255:J270, J275:J276, J282:J285, J292:J293, J301:J303, J309, J313:J322)","v":0},1,0,5,1,4,0,1,0,2,0]

{"sheet":"Раздел 6","index":6,"n_rows":320,"n_cols":45,"rows_kept":320,"cut":false,"hidden":false,"merged":[[0,5,0,42],[1,5,4,5],[1,6,4,6],[1,7,1,42],[2,7,3,12],[2,13,3,17],[2,18,3,22],[2,23,3,27],[2,28,3,32],[2,38,3,42],[2,33,3,37]]}
[null,null,null,null,null,"Раздел VI. Всероссийские спортивные соревнования, единица"]
[null,null,null,null,null,"Виды спорта","№ строки","Результаты выступлений на соревнованиях"]
[null,null,null,null,null,null,null,"Всего",null,null,null,null,null,"Чемпионат России",null,null,null,null,"Первенство России среди юниоров и юниорок",null,null,null,null,"Первенство России среди юношей и девушек",null,null,null,null,"Кубок России",null,null,null,null,"Всероссийские спартакиады между спортсменами субъектов Российской Федерации по летним и зимним видам спорта ",null,null,null,null,"Прочие официальные всероссийские соревнования"]
[]
["Код региона","ОГРН","Ведоственная принадлежность","Вид организации","Вид правового образования",null,null,"медали \n(1-3 место)",1,2,3,"4-6","учас-тие",1,2,3,"4-6","учас-тие",1,2,3,"4-6","учас-тие",1,2,3,"4-6","учас-тие",1,2,3,"4-6","учас-тие",1,2,3,"4-6","учас-тие",1,2,3,"4-6","учас-тие"]
[{"$f":"'Раздел 0'!M27","v":86},{"$f":"IF('Раздел 1'!D15>0,'Раздел 1'!D15,\"ОСП\")","v":1188617000428},{"$f":"(IF(SUM('Раздел 1'!D5:D6)>0,\"ФКИС\",IF(SUM('Раздел 1'!D7:D8)>0,\"ОБРАЗОВАНИЕ\",IF(SUM('Раздел 1'!D9:D10)>0,\"ДВП\",\" \"))))","v":"ФКИС"},{"$f":"(IF(SUM('Раздел 1'!E12:E13)>0,\"СШ\",IF(SUM('Раздел 1'!F12:F13)>0,\"СШОР\",IF(SUM('Раздел 1'!G12:G13)>0,\"УОР\",IF(SUM('Раздел 1'!H12:H13)>0,\"ЦСП\",IF(SUM('Раздел 1'!I12:I13)>0,\"Другие\"))))))","v":"СШ"},{"$f":"(IF('Раздел 1'!D19=1,\"РФ\",IF('Раздел 1'!E19=1,\"Суб РФ\",IF('Раздел 1'!F19=1,\"МО\",IF('Раздел 1'!H19=1,\"ИПО\",\"ОСП\")))))","v":"МО"},1,2,3,4,5,6,7,8,9,10,11,12,13,14,15,16,17,18,19,20,21,22,23,24,25,26,27,28,29,30,31,32,33,34,35,36,37,38,"цсп?","2р 1"]
[null,null,null,null,null,"Авиамодельный спорт","01",{"$f":"SUM(I7:K7)","v":0},{"$f":"SUM(N7,S7,X7,AC7,AH7,AM7)","v":0},{"$f":"SUM(O7,T7,Y7,AD7,AI7,AN7)","v":0},0,0,0,null,null,null,null,null,null,null,null,null,null,null,null,null,null,null,null,null,null,null,null,null,null,null,null,null,null,null,null,null,null,{"$f":"'Раздел 1'!H12","v":0},{"$f":"'Раздел 2'!H7","v":0}]
[null,null,null,null,null,"Авиационные гонки","02",{"$f":"SUM(I8:K8)","v":0},{"$f":"SUM(N8,S8,X8,AC8,AH8,AM8)","v":0},{"$f":"SUM(O8,T8,Y8,AD8,AI8,AN8)","v":0},{"$f":"SUM(P8,U8,Z8,AE8,AJ8,AO8)","v":0},{"$f":"SUM(Q8,V8,AA8,AF8,AK8,AP8)","v":0},{"$f":"SUM(R8,W8,AB8,AG8,AL8,AQ8)","v":0},null,null,null,null,null,null,null,null,null,null,null,null,null,null,null,null,null,null,null,null,null,null,null,null,null,null,null,null,null,null,null,{"$f":"'Раздел 2'!H8","v":0}]
[null,null,null,null,null,"Автомобильный спорт","03",0,0,0,0,0,0,null,null,null,null,null,null,null,null,null,null,null,null,null,null,null,null,null,null,null,null,null,null,null,null,null,null,null,null,null,null,null,{"$f":"'Раздел 2'!H9","v":0}]
[null,null,null,null,null,"Автомодельный спорт","04",0,0,0,0,0,0,null,null,null,null,null,null,null,null,null,null,null,null,null,null,null,null,null,null,null,null,null,null,null,null,null,null,null,null,null,null,null,{"$f":"'Раздел 2'!H10","v":0}]
[null,null,null,null,null,"Айкидо","05",0,0,0,0,0,0,null,null,null,null,null,null,null,null,null,null,null,null,null,null,null,null,null,null,null,null,null,null,null,null,null,null,null,null,null,null,null,{"$f":"'Раздел 2'!H11","v":0}]
[null,null,null,null,null,"Акробатический рок-н-ролл","06",0,0,0,0,0,0,null,null,null,null,null,null,null,null,null,null,null,null,null,null,null,null,null,null,null,null,null,null,null,null,null,null,null,null,null,null,null,{"$f":"'Раздел 2'!H12","v":0}]
[null,null,null,null,null,"Альпинизм - всего","07",0,0,0,0,0,0,{"$f":"SUM(N14:N15)","v":0},{"$f":"SUM(O14:O15)","v":0},0,0,0,0,0,0,0,0,0,0,0,0,0,0,0,0,0,0,0,0,0,0,0,0,0,0,0,0,null,{"$f":"'Раздел 2'!H13","v":0}]
[null,null,null,null,null,"В том числе:\nСки-альпинизм","08",0,0,0,0,0,0,null,null,null,null,null,null,null,null,null,null,null,null,null,null,null,null,null,null,null,null,null,null,null,null,null,null,null,null,null,null,null,{"$f":"'Раздел 2'!H14","v":0}]
[null,null,null,null,null,"Иные дисциплины вида спорта \"альпинизм\"","09",0,0,0,0,0,0,null,null,null,null,null,null,null,null,null,null,null,null,null,null,null,null,null,null,null,null,null,null,null,null,null,null,null,null,null,null,null,{"$f":"'Раздел 2'!H15","v":0}]
[null,null,null,null,null,"Американский футбол","10",0,0,0,0,0,0,null,null,null,null,null,null,null,null,null,null,null,null,null,null,null,null,null,null,null,null,null,null,null,null,null,null,null,null,null,null,null,{"$f":"'Раздел 2'!H16","v":0}]
[null,null,null,null,null,"Армейский рукопашный бой","11",0,0,0,0,0,0,null,null,null,null,null,null,null,null,null,null,null,null,null,null,null,null,null,null,null,null,null,null,null,null,null,null,null,null,null,null,null,{"$f":"'Раздел 2'!H17","v":0}]
[null,null,null,null,null,"Армейское тактико-стрелковое многоборье","12",0,0,0,0,0,0,null,null,null,null,null,null,null,null,null,null,null,null,null,null,null,null,null,null,null,null,null,null,null,null,null,null,null,null,null,null,null,{"$f":"'Раздел 2'!H18","v":0}]
[null,null,null,null,null,"Армрестлинг","13",0,0,0,0,0,0,null,null,null,null,null,null,null,null,null,null,null,null,null,null,null,null,null,null,null,null,null,null,null,null,null,null,null,null,null,null,null,{"$f":"'Раздел 2'!H19","v":0}]
[null,null,null,null,null,"Бадминтон","14",0,0,0,0,0,0,null,null,null,null,null,null,null,null,null,null,null,null,null,null,null,null,null,null,null,null,null,null,null,null,null,null,null,null,null,null,null,{"$f":"'Раздел 2'!H20","v":0}]
[null,null,null,null,null,"Баскетбол - всего","15",0,0,0,0,0,0,{"$f":"SUM(N22:N26)","v":0},{"$f":"SUM(O22:O26)","v":0},0,0,0,0,0,0,0,0,0,0,0,0,0,0,0,0,0,0,0,0,0,0,0,0,0,0,0,0,null,{"$f":"'Раздел 2'!H21","v":0}]
[null,null,null,null,null,"в том числе:\nБаскетбол (муж.)","16",0,0,0,0,0,0,null,null,null,null,null,null,null,null,null,null,null,null,null,null,null,null,null,null,null,null,null,null,null,null,null,null,null,null,null,null,null,{"$f":"'Раздел 2'!H22","v":0}]
[null,null,null,null,null,"Баскетбол (жен.)","17",0,0,0,0,0,0,null,null,null,null,null,null,null,null,null,null,null,null,null,null,null,null,null,null,null,null,null,null,null,null,null,null,null,null,null,null,null,{"$f":"'Раздел 2'!H23","v":0}]
[null,null,null,null,null,"Баскетбол 3х3","18",0,0,0,0,0,0,null,null,null,null,null,null,null,null,null,null,null,null,null,null,null,null,null,null,null,null,null,null,null,null,null,null,null,null,null,null,null,{"$f":"'Раздел 2'!H24","v":0}]
[null,null,null,null,null,"Интерактивный баскетбол","19",0,0,0,0,0,0,null,null,null,null,null,null,null,null,null,null,null,null,null,null,null,null,null,null,null,null,null,null,null,null,null,null,null,null,null,null,null,{"$f":"'Раздел 2'!H25","v":0}]
[null,null,null,null,null,"Иные дисциплины вида спорта \"баскетбол\"","20",0,0,0,0,0,0,null,null,null,null,null,null,null,null,null,null,null,null,null,null,null,null,null,null,null,null,null,null,null,null,null,null,null,null,null,null,null,{"$f":"'Раздел 2'!H26","v":0}]
[null,null,null,null,null,"Бейсбол","21",0,0,0,0,0,0,null,null,null,null,null,null,null,null,null,null,null,null,null,null,null,null,null,null,null,null,null,null,null,null,null,null,null,null,null,null,null,{"$f":"'Раздел 2'!H27","v":0}]
[null,null,null,null,null,"Биатлон","22",0,0,0,0,0,0,null,null,null,null,null,null,null,null,null,null,null,null,null,null,null,null,null,null,null,null,null,null,null,null,null,null,null,null,null,null,null,{"$f":"'Раздел 2'!H28","v":0}]
[null,null,null,null,null,"Бильярдный спорт","23",0,0,0,0,0,0,null,null,null,null,null,null,null,null,null,null,null,null,null,null,null,null,null,null,null,null,null,null,null,null,null,null,null,null,null,null,null,{"$f":"'Раздел 2'!H29","v":0}]
[null,null,null,null,null,"Бобслей - всего","24",0,0,0,0,0,0,{"$f":"SUM(N31:N34)","v":0},{"$f":"SUM(O31:O34)","v":0},0,0,0,0,0,0,0,0,0,0,0,0,0,0,0,0,0,0,0,0,0,0,0,0,0,0,0,0,null,{"$f":"'Раздел 2'!H30","v":0}]
[null,null,null,null,null,"В том числе:\nСкелетон","25",0,0,0,0,0,0,null,null,null,null,null,null,null,null,null,null,null,null,null,null,null,null,null,null,null,null,null,null,null,null,null,null,null,null,null,null,null,{"$f":"'Раздел 2'!H31","v":0}]
[null,null,null,null,null,"Экипаж","26",0,0,0,0,0,0,null,null,null,null,null,null,null,null,null,null,null,null,null,null,null,null,null,null,null,null,null,null,null,null,null,null,null,null,null,null,null,{"$f":"'Раздел 2'!H32","v":0}]
[null,null,null,null,null,"Монобоб","27",0,0,0,0,0,0,null,null,null,null,null,null,null,null,null,null,null,null,null,null,null,null,null,null,null,null,null,null,null,null,null,null,null,null,null,null,null,{"$f":"'Раздел 2'!H33","v":0}]
[null,null,null,null,null,"Иные дисциплины вида спорта \"бобслей\"","28",0,0,0,0,0,0,null,null,null,null,null,null,null,null,null,null,null,null,null,null,null,null,null,null,null,null,null,null,null,null,null,null,null,null,null,null,null,{"$f":"'Раздел 2'!H34","v":0}]
[null,null,null,null,null,"Бодибилдинг","29",0,0,0,0,0,0,null,null,null,null,null,null,null,null,null,null,null,null,null,null,null,null,null,null,null,null,null,null,null,null,null,null,null,null,null,null,null,{"$f":"'Раздел 2'!H35","v":0}]
[null,null,null,null,null,"Бокс","30",0,0,0,0,0,0,null,null,null,null,null,null,null,null,null,null,null,null,null,null,null,null,null,null,null,null,null,null,null,null,null,null,null,null,null,null,null,{"$f":"'Раздел 2'!H36","v":0}]
[null,null,null,null,null,"Борьба на поясах","31",0,0,0,0,0,0,null,null,null,null,null,null,null,null,null,null,null,null,null,null,null,null,null,null,null,null,null,null,null,null,null,null,null,null,null,null,null,{"$f":"'Раздел 2'!H37","v":0}]
[null,null,null,null,null,"Боулинг","32",0,0,0,0,0,0,null,null,null,null,null,null,null,null,null,null,null,null,null,null,null,null,null,null,null,null,null,null,null,null,null,null,null,null,null,null,null,{"$f":"'Раздел 2'!H38","v":0}]
[null,null,null,null,null,"Боулспорт","33",0,0,0,0,0,0,null,null,null,null,null,null,null,null,null,null,null,null,null,null,null,null,null,null,null,null,null,null,null,null,null,null,null,null,null,null,null,{"$f":"'Раздел 2'!H39","v":0}]
[null,null,null,null,null,"Брейкинг","34",0,0,0,0,0,0,null,null,null,null,null,null,null,null,null,null,null,null,null,null,null,null,null,null,null,null,null,null,null,null,null,null,null,null,null,null,null,{"$f":"'Раздел 2'!H40","v":0}]
[null,null,null,null,null,"Велосипедный спорт - всего","35",0,0,0,0,0,0,{"$f":"SUM(N42:N46)","v":0},{"$f":"SUM(O42:O46)","v":0},0,0,0,0,0,0,0,0,0,0,0,0,0,0,0,0,0,0,0,0,0,0,0,0,0,0,0,0,null,{"$f":"'Раздел 2'!H41","v":0}]
[null,null,null,null,null,"в том числе:\nBMX (гонка, эстафета)","36",0,0,0,0,0,0,null,null,null,null,null,null,null,null,null,null,null,null,null,null,null,null,null,null,null,null,null,null,null,null,null,null,null,null,null,null,null,{"$f":"'Раздел 2'!H42","v":0}]
[null,null,null,null,null,"BMX - фристайл","37",0,0,0,0,0,0,null,null,null,null,null,null,null,null,null,null,null,null,null,null,null,null,null,null,null,null,null,null,null,null,null,null,null,null,null,null,null,{"$f":"'Раздел 2'!H43","v":0}]
[null,null,null,null,null,"Маунтинбайк","38",0,0,0,0,0,0,null,null,null,null,null,null,null,null,null,null,null,null,null,null,null,null,null,null,null,null,null,null,null,null,null,null,null,null,null,null,null,{"$f":"'Раздел 2'!H44","v":0}]
[null,null,null,null,null,"Трек","39",0,0,0,0,0,0,null,null,null,null,null,null,null,null,null,null,null,null,null,null,null,null,null,null,null,null,null,null,null,null,null,null,null,null,null,null,null,{"$f":"'Раздел 2'!H45","v":0}]
[null,null,null,null,null,"Шоссе","40",0,0,0,0,0,0,null,null,null,null,null,null,null,null,null,null,null,null,null,null,null,null,null,null,null,null,null,null,null,null,null,null,null,null,null,null,null,{"$f":"'Раздел 2'!H46","v":0}]
[null,null,null,null,null,"Вертолетный спорт","41",0,0,0,0,0,0,null,null,null,null,null,null,null,null,null,null,null,null,null,null,null,null,null,null,null,null,null,null,null,null,null,null,null,null,null,null,null,{"$f":"'Раздел 2'!H47","v":0}]
[null,null,null,null,null,"Водное поло - всего","42",0,0,0,0,0,0,{"$f":"SUM(N49:N51)","v":0},{"$f":"SUM(O49:O51)","v":0},0,0,0,0,0,0,0,0,0,0,0,0,0,0,0,0,0,0,0,0,0,0,0,0,0,0,0,0,null,{"$f":"'Раздел 2'!H48","v":0}]
[null,null,null,null,null,"в том числе:\nВодное поло (муж.)","43",0,0,0,0,0,0,null,null,null,null,null,null,null,null,null,null,null,null,null,null,null,null,null,null,null,null,null,null,null,null,null,null,null,null,null,null,null,{"$f":"'Раздел 2'!H49","v":0}]
[null,null,null,null,null,"Водное поло (жен.)","44",0,0,0,0,0,0,null,null,null,null,null,null,null,null,null,null,null,null,null,null,null,null,null,null,null,null,null,null,null,null,null,null,null,null,null,null,null,{"$f":"'Раздел 2'!H50","v":0}]
[null,null,null,null,null,"Иные дисциплины вида спорта \"водное поло\"","45",0,0,0,0,0,0,null,null,null,null,null,null,null,null,null,null,null,null,null,null,null,null,null,null,null,null,null,null,null,null,null,null,null,null,null,null,null,{"$f":"'Раздел 2'!H51","v":0}]
[null,null,null,null,null,"Воднолыжный спорт","46",0,0,0,0,0,0,null,null,null,null,null,null,null,null,null,null,null,null,null,null,null,null,null,null,null,null,null,null,null,null,null,null,null,null,null,null,null,{"$f":"'Раздел 2'!H52","v":0}]
[null,null,null,null,null,"Водно-моторный спорт","47",0,0,0,0,0,0,null,null,null,null,null,null,null,null,null,null,null,null,null,null,null,null,null,null,null,null,null,null,null,null,null,null,null,null,null,null,null,{"$f":"'Раздел 2'!H53","v":0}]
[null,null,null,null,null,"Водно-спасательное многоборье","48",0,0,0,0,0,0,null,null,null,null,null,null,null,null,null,null,null,null,null,null,null,null,null,null,null,null,null,null,null,null,null,null,null,null,null,null,null,{"$f":"'Раздел 2'!H54","v":0}]
[null,null,null,null,null,"Военно-прикладной спорт","49",0,0,0,0,0,0,null,null,null,null,null,null,null,null,null,null,null,null,null,null,null,null,null,null,null,null,null,null,null,null,null,null,null,null,null,null,null,{"$f":"'Раздел 2'!H55","v":0}]
[null,null,null,null,null,"Военно-спортивное многоборье","50",0,0,0,0,0,0,null,null,null,null,null,null,null,null,null,null,null,null,null,null,null,null,null,null,null,null,null,null,null,null,null,null,null,null,null,null,null,{"$f":"'Раздел 2'!H56","v":0}]
[null,null,null,null,null,"Воздухоплавательный спорт","51",0,0,0,0,0,0,null,null,null,null,null,null,null,null,null,null,null,null,null,null,null,null,null,null,null,null,null,null,null,null,null,null,null,null,null,null,null,{"$f":"'Раздел 2'!H57","v":0}]
[null,null,null,null,null,"Воздушная гимнастика","52",0,0,0,0,0,0,null,null,null,null,null,null,null,null,null,null,null,null,null,null,null,null,null,null,null,null,null,null,null,null,null,null,null,null,null,null,null,{"$f":"'Раздел 2'!H58","v":0}]
[null,null,null,null,null,"Воздушно-силовая атлетика","53",0,0,0,0,0,0,null,null,null,null,null,null,null,null,null,null,null,null,null,null,null,null,null,null,null,null,null,null,null,null,null,null,null,null,null,null,null,{"$f":"'Раздел 2'!H59","v":0}]
[null,null,null,null,null,"Волейбол - всего","54",0,0,0,0,0,0,{"$f":"SUM(N61:N65)","v":0},{"$f":"SUM(O61:O65)","v":0},0,0,0,0,0,0,0,0,0,0,0,0,0,0,0,0,0,0,0,0,0,0,0,0,0,0,0,0,null,{"$f":"'Раздел 2'!H60","v":0}]
[null,null,null,null,null,"в том числе:\nВолейбол (муж.)","55",0,0,0,0,0,0,null,null,null,null,null,null,null,null,null,null,null,null,null,null,null,null,null,null,null,null,null,null,null,null,null,null,null,null,null,null,null,{"$f":"'Раздел 2'!H61","v":0}]
[null,null,null,null,null,"Волейбол (жен.)","56",0,0,0,0,0,0,null,null,null,null,null,null,null,null,null,null,null,null,null,null,null,null,null,null,null,null,null,null,null,null,null,null,null,null,null,null,null,{"$f":"'Раздел 2'!H62","v":0}]
[null,null,null,null,null,"Пляжный волейбол (муж.)","57",0,0,0,0,0,0,null,null,null,null,null,null,null,null,null,null,null,null,null,null,null,null,null,null,null,null,null,null,null,null,null,null,null,null,null,null,null,{"$f":"'Раздел 2'!H63","v":0}]
[null,null,null,null,null,"Пляжный волейбол (жен.)","58",0,0,0,0,0,0,null,null,null,null,null,null,null,null,null,null,null,null,null,null,null,null,null,null,null,null,null,null,null,null,null,null,null,null,null,null,null,{"$f":"'Раздел 2'!H64","v":0}]
[null,null,null,null,null,"Волейбол на снегу","59",0,0,0,0,0,0,null,null,null,null,null,null,null,null,null,null,null,null,null,null,null,null,null,null,null,null,null,null,null,null,null,null,null,null,null,null,null,{"$f":"'Раздел 2'!H65","v":0}]
[null,null,null,null,null,"Восточное боевое единоборство","60",0,0,0,0,0,0,null,null,null,null,null,null,null,null,null,null,null,null,null,null,null,null,null,null,null,null,null,null,null,null,null,null,null,null,null,null,null,{"$f":"'Раздел 2'!H66","v":0}]
[null,null,null,null,null,"Всестилевое каратэ","61",0,0,0,0,0,0,null,null,null,null,null,null,null,null,null,null,null,null,null,null,null,null,null,null,null,null,null,null,null,null,null,null,null,null,null,null,null,{"$f":"'Раздел 2'!H67","v":0}]
[null,null,null,null,null,"Гандбол - всего","62",0,0,0,0,0,0,{"$f":"SUM(N69:N71)","v":0},{"$f":"SUM(O69:O71)","v":0},0,0,0,0,0,0,0,0,0,0,0,0,0,0,0,0,0,0,0,0,0,0,0,0,0,0,0,0,null,{"$f":"'Раздел 2'!H68","v":0}]
[null,null,null,null,null,"в том числе:\nГандбол (муж.)","63",0,0,0,0,0,0,null,null,null,null,null,null,null,null,null,null,null,null,null,null,null,null,null,null,null,null,null,null,null,null,null,null,null,null,null,null,null,{"$f":"'Раздел 2'!H69","v":0}]
[null,null,null,null,null,"Гандбол (жен.)","64",0,0,0,0,0,0,null,null,null,null,null,null,null,null,null,null,null,null,null,null,null,null,null,null,null,null,null,null,null,null,null,null,null,null,null,null,null,{"$f":"'Раздел 2'!H70","v":0}]
[null,null,null,null,null,"Пляжный гандбол","65",0,0,0,0,0,0,null,null,null,null,null,null,null,null,null,null,null,null,null,null,null,null,null,null,null,null,null,null,null,null,null,null,null,null,null,null,null,{"$f":"'Раздел 2'!H71","v":0}]
[null,null,null,null,null,"Гиревой спорт","66",{"$f":"SUM(I72:K72)","v":0},{"$f":"SUM(N72,S72,X72,AC72,AH72,AM72)","v":0},{"$f":"SUM(O72,T72,Y72,AD72,AI72,AN72)","v":0},{"$f":"SUM(P72,U72,Z72,AE72,AJ72,AO72)","v":0},{"$f":"SUM(Q72,V72,AA72,AF72,AK72,AP72)","v":0},{"$f":"SUM(R72,W72,AB72,AG72,AL72,AQ72)","v":0},null,null,null,null,null,null,null,null,null,null,null,null,null,null,null,null,null,null,null,null,null,null,null,null,null,null,null,null,null,null,null,{"$f":"'Раздел 2'!H72","v":0}]
[null,null,null,null,null,"Го","67",0,0,0,0,0,0,null,null,null,null,null,null,null,null,null,null,null,null,null,null,null,null,null,null,null,null,null,null,null,null,null,null,null,null,null,null,null,{"$f":"'Раздел 2'!H73","v":0}]
[null,null,null,null,null,"Гольф","68",0,0,0,0,0,0,null,null,null,null,null,null,null,null,null,null,null,null,null,null,null,null,null,null,null,null,null,null,null,null,null,null,null,null,null,null,null,{"$f":"'Раздел 2'!H74","v":0}]
[null,null,null,null,null,"Гонки дронов (беспилотных воздушных судов) - всего","69",0,0,0,0,0,0,{"$f":"SUM(N76:N79)","v":0},{"$f":"SUM(O76:O79)","v":0},0,0,0,0,0,0,0,0,0,0,0,0,0,0,0,0,0,0,0,0,0,0,0,0,0,0,0,0,null,{"$f":"'Раздел 2'!H75","v":0}]
[null,null,null,null,null,"в том числе:\nКласс 75 мм","70",0,0,0,0,0,0,null,null,null,null,null,null,null,null,null,null,null,null,null,null,null,null,null,null,null,null,null,null,null,null,null,null,null,null,null,null,null,{"$f":"'Раздел 2'!H76","v":0}]
[null,null,null,null,null,"Класс 200 мм","71",0,0,0,0,0,0,null,null,null,null,null,null,null,null,null,null,null,null,null,null,null,null,null,null,null,null,null,null,null,null,null,null,null,null,null,null,null,{"$f":"'Раздел 2'!H77","v":0}]
[null,null,null,null,null,"Класс 330 мм","72",0,0,0,0,0,0,null,null,null,null,null,null,null,null,null,null,null,null,null,null,null,null,null,null,null,null,null,null,null,null,null,null,null,null,null,null,null,{"$f":"'Раздел 2'!H78","v":0}]
[null,null,null,null,null,"Технический симулятор","73",0,0,0,0,0,0,null,null,null,null,null,null,null,null,null,null,null,null,null,null,null,null,null,null,null,null,null,null,null,null,null,null,null,null,null,null,null,{"$f":"'Раздел 2'!H79","v":0}]
[null,null,null,null,null,"Гонки на охотничьих лыжах","74",0,0,0,0,0,0,null,null,null,null,null,null,null,null,null,null,null,null,null,null,null,null,null,null,null,null,null,null,null,null,null,null,null,null,null,null,null,{"$f":"'Раздел 2'!H80","v":0}]
[null,null,null,null,null,"Гонки с препятствиями","75",0,0,0,0,0,0,null,null,null,null,null,null,null,null,null,null,null,null,null,null,null,null,null,null,null,null,null,null,null,null,null,null,null,null,null,null,null,{"$f":"'Раздел 2'!H81","v":0}]
[null,null,null,null,null,"Горнолыжный спорт","76",0,0,0,0,0,0,null,null,null,null,null,null,null,null,null,null,null,null,null,null,null,null,null,null,null,null,null,null,null,null,null,null,null,null,null,null,null,{"$f":"'Раздел 2'!H82","v":0}]
[null,null,null,null,null,"Городошный спорт","77",0,0,0,0,0,0,null,null,null,null,null,null,null,null,null,null,null,null,null,null,null,null,null,null,null,null,null,null,null,null,null,null,null,null,null,null,null,{"$f":"'Раздел 2'!H83","v":0}]
[null,null,null,null,null,"Гребля на байдарках и каноэ","78",0,0,0,0,0,0,null,null,null,null,null,null,null,null,null,null,null,null,null,null,null,null,null,null,null,null,null,null,null,null,null,null,null,null,null,null,null,{"$f":"'Раздел 2'!H84","v":0}]
[null,null,null,null,null,"Гребля на шлюпках","79",0,0,0,0,0,0,null,null,null,null,null,null,null,null,null,null,null,null,null,null,null,null,null,null,null,null,null,null,null,null,null,null,null,null,null,null,null,{"$f":"'Раздел 2'!H85","v":0}]
[null,null,null,null,null,"Гребной слалом","80",0,0,0,0,0,0,null,null,null,null,null,null,null,null,null,null,null,null,null,null,null,null,null,null,null,null,null,null,null,null,null,null,null,null,null,null,null,{"$f":"'Раздел 2'!H86","v":0}]
[null,null,null,null,null,"Гребной спорт - всего","81",0,0,0,0,0,0,{"$f":"SUM(N88:N89)","v":0},{"$f":"SUM(O88:O89)","v":0},0,0,0,0,0,0,0,0,0,0,0,0,0,0,0,0,0,0,0,0,0,0,0,0,0,0,0,0,null,{"$f":"'Раздел 2'!H87","v":0}]
[null,null,null,null,null,"в том числе:\nАкадемическая гребля","82",0,0,0,0,0,0,null,null,null,null,null,null,null,null,null,null,null,null,null,null,null,null,null,null,null,null,null,null,null,null,null,null,null,null,null,null,null,{"$f":"'Раздел 2'!H88","v":0}]
[null,null,null,null,null,"Иные дисциплины вида спорта \"гребной спорт\"","83",0,0,0,0,0,0,null,null,null,null,null,null,null,null,null,null,null,null,null,null,null,null,null,null,null,null,null,null,null,null,null,null,null,null,null,null,null,{"$f":"'Раздел 2'!H89","v":0}]
[null,null,null,null,null,"Гребно-парусное двоеборье","84",0,0,0,0,0,0,null,null,null,null,null,null,null,null,null,null,null,null,null,null,null,null,null,null,null,null,null,null,null,null,null,null,null,null,null,null,null,{"$f":"'Раздел 2'!H90","v":0}]
[null,null,null,null,null,"Дартс","85",0,0,0,0,0,0,null,null,null,null,null,null,null,null,null,null,null,null,null,null,null,null,null,null,null,null,null,null,null,null,null,null,null,null,null,null,null,{"$f":"'Раздел 2'!H91","v":0}]
[null,null,null,null,null,"Джиу-джитсу","86",0,0,0,0,0,0,null,null,null,null,null,null,null,null,null,null,null,null,null,null,null,null,null,null,null,null,null,null,null,null,null,null,null,null,null,null,null,{"$f":"'Раздел 2'!H92","v":0}]
[null,null,null,null,null,"Джутайдо","87",0,0,0,0,0,0,null,null,null,null,null,null,null,null,null,null,null,null,null,null,null,null,null,null,null,null,null,null,null,null,null,null,null,null,null,null,null,{"$f":"'Раздел 2'!H93","v":0}]
[null,null,null,null,null,"Дзюдо","88",0,0,0,0,0,0,null,null,null,null,null,null,null,null,null,null,null,null,null,null,null,null,null,null,null,null,null,null,null,null,null,null,null,null,null,null,null,{"$f":"'Раздел 2'!H94","v":0}]
[null,null,null,null,null,"Ездовой спорт","89",0,0,0,0,0,0,null,null,null,null,null,null,null,null,null,null,null,null,null,null,null,null,null,null,null,null,null,null,null,null,null,null,null,null,null,null,null,{"$f":"'Раздел 2'!H95","v":0}]
[null,null,null,null,null,"Зимнее плавание","90",0,0,0,0,0,0,null,null,null,null,null,null,null,null,null,null,null,null,null,null,null,null,null,null,null,null,null,null,null,null,null,null,null,null,null,null,null,{"$f":"'Раздел 2'!H96","v":0}]
[null,null,null,null,null,"Капоэйра","91",0,0,0,0,0,0,null,null,null,null,null,null,null,null,null,null,null,null,null,null,null,null,null,null,null,null,null,null,null,null,null,null,null,null,null,null,null,{"$f":"'Раздел 2'!H97","v":0}]
[null,null,null,null,null,"Каратэ","92",0,0,0,0,0,0,null,null,null,null,null,null,null,null,null,null,null,null,null,null,null,null,null,null,null,null,null,null,null,null,null,null,null,null,null,null,null,{"$f":"'Раздел 2'!H98","v":0}]
[null,null,null,null,null,"Кендо","93",0,0,0,0,0,0,null,null,null,null,null,null,null,null,null,null,null,null,null,null,null,null,null,null,null,null,null,null,null,null,null,null,null,null,null,null,null,{"$f":"'Раздел 2'!H99","v":0}]
[null,null,null,null,null,"Керешу","94",0,0,0,0,0,0,null,null,null,null,null,null,null,null,null,null,null,null,null,null,null,null,null,null,null,null,null,null,null,null,null,null,null,null,null,null,null,{"$f":"'Раздел 2'!H100","v":0}]
[null,null,null,null,null,"Кёрлинг - всего","95",0,0,0,0,0,0,{"$f":"SUM(N102:N104)","v":0},{"$f":"SUM(O102:O104)","v":0},0,0,0,0,0,0,0,0,0,0,0,0,0,0,0,0,0,0,0,0,0,0,0,0,0,0,0,0,null,{"$f":"'Раздел 2'!H101","v":0}]
[null,null,null,null,null,"в том числе:\nКёрлинг (муж.)","96",0,0,0,0,0,0,null,null,null,null,null,null,null,null,null,null,null,null,null,null,null,null,null,null,null,null,null,null,null,null,null,null,null,null,null,null,null,{"$f":"'Раздел 2'!H102","v":0}]
[null,null,null,null,null,"Кёрлинг (жен.)","97",0,0,0,0,0,0,null,null,null,null,null,null,null,null,null,null,null,null,null,null,null,null,null,null,null,null,null,null,null,null,null,null,null,null,null,null,null,{"$f":"'Раздел 2'!H103","v":0}]
[null,null,null,null,null,"Кёрлинг – смешанные пары","98",0,0,0,0,0,0,null,null,null,null,null,null,null,null,null,null,null,null,null,null,null,null,null,null,null,null,null,null,null,null,null,null,null,null,null,null,null,{"$f":"'Раздел 2'!H104","v":0}]
[null,null,null,null,null,"Кикбоксинг","99",7,2,1,4,9,1,1,null,2,3,null,null,1,1,1,null,1,null,1,4,1,null,null,null,null,null,null,null,null,1,null,null,null,null,null,null,null,{"$f":"'Раздел 2'!H105","v":1}]
[null,null,null,null,null,"Кинологический спорт","100",0,0,0,0,0,0,null,null,null,null,null,null,null,null,null,null,null,null,null,null,null,null,null,null,null,null,null,null,null,null,null,null,null,null,null,null,null,{"$f":"'Раздел 2'!H106","v":0}]
[null,null,null,null,null,"Киокусинкай","101",0,0,0,0,0,0,null,null,null,null,null,null,null,null,null,null,null,null,null,null,null,null,null,null,null,null,null,null,null,null,null,null,null,null,null,null,null,{"$f":"'Раздел 2'!H107","v":1}]
[null,null,null,null,null,"Киокушин","102",0,0,0,0,0,0,null,null,null,null,null,null,null,null,null,null,null,null,null,null,null,null,null,null,null,null,null,null,null,null,null,null,null,null,null,null,null,{"$f":"'Раздел 2'!H108","v":0}]
[null,null,null,null,null,"Комплексное единоборство","103",0,0,0,0,0,0,null,null,null,null,null,null,null,null,null,null,null,null,null,null,null,null,null,null,null,null,null,null,null,null,null,null,null,null,null,null,null,{"$f":"'Раздел 2'!H109","v":0}]
[null,null,null,null,null,"Компьютерный спорт - всего","104",0,0,0,0,0,0,{"$f":"SUM(N111:N117)","v":0},{"$f":"SUM(O111:O117)","v":0},0,0,0,0,0,0,0,0,0,0,0,0,0,0,0,0,0,0,0,0,0,0,0,0,0,0,0,0,null,{"$f":"'Раздел 2'!H110","v":0}]
[null,null,null,null,null,"в том числе:\nБоевая арена","105",0,0,0,0,0,0,null,null,null,null,null,null,null,null,null,null,null,null,null,null,null,null,null,null,null,null,null,null,null,null,null,null,null,null,null,null,null,{"$f":"'Раздел 2'!H111","v":0}]
[null,null,null,null,null,"Соревновательные головоломки","106",0,0,0,0,0,0,null,null,null,null,null,null,null,null,null,null,null,null,null,null,null,null,null,null,null,null,null,null,null,null,null,null,null,null,null,null,null,{"$f":"'Раздел 2'!H112","v":0}]
[null,null,null,null,null,"Спортивный симулятор","107",0,0,0,0,0,0,null,null,null,null,null,null,null,null,null,null,null,null,null,null,null,null,null,null,null,null,null,null,null,null,null,null,null,null,null,null,null,{"$f":"'Раздел 2'!H113","v":0}]
[null,null,null,null,null,"Стратегия в реальном времени","108",0,0,0,0,0,0,null,null,null,null,null,null,null,null,null,null,null,null,null,null,null,null,null,null,null,null,null,null,null,null,null,null,null,null,null,null,null,{"$f":"'Раздел 2'!H114","v":0}]
[null,null,null,null,null,"Тактический трехмерный бой","109",0,0,0,0,0,0,null,null,null,null,null,null,null,null,null,null,null,null,null,null,null,null,null,null,null,null,null,null,null,null,null,null,null,null,null,null,null,{"$f":"'Раздел 2'!H115","v":0}]
[null,null,null,null,null,"Технический симулятор","110",0,0,0,0,0,0,null,null,null,null,null,null,null,null,null,null,null,null,null,null,null,null,null,null,null,null,null,null,null,null,null,null,null,null,null,null,null,{"$f":"'Раздел 2'!H116","v":0}]
[null,null,null,null,null,"Файтинг","111",0,0,0,0,0,0,null,null,null,null,null,null,null,null,null,null,null,null,null,null,null,null,null,null,null,null,null,null,null,null,null,null,null,null,null,null,null,{"$f":"'Раздел 2'!H117","v":0}]
[null,null,null,null,null,"Конный спорт","112",0,0,0,0,0,0,null,null,null,null,null,null,null,null,null,null,null,null,null,null,null,null,null,null,null,null,null,null,null,null,null,null,null,null,null,null,null,{"$f":"'Раздел 2'!H118","v":0}]
[null,null,null,null,null,"Конькобежный спорт - всего","113",0,0,0,0,0,0,{"$f":"SUM(N120:N123)","v":0},{"$f":"SUM(O120:O123)","v":0},0,0,0,0,0,0,0,0,0,0,0,0,0,0,0,0,0,0,0,0,0,0,0,0,0,0,0,0,null,{"$f":"'Раздел 2'!H119","v":0}]
[null,null,null,null,null,"в том числе:\nКонькобежный спорт","114",0,0,0,0,0,0,null,null,null,null,null,null,null,null,null,null,null,null,null,null,null,null,null,null,null,null,null,null,null,null,null,null,null,null,null,null,null,{"$f":"'Раздел 2'!H120","v":0}]
[null,null,null,null,null,"Шорт-трек","115",0,0,0,0,0,0,null,null,null,null,null,null,null,null,null,null,null,null,null,null,null,null,null,null,null,null,null,null,null,null,null,null,null,null,null,null,null,{"$f":"'Раздел 2'!H121","v":0}]
[null,null,null,null,null,"Масс-старт","116",0,0,0,0,0,0,null,null,null,null,null,null,null,null,null,null,null,null,null,null,null,null,null,null,null,null,null,null,null,null,null,null,null,null,null,null,null,{"$f":"'Раздел 2'!H122","v":0}]
[null,null,null,null,null,"Командный забег","117",0,0,0,0,0,0,null,null,null,null,null,null,null,null,null,null,null,null,null,null,null,null,null,null,null,null,null,null,null,null,null,null,null,null,null,null,null,{"$f":"'Раздел 2'!H123","v":0}]
[null,null,null,null,null,"Корэш","118",0,0,0,0,0,0,null,null,null,null,null,null,null,null,null,null,null,null,null,null,null,null,null,null,null,null,null,null,null,null,null,null,null,null,null,null,null,{"$f":"'Раздел 2'!H124","v":0}]
[null,null,null,null,null,"Крикет","119",0,0,0,0,0,0,null,null,null,null,null,null,null,null,null,null,null,null,null,null,null,null,null,null,null,null,null,null,null,null,null,null,null,null,null,null,null,{"$f":"'Раздел 2'!H125","v":0}]
[null,null,null,null,null,"Кудо","120",1,1,0,0,3,0,null,null,null,null,null,null,null,null,null,null,null,null,null,null,null,null,null,null,1,null,null,null,null,null,null,1,null,null,2,null,null,{"$f":"'Раздел 2'!H126","v":1}]
[null,null,null,null,null,"Лазерный бой","121",0,0,0,0,0,0,null,null,null,null,null,null,null,null,null,null,null,null,null,null,null,null,null,null,null,null,null,null,null,null,null,null,null,null,null,null,null,{"$f":"'Раздел 2'!H127","v":0}]
[null,null,null,null,null,"Лапта","122",0,0,0,0,0,0,null,null,null,null,null,null,null,null,null,null,null,null,null,null,null,null,null,null,null,null,null,null,null,null,null,null,null,null,null,null,null,{"$f":"'Раздел 2'!H128","v":0}]
[null,null,null,null,null,"Легкая атлетика","123",0,0,0,0,0,0,null,null,null,null,null,null,null,null,null,null,null,null,null,null,null,null,null,null,null,null,null,null,null,null,null,null,null,null,null,null,null,{"$f":"'Раздел 2'!H129","v":0}]
[null,null,null,null,null,"Лыжное двоеборье","124",0,0,0,0,0,0,null,null,null,null,null,null,null,null,null,null,null,null,null,null,null,null,null,null,null,null,null,null,null,null,null,null,null,null,null,null,null,{"$f":"'Раздел 2'!H130","v":0}]
[null,null,null,null,null,"Лыжные гонки","125",0,0,0,0,0,0,null,null,null,null,null,null,null,null,null,null,null,null,null,null,null,null,null,null,null,null,null,null,null,null,null,null,null,null,null,null,null,{"$f":"'Раздел 2'!H131","v":0}]
[null,null,null,null,null,"Мас-рестлинг","126",0,0,0,0,0,0,null,null,null,null,null,null,null,null,null,null,null,null,null,null,null,null,null,null,null,null,null,null,null,null,null,null,null,null,null,null,null,{"$f":"'Раздел 2'!H132","v":0}]
[null,null,null,null,null,"Международное военно-спортивное многоборье","127",0,0,0,0,0,0,null,null,null,null,null,null,null,null,null,null,null,null,null,null,null,null,null,null,null,null,null,null,null,null,null,null,null,null,null,null,null,{"$f":"'Раздел 2'!H133","v":0}]
[null,null,null,null,null,"Микрофутзал","128",0,0,0,0,0,0,null,null,null,null,null,null,null,null,null,null,null,null,null,null,null,null,null,null,null,null,null,null,null,null,null,null,null,null,null,null,null,{"$f":"'Раздел 2'!H134","v":0}]
[null,null,null,null,null,"Многоборье готов к труду и обороне","129",0,0,0,0,0,0,null,null,null,null,null,null,null,null,null,null,null,null,null,null,null,null,null,null,null,null,null,null,null,null,null,null,null,null,null,null,null,{"$f":"'Раздел 2'!H135","v":0}]
[null,null,null,null,null,"Многоборье кинологов","130",{"$f":"SUM(I136:K136)","v":0},{"$f":"SUM(N136,S136,X136,AC136,AH136,AM136)","v":0},{"$f":"SUM(O136,T136,Y136,AD136,AI136,AN136)","v":0},{"$f":"SUM(P136,U136,Z136,AE136,AJ136,AO136)","v":0},{"$f":"SUM(Q136,V136,AA136,AF136,AK136,AP136)","v":0},{"$f":"SUM(R136,W136,AB136,AG136,AL136,AQ136)","v":0},null,null,null,null,null,null,null,null,null,null,null,null,null,null,null,null,null,null,null,null,null,null,null,null,null,null,null,null,null,null,null,{"$f":"'Раздел 2'!H136","v":0}]
[null,null,null,null,null,"Многоборье спасателей МЧС России","131",0,0,0,0,0,0,null,null,null,null,null,null,null,null,null,null,null,null,null,null,null,null,null,null,null,null,null,null,null,null,null,null,null,null,null,null,null,{"$f":"'Раздел 2'!H137","v":0}]
[null,null,null,null,null,"Морское многоборье","132",0,0,0,0,0,0,null,null,null,null,null,null,null,null,null,null,null,null,null,null,null,null,null,null,null,null,null,null,null,null,null,null,null,null,null,null,null,{"$f":"'Раздел 2'!H138","v":0}]
[null,null,null,null,null,"Мотоциклетный спорт","133",0,0,0,0,0,0,null,null,null,null,null,null,null,null,null,null,null,null,null,null,null,null,null,null,null,null,null,null,null,null,null,null,null,null,null,null,null,{"$f":"'Раздел 2'!H139","v":0}]
[null,null,null,null,null,"Муайтай","134",0,0,0,0,0,0,null,null,null,null,null,null,null,null,null,null,null,null,null,null,null,null,null,null,null,null,null,null,null,null,null,null,null,null,null,null,null,{"$f":"'Раздел 2'!H140","v":1}]
[null,null,null,null,null,"Нарды","135",0,0,0,0,0,0,null,null,null,null,null,null,null,null,null,null,null,null,null,null,null,null,null,null,null,null,null,null,null,null,null,null,null,null,null,null,null,{"$f":"'Раздел 2'!H141","v":0}]
[null,null,null,null,null,"Настольный теннис","136",0,0,0,0,0,0,null,null,null,null,null,null,null,null,null,null,null,null,null,null,null,null,null,null,null,null,null,null,null,null,null,null,null,null,null,null,null,{"$f":"'Раздел 2'!H142","v":0}]
[null,null,null,null,null,"Падел","137",0,0,0,0,0,0,null,null,null,null,null,null,null,null,null,null,null,null,null,null,null,null,null,null,null,null,null,null,null,null,null,null,null,null,null,null,null,{"$f":"'Раздел 2'!H143","v":0}]
[null,null,null,null,null,"Парашютный спорт","138",0,0,0,0,0,0,null,null,null,null,null,null,null,null,null,null,null,null,null,null,null,null,null,null,null,null,null,null,null,null,null,null,null,null,null,null,null,{"$f":"'Раздел 2'!H144","v":0}]
[null,null,null,null,null,"Парусный спорт","139",0,0,0,0,0,0,null,null,null,null,null,null,null,null,null,null,null,null,null,null,null,null,null,null,null,null,null,null,null,null,null,null,null,null,null,null,null,{"$f":"'Раздел 2'!H145","v":0}]
[null,null,null,null,null,"Пауэрлифтинг","140",2,0,1,1,0,0,null,1,1,null,null,null,null,null,null,null,null,null,null,null,null,null,null,null,null,null,null,null,null,null,null,null,null,null,null,null,null,{"$f":"'Раздел 2'!H146","v":1}]
[null,null,null,null,null,"Перетягивание каната","141",0,0,0,0,0,0,null,null,null,null,null,null,null,null,null,null,null,null,null,null,null,null,null,null,null,null,null,null,null,null,null,null,null,null,null,null,null,{"$f":"'Раздел 2'!H147","v":0}]
[null,null,null,null,null,"Пилонный спорт","142",0,0,0,0,0,0,null,null,null,null,null,null,null,null,null,null,null,null,null,null,null,null,null,null,null,null,null,null,null,null,null,null,null,null,null,null,null,{"$f":"'Раздел 2'!H148","v":0}]
[null,null,null,null,null,"Плавание - всего","143",0,0,0,0,0,0,{"$f":"SUM(N150:N151)","v":0},{"$f":"SUM(O150:O151)","v":0},0,0,0,0,0,0,0,0,0,0,0,0,0,0,0,0,0,0,0,0,0,0,0,0,0,0,0,0,null,{"$f":"'Раздел 2'!H149","v":1}]
[null,null,null,null,null,"в том числе:\nОткрытая вода","144",0,0,0,0,0,0,null,null,null,null,null,null,null,null,null,null,null,null,null,null,null,null,null,null,null,null,null,null,null,null,null,null,null,null,null,null,null,{"$f":"'Раздел 2'!H150","v":0}]
[null,null,null,null,null,"Иные дисциплины вида спорта \"плавание\"","145",0,0,0,0,0,0,null,null,null,null,null,null,null,null,null,null,null,null,null,null,null,null,null,null,null,null,null,null,null,null,null,null,null,null,null,null,null,{"$f":"'Раздел 2'!H151","v":1}]
[null,null,null,null,null,"Планерный спорт","146",0,0,0,0,0,0,null,null,null,null,null,null,null,null,null,null,null,null,null,null,null,null,null,null,null,null,null,null,null,null,null,null,null,null,null,null,null,{"$f":"'Раздел 2'!H152","v":0}]
[null,null,null,null,null,"Подводный спорт","147",0,0,0,0,0,0,null,null,null,null,null,null,null,null,null,null,null,null,null,null,null,null,null,null,null,null,null,null,null,null,null,null,null,null,null,null,null,{"$f":"'Раздел 2'!H153","v":0}]
[null,null,null,null,null,"Пожарно-спасательный спорт","148",0,0,0,0,0,0,null,null,null,null,null,null,null,null,null,null,null,null,null,null,null,null,null,null,null,null,null,null,null,null,null,null,null,null,null,null,null,{"$f":"'Раздел 2'!H154","v":0}]
[null,null,null,null,null,"Полиатлон","149",0,0,0,0,0,0,null,null,null,null,null,null,null,null,null,null,null,null,null,null,null,null,null,null,null,null,null,null,null,null,null,null,null,null,null,null,null,{"$f":"'Раздел 2'!H155","v":0}]
[null,null,null,null,null,"Практическая стрельба","150",0,0,0,0,0,0,null,null,null,null,null,null,null,null,null,null,null,null,null,null,null,null,null,null,null,null,null,null,null,null,null,null,null,null,null,null,null,{"$f":"'Раздел 2'!H156","v":0}]
[null,null,null,null,null,"Прыжки в воду","151",0,0,0,0,0,0,null,null,null,null,null,null,null,null,null,null,null,null,null,null,null,null,null,null,null,null,null,null,null,null,null,null,null,null,null,null,null,{"$f":"'Раздел 2'!H157","v":0}]
[null,null,null,null,null,"Прыжки на батуте - всего","152",0,0,0,0,0,0,{"$f":"SUM(N159:N162)","v":0},{"$f":"SUM(O159:O162)","v":0},0,0,0,0,0,0,0,0,0,0,0,0,0,0,0,0,0,0,0,0,0,0,0,0,0,0,0,0,null,{"$f":"'Раздел 2'!H158","v":0}]
[null,null,null,null,null,"в том числе:\nАкробатическая дорожка","153",0,0,0,0,0,0,null,null,null,null,null,null,null,null,null,null,null,null,null,null,null,null,null,null,null,null,null,null,null,null,null,null,null,null,null,null,null,{"$f":"'Раздел 2'!H159","v":0}]
[null,null,null,null,null,"Двойной минитрамп","154",0,0,0,0,0,0,null,null,null,null,null,null,null,null,null,null,null,null,null,null,null,null,null,null,null,null,null,null,null,null,null,null,null,null,null,null,null,{"$f":"'Раздел 2'!H160","v":0}]
[null,null,null,null,null,"Индивидуальные прыжки","155",0,0,0,0,0,0,null,null,null,null,null,null,null,null,null,null,null,null,null,null,null,null,null,null,null,null,null,null,null,null,null,null,null,null,null,null,null,{"$f":"'Раздел 2'!H161","v":0}]
[null,null,null,null,null,"Синхронные прыжки","156",0,0,0,0,0,0,null,null,null,null,null,null,null,null,null,null,null,null,null,null,null,null,null,null,null,null,null,null,null,null,null,null,null,null,null,null,null,{"$f":"'Раздел 2'!H162","v":0}]
[null,null,null,null,null,"Прыжки на лыжах с трамплина","157",0,0,0,0,0,0,null,null,null,null,null,null,null,null,null,null,null,null,null,null,null,null,null,null,null,null,null,null,null,null,null,null,null,null,null,null,null,{"$f":"'Раздел 2'!H163","v":0}]
[null,null,null,null,null,"Пулевая стрельба - всего","158",0,0,0,0,0,0,{"$f":"SUM(N165:N169)","v":0},{"$f":"SUM(O165:O169)","v":0},0,0,0,0,0,0,0,0,0,0,0,0,0,0,0,0,0,0,0,0,0,0,0,0,0,0,0,0,null,{"$f":"'Раздел 2'!H164","v":0}]
[null,null,null,null,null,"в том числе:\nПневматическая винтовка","159",0,0,0,0,0,0,null,null,null,null,null,null,null,null,null,null,null,null,null,null,null,null,null,null,null,null,null,null,null,null,null,null,null,null,null,null,null,{"$f":"'Раздел 2'!H165","v":0}]
[null,null,null,null,null,"Пневматический пистолет","160",0,0,0,0,0,0,null,null,null,null,null,null,null,null,null,null,null,null,null,null,null,null,null,null,null,null,null,null,null,null,null,null,null,null,null,null,null,{"$f":"'Раздел 2'!H166","v":0}]
[null,null,null,null,null,"Малокалиберная винтовка","161",0,0,0,0,0,0,null,null,null,null,null,null,null,null,null,null,null,null,null,null,null,null,null,null,null,null,null,null,null,null,null,null,null,null,null,null,null,{"$f":"'Раздел 2'!H167","v":0}]
[null,null,null,null,null,"Малокалиберный пистолет","162",0,0,0,0,0,0,null,null,null,null,null,null,null,null,null,null,null,null,null,null,null,null,null,null,null,null,null,null,null,null,null,null,null,null,null,null,null,{"$f":"'Раздел 2'!H168","v":0}]
[null,null,null,null,null,"Иные дисциплины вида спорта \"пулевая стрельба\"","163",0,0,0,0,0,0,null,null,null,null,null,null,null,null,null,null,null,null,null,null,null,null,null,null,null,null,null,null,null,null,null,null,null,null,null,null,null,{"$f":"'Раздел 2'!H169","v":0}]
[null,null,null,null,null,"Пэйнтбол","164",0,0,0,0,0,0,null,null,null,null,null,null,null,null,null,null,null,null,null,null,null,null,null,null,null,null,null,null,null,null,null,null,null,null,null,null,null,{"$f":"'Раздел 2'!H170","v":0}]
[null,null,null,null,null,"Радиоспорт","165",0,0,0,0,0,0,null,null,null,null,null,null,null,null,null,null,null,null,null,null,null,null,null,null,null,null,null,null,null,null,null,null,null,null,null,null,null,{"$f":"'Раздел 2'!H171","v":0}]
[null,null,null,null,null,"Рафтинг","166",0,0,0,0,0,0,null,null,null,null,null,null,null,null,null,null,null,null,null,null,null,null,null,null,null,null,null,null,null,null,null,null,null,null,null,null,null,{"$f":"'Раздел 2'!H172","v":0}]
[null,null,null,null,null,"Регби - всего","167",0,0,0,0,0,0,{"$f":"SUM(N174:N179)","v":0},{"$f":"SUM(O174:O179)","v":0},0,0,0,0,0,0,0,0,0,0,0,0,0,0,0,0,0,0,0,0,0,0,0,0,0,0,0,0,null,{"$f":"'Раздел 2'!H173","v":0}]
[null,null,null,null,null,"в том числе:\nРегби","168",0,0,0,0,0,0,null,null,null,null,null,null,null,null,null,null,null,null,null,null,null,null,null,null,null,null,null,null,null,null,null,null,null,null,null,null,null,{"$f":"'Раздел 2'!H174","v":0}]
[null,null,null,null,null,"Регби 7 (муж.)","169",0,0,0,0,0,0,null,null,null,null,null,null,null,null,null,null,null,null,null,null,null,null,null,null,null,null,null,null,null,null,null,null,null,null,null,null,null,{"$f":"'Раздел 2'!H175","v":0}]
[null,null,null,null,null,"Регби 7 (жен.)","170",0,0,0,0,0,0,null,null,null,null,null,null,null,null,null,null,null,null,null,null,null,null,null,null,null,null,null,null,null,null,null,null,null,null,null,null,null,{"$f":"'Раздел 2'!H176","v":0}]
[null,null,null,null,null,"Регби - пляжное","171",0,0,0,0,0,0,null,null,null,null,null,null,null,null,null,null,null,null,null,null,null,null,null,null,null,null,null,null,null,null,null,null,null,null,null,null,null,{"$f":"'Раздел 2'!H177","v":0}]
[null,null,null,null,null,"Регби на снегу","172",0,0,0,0,0,0,null,null,null,null,null,null,null,null,null,null,null,null,null,null,null,null,null,null,null,null,null,null,null,null,null,null,null,null,null,null,null,{"$f":"'Раздел 2'!H178","v":0}]
[null,null,null,null,null,"Регби бесконтактное","173",0,0,0,0,0,0,null,null,null,null,null,null,null,null,null,null,null,null,null,null,null,null,null,null,null,null,null,null,null,null,null,null,null,null,null,null,null,{"$f":"'Раздел 2'!H179","v":0}]
[null,null,null,null,null,"Регбол","174",0,0,0,0,0,0,null,null,null,null,null,null,null,null,null,null,null,null,null,null,null,null,null,null,null,null,null,null,null,null,null,null,null,null,null,null,null,{"$f":"'Раздел 2'!H180","v":0}]
[null,null,null,null,null,"Роллер спорт","175",0,0,0,0,0,0,null,null,null,null,null,null,null,null,null,null,null,null,null,null,null,null,null,null,null,null,null,null,null,null,null,null,null,null,null,null,null,{"$f":"'Раздел 2'!H181","v":0}]
[null,null,null,null,null,"Роуп скиппинг (спортивная скакалка)","176",0,0,0,0,0,0,null,null,null,null,null,null,null,null,null,null,null,null,null,null,null,null,null,null,null,null,null,null,null,null,null,null,null,null,null,null,null,{"$f":"'Раздел 2'!H182","v":0}]
[null,null,null,null,null,"Рукопашный бой","177",3,1,0,2,0,3,null,null,null,null,1,null,null,null,null,null,null,null,null,null,2,null,null,null,null,null,null,null,null,null,null,1,null,2,null,null,null,{"$f":"'Раздел 2'!H183","v":1}]
[null,null,null,null,null,"Рыболовный спорт","178",0,0,0,0,0,0,null,null,null,null,null,null,null,null,null,null,null,null,null,null,null,null,null,null,null,null,null,null,null,null,null,null,null,null,null,null,null,{"$f":"'Раздел 2'!H184","v":0}]
[null,null,null,null,null,"Сават","179",0,0,0,0,0,0,null,null,null,null,null,null,null,null,null,null,null,null,null,null,null,null,null,null,null,null,null,null,null,null,null,null,null,null,null,null,null,{"$f":"'Раздел 2'!H185","v":0}]
[null,null,null,null,null,"Самбо","180",0,0,0,0,0,0,null,null,null,null,null,null,null,null,null,null,null,null,null,null,null,null,null,null,null,null,null,null,null,null,null,null,null,null,null,null,null,{"$f":"'Раздел 2'!H186","v":0}]
[null,null,null,null,null,"Самолетный спорт","181",0,0,0,0,0,0,null,null,null,null,null,null,null,null,null,null,null,null,null,null,null,null,null,null,null,null,null,null,null,null,null,null,null,null,null,null,null,{"$f":"'Раздел 2'!H187","v":0}]
[null,null,null,null,null,"Санный спорт","182",0,0,0,0,0,0,null,null,null,null,null,null,null,null,null,null,null,null,null,null,null,null,null,null,null,null,null,null,null,null,null,null,null,null,null,null,null,{"$f":"'Раздел 2'!H188","v":0}]
[null,null,null,null,null,"Северное многоборье","183",0,0,0,0,0,1,null,null,null,null,1,null,null,null,null,null,null,null,null,null,null,null,null,null,null,null,null,null,null,null,null,null,null,null,null,null,null,{"$f":"'Раздел 2'!H189","v":1}]
[null,null,null,null,null,"Серфинг","184",0,0,0,0,0,0,null,null,null,null,null,null,null,null,null,null,null,null,null,null,null,null,null,null,null,null,null,null,null,null,null,null,null,null,null,null,null,{"$f":"'Раздел 2'!H190","v":0}]
[null,null,null,null,null,"Силовой спорт","185",0,0,0,0,0,0,null,null,null,null,null,null,null,null,null,null,null,null,null,null,null,null,null,null,null,null,null,null,null,null,null,null,null,null,null,null,null,{"$f":"'Раздел 2'!H191","v":0}]
[null,null,null,null,null,"Силовой экстрим","186",0,0,0,0,0,0,null,null,null,null,null,null,null,null,null,null,null,null,null,null,null,null,null,null,null,null,null,null,null,null,null,null,null,null,null,null,null,{"$f":"'Раздел 2'!H192","v":0}]
[null,null,null,null,null,"Синхронное плавание","187",0,0,0,0,0,0,null,null,null,null,null,null,null,null,null,null,null,null,null,null,null,null,null,null,null,null,null,null,null,null,null,null,null,null,null,null,null,{"$f":"'Раздел 2'!H193","v":0}]
[null,null,null,null,null,"Скалолазание - всего","188",0,0,0,0,0,0,{"$f":"SUM(N195:N197)","v":0},{"$f":"SUM(O195:O197)","v":0},0,0,0,0,0,0,0,0,0,0,0,0,0,0,0,0,0,0,0,0,0,0,0,0,0,0,0,0,null,{"$f":"'Раздел 2'!H194","v":0}]
[null,null,null,null,null,"в том числе:\nДвоеборье","189",0,0,0,0,0,0,null,null,null,null,null,null,null,null,null,null,null,null,null,null,null,null,null,null,null,null,null,null,null,null,null,null,null,null,null,null,null,{"$f":"'Раздел 2'!H195","v":0}]
[null,null,null,null,null,"Лазание на скорость","190",0,0,0,0,0,0,null,null,null,null,null,null,null,null,null,null,null,null,null,null,null,null,null,null,null,null,null,null,null,null,null,null,null,null,null,null,null,{"$f":"'Раздел 2'!H196","v":0}]
[null,null,null,null,null,"Иные дисциплины вида спорта \"скалолазание\"","191",0,0,0,0,0,0,null,null,null,null,null,null,null,null,null,null,null,null,null,null,null,null,null,null,null,null,null,null,null,null,null,null,null,null,null,null,null,{"$f":"'Раздел 2'!H197","v":0}]
[null,null,null,null,null,"Сквош","192",0,0,0,0,0,0,null,null,null,null,null,null,null,null,null,null,null,null,null,null,null,null,null,null,null,null,null,null,null,null,null,null,null,null,null,null,null,{"$f":"'Раздел 2'!H198","v":0}]
[null,null,null,null,null,"Скейтбординг","193",0,0,0,0,0,0,null,null,null,null,null,null,null,null,null,null,null,null,null,null,null,null,null,null,null,null,null,null,null,null,null,null,null,null,null,null,null,{"$f":"'Раздел 2'!H199","v":0}]
[null,null,null,null,null,"Служебно-боевая стрельба","194",{"$f":"SUM(I200:K200)","v":0},{"$f":"SUM(N200,S200,X200,AC200,AH200,AM200)","v":0},{"$f":"SUM(O200,T200,Y200,AD200,AI200,AN200)","v":0},{"$f":"SUM(P200,U200,Z200,AE200,AJ200,AO200)","v":0},{"$f":"SUM(Q200,V200,AA200,AF200,AK200,AP200)","v":0},{"$f":"SUM(R200,W200,AB200,AG200,AL200,AQ200)","v":0},null,null,null,null,null,null,null,null,null,null,null,null,null,null,null,null,null,null,null,null,null,null,null,null,null,null,null,null,null,null,null,{"$f":"'Раздел 2'!H200","v":0}]
[null,null,null,null,null,"Служебное двоеборье","195",0,0,0,0,0,0,null,null,null,null,null,null,null,null,null,null,null,null,null,null,null,null,null,null,null,null,null,null,null,null,null,null,null,null,null,null,null,{"$f":"'Раздел 2'!H201","v":0}]
[null,null,null,null,null,"Служебное единоборство","196",0,0,0,0,0,0,null,null,null,null,null,null,null,null,null,null,null,null,null,null,null,null,null,null,null,null,null,null,null,null,null,null,null,null,null,null,null,{"$f":"'Раздел 2'!H202","v":0}]
[null,null,null,null,null,"Служебное многоборье","197",0,0,0,0,0,0,null,null,null,null,null,null,null,null,null,null,null,null,null,null,null,null,null,null,null,null,null,null,null,null,null,null,null,null,null,null,null,{"$f":"'Раздел 2'!H203","v":0}]
[null,null,null,null,null,"Служебно-прикладной спорт","198",0,0,0,0,0,0,null,null,null,null,null,null,null,null,null,null,null,null,null,null,null,null,null,null,null,null,null,null,null,null,null,null,null,null,null,null,null,{"$f":"'Раздел 2'!H204","v":0}]
[null,null,null,null,null,"Служебно-прикладной спорт ФСО России","199",0,0,0,0,0,0,null,null,null,null,null,null,null,null,null,null,null,null,null,null,null,null,null,null,null,null,null,null,null,null,null,null,null,null,null,null,null,{"$f":"'Раздел 2'!H205","v":0}]
[null,null,null,null,null,"Служебно-прикладной спорт ФТС России","200",0,0,0,0,0,0,null,null,null,null,null,null,null,null,null,null,null,null,null,null,null,null,null,null,null,null,null,null,null,null,null,null,null,null,null,null,null,{"$f":"'Раздел 2'!H206","v":0}]
[null,null,null,null,null,"Служебный биатлон","201",0,0,0,0,0,0,null,null,null,null,null,null,null,null,null,null,null,null,null,null,null,null,null,null,null,null,null,null,null,null,null,null,null,null,null,null,null,{"$f":"'Раздел 2'!H207","v":0}]
[null,null,null,null,null,"Смешанное боевое единоборство (ММА)","202",9,3,2,4,4,4,null,null,null,null,null,null,null,null,null,null,1,null,1,1,4,null,null,null,null,null,null,null,null,null,null,2,2,3,3,null,null,{"$f":"'Раздел 2'!H208","v":1}]
[null,null,null,null,null,"Сноуборд - всего","203",0,0,0,0,0,0,{"$f":"SUM(N210:N214)","v":0},{"$f":"SUM(O210:O214)","v":0},0,0,0,0,0,0,0,0,0,0,0,0,0,0,0,0,0,0,0,0,0,0,0,0,0,0,0,0,null,{"$f":"'Раздел 2'!H209","v":0}]
[null,null,null,null,null,"в том числе:\nСноуборд-кросс","204",0,0,0,0,0,0,null,null,null,null,null,null,null,null,null,null,null,null,null,null,null,null,null,null,null,null,null,null,null,null,null,null,null,null,null,null,null,{"$f":"'Раздел 2'!H210","v":0}]
[null,null,null,null,null,"Параллельный слалом","205",0,0,0,0,0,0,null,null,null,null,null,null,null,null,null,null,null,null,null,null,null,null,null,null,null,null,null,null,null,null,null,null,null,null,null,null,null,{"$f":"'Раздел 2'!H211","v":0}]
[null,null,null,null,null,"Хаф-пайп","206",0,0,0,0,0,0,null,null,null,null,null,null,null,null,null,null,null,null,null,null,null,null,null,null,null,null,null,null,null,null,null,null,null,null,null,null,null,{"$f":"'Раздел 2'!H212","v":0}]
[null,null,null,null,null,"Биг-эйр","207",0,0,0,0,0,0,null,null,null,null,null,null,null,null,null,null,null,null,null,null,null,null,null,null,null,null,null,null,null,null,null,null,null,null,null,null,null,{"$f":"'Раздел 2'!H213","v":0}]
[null,null,null,null,null,"Слоупстайл","208",0,0,0,0,0,0,null,null,null,null,null,null,null,null,null,null,null,null,null,null,null,null,null,null,null,null,null,null,null,null,null,null,null,null,null,null,null,{"$f":"'Раздел 2'!H214","v":0}]
[null,null,null,null,null,"Современное пятиборье","209",0,0,0,0,0,0,null,null,null,null,null,null,null,null,null,null,null,null,null,null,null,null,null,null,null,null,null,null,null,null,null,null,null,null,null,null,null,{"$f":"'Раздел 2'!H215","v":0}]
[null,null,null,null,null,"Софтбол","210",0,0,0,0,0,0,null,null,null,null,null,null,null,null,null,null,null,null,null,null,null,null,null,null,null,null,null,null,null,null,null,null,null,null,null,null,null,{"$f":"'Раздел 2'!H216","v":0}]
[null,null,null,null,null,"Спасательный спорт","211",0,0,0,0,0,0,null,null,null,null,null,null,null,null,null,null,null,null,null,null,null,null,null,null,null,null,null,null,null,null,null,null,null,null,null,null,null,{"$f":"'Раздел 2'!H217","v":0}]
[null,null,null,null,null,"Спорт сверхлегкой авиации","212",0,0,0,0,0,0,null,null,null,null,null,null,null,null,null,null,null,null,null,null,null,null,null,null,null,null,null,null,null,null,null,null,null,null,null,null,null,{"$f":"'Раздел 2'!H218","v":0}]
[null,null,null,null,null,"Спортивная акробатика","213",18,0,11,7,4,15,null,null,null,null,null,null,null,null,null,2,null,null,null,null,null,null,null,null,null,null,null,null,null,null,null,null,11,7,4,13,null,{"$f":"'Раздел 2'!H219","v":1}]
[null,null,null,null,null,"Спортивная аэробика","214",2,0,1,1,0,8,null,null,null,null,5,null,null,null,null,1,null,null,null,null,null,null,null,null,null,null,null,null,null,null,null,null,1,1,null,2,null,{"$f":"'Раздел 2'!H220","v":1}]
[null,null,null,null,null,"Спортивная борьба - всего","215",0,0,0,0,0,0,{"$f":"SUM(N222:N226)","v":0},{"$f":"SUM(O222:O226)","v":0},0,0,0,0,0,0,0,0,0,0,0,0,0,0,0,0,0,0,0,0,0,0,0,0,0,0,0,0,null,{"$f":"'Раздел 2'!H221","v":0}]
[null,null,null,null,null,"в том числе:\nВольная борьба","216",0,0,0,0,0,0,null,null,null,null,null,null,null,null,null,null,null,null,null,null,null,null,null,null,null,null,null,null,null,null,null,null,null,null,null,null,null,{"$f":"'Раздел 2'!H222","v":0}]
[null,null,null,null,null,"Греко-римская борьба","217",0,0,0,0,0,0,null,null,null,null,null,null,null,null,null,null,null,null,null,null,null,null,null,null,null,null,null,null,null,null,null,null,null,null,null,null,null,{"$f":"'Раздел 2'!H223","v":0}]
[null,null,null,null,null,"Грэпплинг","218",0,0,0,0,0,0,null,null,null,null,null,null,null,null,null,null,null,null,null,null,null,null,null,null,null,null,null,null,null,null,null,null,null,null,null,null,null,{"$f":"'Раздел 2'!H224","v":0}]
[null,null,null,null,null,"Панкратион","219",0,0,0,0,0,0,null,null,null,null,null,null,null,null,null,null,null,null,null,null,null,null,null,null,null,null,null,null,null,null,null,null,null,null,null,null,null,{"$f":"'Раздел 2'!H225","v":0}]
[null,null,null,null,null,"Пляжная борьба","220",0,0,0,0,0,0,null,null,null,null,null,null,null,null,null,null,null,null,null,null,null,null,null,null,null,null,null,null,null,null,null,null,null,null,null,null,null,{"$f":"'Раздел 2'!H226","v":0}]
[null,null,null,null,null,"Спортивная гимнастика","221",0,0,0,0,0,0,null,null,null,null,null,null,null,null,null,null,null,null,null,null,null,null,null,null,null,null,null,null,null,null,null,null,null,null,null,null,null,{"$f":"'Раздел 2'!H227","v":0}]
[null,null,null,null,null,"Спортивная йога","222",0,0,0,0,0,0,null,null,null,null,null,null,null,null,null,null,null,null,null,null,null,null,null,null,null,null,null,null,null,null,null,null,null,null,null,null,null,{"$f":"'Раздел 2'!H228","v":0}]
[null,null,null,null,null,"Спортивное метание ножа","223",0,0,0,0,0,0,null,null,null,null,null,null,null,null,null,null,null,null,null,null,null,null,null,null,null,null,null,null,null,null,null,null,null,null,null,null,null,{"$f":"'Раздел 2'!H229","v":0}]
[null,null,null,null,null,"Спортивное ориентирование","224",0,0,0,0,0,0,null,null,null,null,null,null,null,null,null,null,null,null,null,null,null,null,null,null,null,null,null,null,null,null,null,null,null,null,null,null,null,{"$f":"'Раздел 2'!H230","v":0}]
[null,null,null,null,null,"Спортивное программирование - всего","225",0,0,0,0,0,0,{"$f":"SUM(N232:N236)","v":0},{"$f":"SUM(O232:O236)","v":0},0,0,0,0,0,0,0,0,0,0,0,0,0,0,0,0,0,0,0,0,0,0,0,0,0,0,0,0,null,{"$f":"'Раздел 2'!H231","v":0}]
[null,null,null,null,null,"в том числе:\nПрограммирование алгоритмическое","226",0,0,0,0,0,0,null,null,null,null,null,null,null,null,null,null,null,null,null,null,null,null,null,null,null,null,null,null,null,null,null,null,null,null,null,null,null,{"$f":"'Раздел 2'!H232","v":0}]
[null,null,null,null,null,"Программирование продуктовое","227",0,0,0,0,0,0,null,null,null,null,null,null,null,null,null,null,null,null,null,null,null,null,null,null,null,null,null,null,null,null,null,null,null,null,null,null,null,{"$f":"'Раздел 2'!H233","v":0}]
[null,null,null,null,null,"Программирование беспилотных авиационных систем","228",0,0,0,0,0,0,null,null,null,null,null,null,null,null,null,null,null,null,null,null,null,null,null,null,null,null,null,null,null,null,null,null,null,null,null,null,null,{"$f":"'Раздел 2'!H234","v":0}]
[null,null,null,null,null,"Программирование робототехники","229",0,0,0,0,0,0,null,null,null,null,null,null,null,null,null,null,null,null,null,null,null,null,null,null,null,null,null,null,null,null,null,null,null,null,null,null,null,{"$f":"'Раздел 2'!H235","v":0}]
[null,null,null,null,null,"Программирование систем информационной безопасности","230",0,0,0,0,0,0,null,null,null,null,null,null,null,null,null,null,null,null,null,null,null,null,null,null,null,null,null,null,null,null,null,null,null,null,null,null,null,{"$f":"'Раздел 2'!H236","v":0}]
[null,null,null,null,null,"Спортивно-прикладное собаководство","231",0,0,0,0,0,0,null,null,null,null,null,null,null,null,null,null,null,null,null,null,null,null,null,null,null,null,null,null,null,null,null,null,null,null,null,null,null,{"$f":"'Раздел 2'!H237","v":0}]
[null,null,null,null,null,"Спортивный бридж","232",0,0,0,0,0,0,null,null,null,null,null,null,null,null,null,null,null,null,null,null,null,null,null,null,null,null,null,null,null,null,null,null,null,null,null,null,null,{"$f":"'Раздел 2'!H238","v":0}]
[null,null,null,null,null,"Спортивный туризм","233",7,1,1,5,8,11,null,1,null,null,2,null,null,null,null,null,null,null,null,1,2,1,null,2,2,null,null,null,null,null,null,null,null,3,5,7,null,{"$f":"'Раздел 2'!H239","v":1}]
[null,null,null,null,null,"Стендовая стрельба - всего","234",0,0,0,0,0,0,{"$f":"SUM(N241:N243)","v":0},{"$f":"SUM(O241:O243)","v":0},0,0,0,0,0,0,0,0,0,0,0,0,0,0,0,0,0,0,0,0,0,0,0,0,0,0,0,0,null,{"$f":"'Раздел 2'!H240","v":0}]
[null,null,null,null,null,"в том числе:\nТрап","235",0,0,0,0,0,0,null,null,null,null,null,null,null,null,null,null,null,null,null,null,null,null,null,null,null,null,null,null,null,null,null,null,null,null,null,null,null,{"$f":"'Раздел 2'!H241","v":0}]
[null,null,null,null,null,"Скит","236",0,0,0,0,0,0,null,null,null,null,null,null,null,null,null,null,null,null,null,null,null,null,null,null,null,null,null,null,null,null,null,null,null,null,null,null,null,{"$f":"'Раздел 2'!H242","v":0}]
[null,null,null,null,null,"Иные дисциплины вида спорта \"стендовая стрельба\"","237",0,0,0,0,0,0,null,null,null,null,null,null,null,null,null,null,null,null,null,null,null,null,null,null,null,null,null,null,null,null,null,null,null,null,null,null,null,{"$f":"'Раздел 2'!H243","v":0}]
[null,null,null,null,null,"Страйкбол","238",0,0,0,0,0,0,null,null,null,null,null,null,null,null,null,null,null,null,null,null,null,null,null,null,null,null,null,null,null,null,null,null,null,null,null,null,null,{"$f":"'Раздел 2'!H244","v":0}]
[null,null,null,null,null,"Стрельба из арбалета","239",0,0,0,0,0,0,null,null,null,null,null,null,null,null,null,null,null,null,null,null,null,null,null,null,null,null,null,null,null,null,null,null,null,null,null,null,null,{"$f":"'Раздел 2'!H245","v":0}]
[null,null,null,null,null,"Стрельба из боевого ручного стрелкового оружия","240",0,0,0,0,0,0,null,null,null,null,null,null,null,null,null,null,null,null,null,null,null,null,null,null,null,null,null,null,null,null,null,null,null,null,null,null,null,{"$f":"'Раздел 2'!H246","v":0}]
[null,null,null,null,null,"Стрельба из лука - всего","241",0,0,0,0,0,0,{"$f":"SUM(N248:N251)","v":0},{"$f":"SUM(O248:O251)","v":0},0,0,0,0,0,0,0,0,0,0,0,0,0,0,0,0,0,0,0,0,0,0,0,0,0,0,0,0,null,{"$f":"'Раздел 2'!H247","v":0}]
[null,null,null,null,null,"в том числе:\nКлассический лук","242",0,0,0,0,0,0,null,null,null,null,null,null,null,null,null,null,null,null,null,null,null,null,null,null,null,null,null,null,null,null,null,null,null,null,null,null,null,{"$f":"'Раздел 2'!H248","v":0}]
[null,null,null,null,null,"Блочный лук","243",0,0,0,0,0,0,null,null,null,null,null,null,null,null,null,null,null,null,null,null,null,null,null,null,null,null,null,null,null,null,null,null,null,null,null,null,null,{"$f":"'Раздел 2'!H249","v":0}]
[null,null,null,null,null,"Ачери ","244",0,0,0,0,0,0,null,null,null,null,null,null,null,null,null,null,null,null,null,null,null,null,null,null,null,null,null,null,null,null,null,null,null,null,null,null,null,{"$f":"'Раздел 2'!H250","v":0}]
[null,null,null,null,null,"Иные дисциплины вида спорта \"стрельба из лука\"","245",{"$f":"SUM(I251:K251)","v":0},0,0,0,0,0,null,null,null,null,null,null,null,null,null,null,null,null,null,null,null,null,null,null,null,null,null,null,null,null,null,null,null,null,null,null,null,{"$f":"'Раздел 2'!H251","v":0}]
[null,null,null,null,null,"Стрельба из штатного или табельного оружия","246",0,0,0,0,0,0,null,null,null,null,null,null,null,null,null,null,null,null,null,null,null,null,null,null,null,null,null,null,null,null,null,null,null,null,null,null,null,{"$f":"'Раздел 2'!H252","v":0}]
[null,null,null,null,null,"Стрельба на дальние дистанции","247",0,0,0,0,0,0,null,null,null,null,null,null,null,null,null,null,null,null,null,null,null,null,null,null,null,null,null,null,null,null,null,null,null,null,null,null,null,{"$f":"'Раздел 2'!H253","v":0}]
[null,null,null,null,null,"Судомодельный спорт","248",0,0,0,0,0,0,null,null,null,null,null,null,null,null,null,null,null,null,null,null,null,null,null,null,null,null,null,null,null,null,null,null,null,null,null,null,null,{"$f":"'Раздел 2'!H254","v":0}]
[null,null,null,null,null,"Сумо","249",0,0,0,0,0,0,null,null,null,null,null,null,null,null,null,null,null,null,null,null,null,null,null,null,null,null,null,null,null,null,null,null,null,null,null,null,null,{"$f":"'Раздел 2'!H255","v":0}]
[null,null,null,null,null,"Таврели","250",0,0,0,0,0,0,null,null,null,null,null,null,null,null,null,null,null,null,null,null,null,null,null,null,null,null,null,null,null,null,null,null,null,null,null,null,null,{"$f":"'Раздел 2'!H256","v":0}]
[null,null,null,null,null,"Танцевальный спорт","251",0,0,0,0,0,0,null,null,null,null,null,null,null,null,null,null,null,null,null,null,null,null,null,null,null,null,null,null,null,null,null,null,null,null,null,null,null,{"$f":"'Раздел 2'!H257","v":1}]
[null,null,null,null,null,"Теннис","252",0,0,0,0,0,0,null,null,null,null,null,null,null,null,null,null,null,null,null,null,null,null,null,null,null,null,null,null,null,null,null,null,null,null,null,null,null,{"$f":"'Раздел 2'!H258","v":0}]
[null,null,null,null,null,"Триатлон","253",0,0,0,0,0,0,null,null,null,null,null,null,null,null,null,null,null,null,null,null,null,null,null,null,null,null,null,null,null,null,null,null,null,null,null,null,null,{"$f":"'Раздел 2'!H259","v":0}]
[null,null,null,null,null,"Тхэквондо ВТФ","254",0,0,0,0,0,0,null,null,null,null,null,null,null,null,null,null,null,null,null,null,null,null,null,null,null,null,null,null,null,null,null,null,null,null,null,null,null,{"$f":"'Раздел 2'!H260","v":0}]
[null,null,null,null,null,"Тхэквондо ГТФ","255",0,0,0,0,0,0,null,null,null,null,null,null,null,null,null,null,null,null,null,null,null,null,null,null,null,null,null,null,null,null,null,null,null,null,null,null,null,{"$f":"'Раздел 2'!H261","v":0}]
[null,null,null,null,null,"Тхэквондо ИТФ","256",0,0,0,0,0,0,null,null,null,null,null,null,null,null,null,null,null,null,null,null,null,null,null,null,null,null,null,null,null,null,null,null,null,null,null,null,null,{"$f":"'Раздел 2'!H262","v":0}]
[null,null,null,null,null,"Тхэквондо МФТ","257",0,0,0,0,0,0,null,null,null,null,null,null,null,null,null,null,null,null,null,null,null,null,null,null,null,null,null,null,null,null,null,null,null,null,null,null,null,{"$f":"'Раздел 2'!H263","v":0}]
[null,null,null,null,null,"Тяжелая атлетика","258",{"$f":"SUM(I264:K264)","v":0},{"$f":"SUM(N264,S264,X264,AC264,AH264,AM264)","v":0},{"$f":"SUM(O264,T264,Y264,AD264,AI264,AN264)","v":0},{"$f":"SUM(P264,U264,Z264,AE264,AJ264,AO264)","v":0},{"$f":"SUM(Q264,V264,AA264,AF264,AK264,AP264)","v":0},{"$f":"SUM(R264,W264,AB264,AG264,AL264,AQ264)","v":0},null,null,null,null,null,null,null,null,null,null,null,null,null,null,null,null,null,null,null,null,null,null,null,null,null,null,null,null,null,null,null,{"$f":"'Раздел 2'!H264","v":0}]
[null,null,null,null,null,"Универсальный бой","259",0,0,0,0,0,0,null,null,null,null,null,null,null,null,null,null,null,null,null,null,null,null,null,null,null,null,null,null,null,null,null,null,null,null,null,null,null,{"$f":"'Раздел 2'!H265","v":0}]
[null,null,null,null,null,"Ушу","260",29,11,6,12,22,1,3,2,2,9,null,3,3,6,10,null,1,1,1,2,null,null,null,3,1,1,2,null,null,null,null,2,null,null,null,null,null,{"$f":"'Раздел 2'!H266","v":1}]
[null,null,null,null,null,"Фехтование - всего","261",0,0,0,0,0,0,{"$f":"SUM(N268:N271)","v":0},{"$f":"SUM(O268:O271)","v":0},0,0,0,0,0,0,0,0,0,0,0,0,0,0,0,0,0,0,0,0,0,0,0,0,0,0,0,0,null,{"$f":"'Раздел 2'!H267","v":0}]
[null,null,null,null,null,"в том числе:\nРапира","262",0,0,0,0,0,0,null,null,null,null,null,null,null,null,null,null,null,null,null,null,null,null,null,null,null,null,null,null,null,null,null,null,null,null,null,null,null,{"$f":"'Раздел 2'!H268","v":0}]
[null,null,null,null,null,"Сабля","263",0,0,0,0,0,0,null,null,null,null,null,null,null,null,null,null,null,null,null,null,null,null,null,null,null,null,null,null,null,null,null,null,null,null,null,null,null,{"$f":"'Раздел 2'!H269","v":0}]
[null,null,null,null,null,"Шпага","264",0,0,0,0,0,0,null,null,null,null,null,null,null,null,null,null,null,null,null,null,null,null,null,null,null,null,null,null,null,null,null,null,null,null,null,null,null,{"$f":"'Раздел 2'!H270","v":0}]
[null,null,null,null,null,"Арт-фехтование","265",0,0,0,0,0,0,null,null,null,null,null,null,null,null,null,null,null,null,null,null,null,null,null,null,null,null,null,null,null,null,null,null,null,null,null,null,null,{"$f":"'Раздел 2'!H271","v":0}]
[null,null,null,null,null,"Фигурное катание на коньках","266",0,0,0,0,0,0,null,null,null,null,null,null,null,null,null,null,null,null,null,null,null,null,null,null,null,null,null,null,null,null,null,null,null,null,null,null,null,{"$f":"'Раздел 2'!H272","v":0}]
[null,null,null,null,null,"Фиджитал спорт (функционально-цифровой спорт) - всего","267",0,0,0,0,0,0,{"$f":"SUM(N274:N278)","v":0},{"$f":"SUM(O274:O278)","v":0},0,0,0,0,0,0,0,0,0,0,0,0,0,0,0,0,0,0,0,0,0,0,0,0,0,0,0,0,null,{"$f":"'Раздел 2'!H273","v":0}]
[null,null,null,null,null,"в том числе:\nДвоеборье - автомодель","268",0,0,0,0,0,0,null,null,null,null,null,null,null,null,null,null,null,null,null,null,null,null,null,null,null,null,null,null,null,null,null,null,null,null,null,null,null,{"$f":"'Раздел 2'!H274","v":0}]
[null,null,null,null,null,"Двоеборье - единоборство","269",0,0,0,0,0,0,null,null,null,null,null,null,null,null,null,null,null,null,null,null,null,null,null,null,null,null,null,null,null,null,null,null,null,null,null,null,null,{"$f":"'Раздел 2'!H275","v":0}]
[null,null,null,null,null,"Двоеборье - тактическая стрельба","270",0,0,0,0,0,0,null,null,null,null,null,null,null,null,null,null,null,null,null,null,null,null,null,null,null,null,null,null,null,null,null,null,null,null,null,null,null,{"$f":"'Раздел 2'!H276","v":0}]
[null,null,null,null,null,"Преследование с препятствиями","271",0,0,0,0,0,0,null,null,null,null,null,null,null,null,null,null,null,null,null,null,null,null,null,null,null,null,null,null,null,null,null,null,null,null,null,null,null,{"$f":"'Раздел 2'!H277","v":0}]
[null,null,null,null,null,"Ритм - симулятор","272",0,0,0,0,0,0,null,null,null,null,null,null,null,null,null,null,null,null,null,null,null,null,null,null,null,null,null,null,null,null,null,null,null,null,null,null,null,{"$f":"'Раздел 2'!H278","v":0}]
[null,null,null,null,null,"Фитнес-аэробика","273",0,0,0,0,0,0,null,null,null,null,null,null,null,null,null,null,null,null,null,null,null,null,null,null,null,null,null,null,null,null,null,null,null,null,null,null,null,{"$f":"'Раздел 2'!H279","v":0}]
[null,null,null,null,null,"Флаинг диск","274",0,0,0,0,0,0,null,null,null,null,null,null,null,null,null,null,null,null,null,null,null,null,null,null,null,null,null,null,null,null,null,null,null,null,null,null,null,{"$f":"'Раздел 2'!H280","v":0}]
[null,null,null,null,null,"Флорбол","275",0,0,0,0,0,0,null,null,null,null,null,null,null,null,null,null,null,null,null,null,null,null,null,null,null,null,null,null,null,null,null,null,null,null,null,null,null,{"$f":"'Раздел 2'!H281","v":0}]
[null,null,null,null,null,"Фристайл - всего","276",0,0,0,0,0,0,{"$f":"SUM(N283:N288)","v":0},{"$f":"SUM(O283:O288)","v":0},0,0,0,0,0,0,0,0,0,0,0,0,0,0,0,0,0,0,0,0,0,0,0,0,0,0,0,0,null,{"$f":"'Раздел 2'!H282","v":0}]
[null,null,null,null,null,"в том числе:\nАкробатика","277",0,0,0,0,0,0,null,null,null,null,null,null,null,null,null,null,null,null,null,null,null,null,null,null,null,null,null,null,null,null,null,null,null,null,null,null,null,{"$f":"'Раздел 2'!H283","v":0}]
[null,null,null,null,null,"Биг-эйр","278",0,0,0,0,0,0,null,null,null,null,null,null,null,null,null,null,null,null,null,null,null,null,null,null,null,null,null,null,null,null,null,null,null,null,null,null,null,{"$f":"'Раздел 2'!H284","v":0}]
[null,null,null,null,null,"Могул","279",0,0,0,0,0,0,null,null,null,null,null,null,null,null,null,null,null,null,null,null,null,null,null,null,null,null,null,null,null,null,null,null,null,null,null,null,null,{"$f":"'Раздел 2'!H285","v":0}]
[null,null,null,null,null,"Ски-кросс","280",0,0,0,0,0,0,null,null,null,null,null,null,null,null,null,null,null,null,null,null,null,null,null,null,null,null,null,null,null,null,null,null,null,null,null,null,null,{"$f":"'Раздел 2'!H286","v":0}]
[null,null,null,null,null,"Хаф-пайп","281",0,0,0,0,0,0,null,null,null,null,null,null,null,null,null,null,null,null,null,null,null,null,null,null,null,null,null,null,null,null,null,null,null,null,null,null,null,{"$f":"'Раздел 2'!H287","v":0}]
[null,null,null,null,null,"Слоупстайл","282",0,0,0,0,0,0,null,null,null,null,null,null,null,null,null,null,null,null,null,null,null,null,null,null,null,null,null,null,null,null,null,null,null,null,null,null,null,{"$f":"'Раздел 2'!H288","v":0}]
[null,null,null,null,null,"Функциональное многоборье","283",0,0,0,0,0,0,null,null,null,null,null,null,null,null,null,null,null,null,null,null,null,null,null,null,null,null,null,null,null,null,null,null,null,null,null,null,null,{"$f":"'Раздел 2'!H289","v":0}]
[null,null,null,null,null,"Футбол - всего","284",0,0,0,0,0,0,{"$f":"SUM(N291:N297)","v":0},{"$f":"SUM(O291:O297)","v":0},0,0,0,0,0,0,0,0,0,0,0,0,0,0,0,0,0,0,0,0,0,0,0,0,0,0,0,0,null,{"$f":"'Раздел 2'!H290","v":1}]
[null,null,null,null,null,"в том числе:\nФутбол (муж.)","285",0,0,0,0,0,0,null,null,null,null,null,null,null,null,null,null,null,null,null,null,null,null,null,null,null,null,null,null,null,null,null,null,null,null,null,null,null,{"$f":"'Раздел 2'!H291","v":0}]
[null,null,null,null,null,"Футбол (жен.)","286",0,0,0,0,0,0,null,null,null,null,null,null,null,null,null,null,null,null,null,null,null,null,null,null,null,null,null,null,null,null,null,null,null,null,null,null,null,{"$f":"'Раздел 2'!H292","v":0}]
[null,null,null,null,null,"Интерактивный футбол","287",0,0,0,0,0,0,null,null,null,null,null,null,null,null,null,null,null,null,null,null,null,null,null,null,null,null,null,null,null,null,null,null,null,null,null,null,null,{"$f":"'Раздел 2'!H293","v":0}]
[null,null,null,null,null,"Мини-футбол","288",0,0,0,0,0,0,null,null,null,null,null,null,null,null,null,null,null,null,null,null,null,null,null,null,null,null,null,null,null,null,null,null,null,null,null,null,null,{"$f":"'Раздел 2'!H294","v":0}]
[null,null,null,null,null,"Пляжный футбол","289",0,0,0,0,0,0,null,null,null,null,null,null,null,null,null,null,null,null,null,null,null,null,null,null,null,null,null,null,null,null,null,null,null,null,null,null,null,{"$f":"'Раздел 2'!H295","v":0}]
[null,null,null,null,null,"Футбольное двоеборье","290",0,0,0,0,0,0,null,null,null,null,null,null,null,null,null,null,null,null,null,null,null,null,null,null,null,null,null,null,null,null,null,null,null,null,null,null,null,{"$f":"'Раздел 2'!H296","v":0}]
[null,null,null,null,null,"Футзал","291",0,0,0,0,0,0,null,null,null,null,null,null,null,null,null,null,null,null,null,null,null,null,null,null,null,null,null,null,null,null,null,null,null,null,null,null,null,{"$f":"'Раздел 2'!H297","v":1}]
[null,null,null,null,null,"Хапкидо","292",0,0,0,0,0,0,null,null,null,null,null,null,null,null,null,null,null,null,null,null,null,null,null,null,null,null,null,null,null,null,null,null,null,null,null,null,null,{"$f":"'Раздел 2'!H298","v":0}]
[null,null,null,null,null,"Хапсагай","293",0,0,0,0,0,0,null,null,null,null,null,null,null,null,null,null,null,null,null,null,null,null,null,null,null,null,null,null,null,null,null,null,null,null,null,null,null,{"$f":"'Раздел 2'!H299","v":0}]
[null,null,null,null,null,"Хоккей - всего","294",0,0,0,0,0,0,{"$f":"SUM(N301:N305)","v":0},{"$f":"SUM(O301:O305)","v":0},0,0,0,0,0,0,0,0,0,0,0,0,0,0,0,0,0,0,0,0,0,0,0,0,0,0,0,0,null,{"$f":"'Раздел 2'!H300","v":0}]
[null,null,null,null,null,"в том числе:\nХоккей (муж.)","295",0,0,0,0,0,0,null,null,null,null,null,null,null,null,null,null,null,null,null,null,null,null,null,null,null,null,null,null,null,null,null,null,null,null,null,null,null,{"$f":"'Раздел 2'!H301","v":0}]
[null,null,null,null,null,"Хоккей (жен.)","296",0,0,0,0,0,0,null,null,null,null,null,null,null,null,null,null,null,null,null,null,null,null,null,null,null,null,null,null,null,null,null,null,null,null,null,null,null,{"$f":"'Раздел 2'!H302","v":0}]
[null,null,null,null,null,"Хоккейное двоеборье","297",0,0,0,0,0,0,null,null,null,null,null,null,null,null,null,null,null,null,null,null,null,null,null,null,null,null,null,null,null,null,null,null,null,null,null,null,null,{"$f":"'Раздел 2'!H303","v":0}]
[null,null,null,null,null,"Хоккей 2х2, 3х3, 4х4","298",0,0,0,0,0,0,null,null,null,null,null,null,null,null,null,null,null,null,null,null,null,null,null,null,null,null,null,null,null,null,null,null,null,null,null,null,null,{"$f":"'Раздел 2'!H304","v":0}]
[null,null,null,null,null,"Интерактивный хоккей","299",0,0,0,0,0,0,null,null,null,null,null,null,null,null,null,null,null,null,null,null,null,null,null,null,null,null,null,null,null,null,null,null,null,null,null,null,null,{"$f":"'Раздел 2'!H305","v":0}]
[null,null,null,null,null,"Хоккей на траве - всего","300",0,0,0,0,0,0,{"$f":"SUM(N307:N309)","v":0},{"$f":"SUM(O307:O309)","v":0},0,0,0,0,0,0,0,0,0,0,0,0,0,0,0,0,0,0,0,0,0,0,0,0,0,0,0,0,null,{"$f":"'Раздел 2'!H306","v":0}]
[null,null,null,null,null,"в том числе:\nХоккей на траве (муж.)","301",0,0,0,0,0,0,null,null,null,null,null,null,null,null,null,null,null,null,null,null,null,null,null,null,null,null,null,null,null,null,null,null,null,null,null,null,null,{"$f":"'Раздел 2'!H307","v":0}]
[null,null,null,null,null,"Хоккей на траве (жен.)","302",0,0,0,0,0,0,null,null,null,null,null,null,null,null,null,null,null,null,null,null,null,null,null,null,null,null,null,null,null,null,null,null,null,null,null,null,null,{"$f":"'Раздел 2'!H308","v":0}]
[null,null,null,null,null,"Иные дисциплины вида спорта \"хоккей на траве\"","303",0,0,0,0,0,0,null,null,null,null,null,null,null,null,null,null,null,null,null,null,null,null,null,null,null,null,null,null,null,null,null,null,null,null,null,null,null,{"$f":"'Раздел 2'!H309","v":0}]
[null,null,null,null,null,"Хоккей с мячом","304",0,0,0,0,0,0,null,null,null,null,null,null,null,null,null,null,null,null,null,null,null,null,null,null,null,null,null,null,null,null,null,null,null,null,null,null,null,{"$f":"'Раздел 2'!H310","v":0}]
[null,null,null,null,null,"Художественная гимнастика","305",0,0,0,0,0,0,null,null,null,null,null,null,null,null,null,null,null,null,null,null,null,null,null,null,null,null,null,null,null,null,null,null,null,null,null,null,null,{"$f":"'Раздел 2'!H311","v":0}]
[null,null,null,null,null,"Хуреш","306",0,0,0,0,0,0,null,null,null,null,null,null,null,null,null,null,null,null,null,null,null,null,null,null,null,null,null,null,null,null,null,null,null,null,null,null,null,{"$f":"'Раздел 2'!H312","v":0}]
[null,null,null,null,null,"Чир спорт","307",0,0,0,0,0,0,null,null,null,null,null,null,null,null,null,null,null,null,null,null,null,null,null,null,null,null,null,null,null,null,null,null,null,null,null,null,null,{"$f":"'Раздел 2'!H313","v":0}]
[null,null,null,null,null,"Шахбокс","308",0,0,0,0,0,0,null,null,null,null,null,null,null,null,null,null,null,null,null,null,null,null,null,null,null,null,null,null,null,null,null,null,null,null,null,null,null,{"$f":"'Раздел 2'!H314","v":0}]
[null,null,null,null,null,"Шахматы","309",3,2,0,1,2,0,null,null,null,null,null,null,null,null,1,null,1,null,null,null,null,null,null,null,null,null,null,null,null,null,null,1,null,1,1,null,null,{"$f":"'Раздел 2'!H315","v":1}]
[null,null,null,null,null,"Шашки","310",0,0,0,0,0,0,null,null,null,null,null,null,null,null,null,null,null,null,null,null,null,null,null,null,null,null,null,null,null,null,null,null,null,null,null,null,null,{"$f":"'Раздел 2'!H316","v":0}]
[null,null,null,null,null,"Шодсанлат","311",0,0,0,0,{"$f":"SUM(Q317,V317,AA317,AF317,AK317,AP317)","v":0},{"$f":"SUM(R317,W317,AB317,AG317,AL317,AQ317)","v":0},null,null,null,null,null,null,null,null,null,null,null,null,null,null,null,null,null,null,null,null,null,null,null,null,null,null,null,null,null,null,null,{"$f":"'Раздел 2'!H317","v":0}]
[null,null,null,null,null,"Эстетическая гимнастика","312",0,0,0,0,0,0,null,null,null,null,null,null,null,null,null,null,null,null,null,null,null,null,null,null,null,null,null,null,null,null,null,null,null,null,null,null,null,{"$f":"'Раздел 2'!H318","v":0}]
[null,null,null,null,null,"Якутские национальные прыжки","313",0,0,0,0,0,0,null,null,null,null,null,null,null,null,null,null,null,null,null,null,null,null,null,null,null,null,null,null,null,null,null,null,null,null,null,null,null,{"$f":"'Раздел 2'!H319","v":0}]
[null,null,null,null,null,"ИТОГО","314",81,21,23,37,52,44,{"$f":"SUM(N7:N13,N16:N21,N27:N30,N35:N41,N47:N48,N52:N60,N66:N68,N72:N75,N80:N87,N90:N101,N105:N110,N118:N119,N124:N149,N152:N158,N163:N164,N170:N173,N180:N194,N198:N209,N215:N221,N227:N231,N237:N240,N244:N247,N252:N267,N272:N273,N279:N282,N289:N290,N298:N300,N306,N310:N319)","v":4},{"$f":"SUM(O7:O13,O16:O21,O27:O30,O35:O41,O47:O48,O52:O60,O66:O68,O72:O75,O80:O87,O90:O101,O105:O110,O118:O119,O124:O149,O152:O158,O163:O164,O170:O173,O180:O194,O198:O209,O215:O221,O227:O231,O237:O240,O244:O247,O252:O267,O272:O273,O279:O282,O289:O290,O298:O300,O306,O310:O319)","v":4},5,12,9,3,4,7,12,3,4,1,3,8,9,1,0,5,4,1,2,0,0,1,0,7,14,17,15,22]

{"sheet":"Раздел 7","index":7,"n_rows":320,"n_cols":65,"rows_kept":320,"cut":false,"hidden":false,"merged":[[0,5,0,62],[2,7,3,12],[2,13,3,17],[2,18,3,22],[2,23,3,27],[2,28,3,32],[2,33,3,37],[2,38,3,42],[2,43,3,47],[2,48,3,52],[1,5,4,5],[1,6,4,6],[2,53,3,57],[2,58,3,62],[1,7,1,62]]}
[null,null,null,null,null,"Раздел VII. Международные спортивные соревнования, единица"]
[null,null,null,null,null,"Виды спорта","№ строки","Результаты выступлений на соревнованиях"]
[null,null,null,null,null,null,null,"Всего",null,null,null,null,null,"Олимпийские игры",null,null,null,null,"Чемпионат мира",null,null,null,null,"Юношеские Олимпийские игры",null,null,null,null,"Первенство мира",null,null,null,null,"Кубок мира",null,null,null,null,"Этапы Кубка мира",null,null,null,null,"Чемпионат Европы",null,null,null,null,"Первенство Европы",null,null,null,null,"Кубок Европы",null,null,null,null,"Прочие официальные международные соревнования"]
[]
["Код региона","ОГРН","Ведоственная принадлежность","Вид организации","Вид правового образования",null,null,"медали \n(1-3 место)",1,2,3,"4-6","учас-тие",1,2,3,"4-6","учас-тие",1,2,3,"4-6","учас-тие",1,2,3,"4-6","учас-тие",1,2,3,"4-6","учас-тие",1,2,3,"4-6","учас-тие",1,2,3,"4-6","учас-тие",1,2,3,"4-6","учас-тие",1,2,3,"4-6","учас-тие",1,2,3,"4-6","учас-тие",1,2,3,"4-6","учас-тие"]
[{"$f":"'Раздел 0'!M27","v":86},{"$f":"IF('Раздел 1'!D15>0,'Раздел 1'!D15,\"ОСП\")","v":1188617000428},{"$f":"(IF(SUM('Раздел 1'!D5:D6)>0,\"ФКИС\",IF(SUM('Раздел 1'!D7:D8)>0,\"ОБРАЗОВАНИЕ\",IF(SUM('Раздел 1'!D9:D10)>0,\"ДВП\",\" \"))))","v":"ФКИС"},{"$f":"(IF(SUM('Раздел 1'!E12:E13)>0,\"СШ\",IF(SUM('Раздел 1'!F12:F13)>0,\"СШОР\",IF(SUM('Раздел 1'!G12:G13)>0,\"УОР\",IF(SUM('Раздел 1'!H12:H13)>0,\"ЦСП\",IF(SUM('Раздел 1'!I12:I13)>0,\"Другие\"))))))","v":"СШ"},{"$f":"(IF('Раздел 1'!D19=1,\"РФ\",IF('Раздел 1'!E19=1,\"Суб РФ\",IF('Раздел 1'!F19=1,\"МО\",IF('Раздел 1'!H19=1,\"ИПО\",\"ОСП\")))))","v":"МО"},1,2,3,4,5,6,7,8,9,10,11,12,13,14,15,16,17,18,19,20,21,22,23,24,25,26,27,28,29,30,31,32,33,34,35,36,37,38,39,40,41,42,43,44,45,46,47,48,49,50,51,52,53,54,55,56,57,58,"цсп?","2р"]
[null,null,null,null,null,"Авиамодельный спорт","01",{"$f":"SUM(I7:K7)","v":0},{"$f":"SUM(N7,S7,X7,AC7,AH7,AM7,AR7,AW7,BB7,BG7)","v":0},{"$f":"SUM(O7,T7,Y7,AD7,AI7,AN7,AS7,AX7,BC7,BH7)","v":0},0,0,0,null,null,null,null,null,null,null,null,null,null,null,null,null,null,null,null,null,null,null,null,null,null,null,null,null,null,null,null,null,null,null,null,null,null,null,null,null,null,null,null,null,null,null,null,null,null,null,null,null,null,{"$f":"'Раздел 1'!H12","v":0},{"$f":"'Раздел 2'!H7","v":0}]
[null,null,null,null,null,"Авиационные гонки","02",{"$f":"SUM(I8:K8)","v":0},{"$f":"SUM(N8,S8,X8,AC8,AH8,AM8,AR8,AW8,BB8,BG8)","v":0},{"$f":"SUM(O8,T8,Y8,AD8,AI8,AN8,AS8,AX8,BC8,BH8)","v":0},{"$f":"SUM(P8,U8,Z8,AE8,AJ8,AO8,AT8,AY8,BD8,BI8)","v":0},{"$f":"SUM(Q8,V8,AA8,AF8,AK8,AP8,AU8,AZ8,BE8,BJ8)","v":0},{"$f":"SUM(R8,W8,AB8,AG8,AL8,AQ8,AV8,BA8,BF8,BK8)","v":0},null,null,null,null,null,null,null,null,null,null,null,null,null,null,null,null,null,null,null,null,null,null,null,null,null,null,null,null,null,null,null,null,null,null,null,null,null,null,null,null,null,null,null,null,null,null,null,null,null,null,null,{"$f":"'Раздел 2'!H8","v":0}]
[null,null,null,null,null,"Автомобильный спорт","03",0,0,0,0,0,0,null,null,null,null,null,null,null,null,null,null,null,null,null,null,null,null,null,null,null,null,null,null,null,null,null,null,null,null,null,null,null,null,null,null,null,null,null,null,null,null,null,null,null,null,null,null,null,null,null,null,null,{"$f":"'Раздел 2'!H9","v":0}]
[null,null,null,null,null,"Автомодельный спорт","04",0,0,0,0,0,0,null,null,null,null,null,null,null,null,null,null,null,null,null,null,null,null,null,null,null,null,null,null,null,null,null,null,null,null,null,null,null,null,null,null,null,null,null,null,null,null,null,null,null,null,null,null,null,null,null,null,null,{"$f":"'Раздел 2'!H10","v":0}]
[null,null,null,null,null,"Айкидо","05",0,0,0,0,0,0,null,null,null,null,null,null,null,null,null,null,null,null,null,null,null,null,null,null,null,null,null,null,null,null,null,null,null,null,null,null,null,null,null,null,null,null,null,null,null,null,null,null,null,null,null,null,null,null,null,null,null,{"$f":"'Раздел 2'!H11","v":0}]
[null,null,null,null,null,"Акробатический рок-н-ролл","06",0,0,0,0,0,0,null,null,null,null,null,null,null,null,null,null,null,null,null,null,null,null,null,null,null,null,null,null,null,null,null,null,null,null,null,null,null,null,null,null,null,null,null,null,null,null,null,null,null,null,null,null,null,null,null,null,null,{"$f":"'Раздел 2'!H12","v":0}]
[null,null,null,null,null,"Альпинизм - всего","07",0,0,0,0,0,0,{"$f":"SUM(N14:N15)","v":0},{"$f":"SUM(O14:O15)","v":0},0,0,0,0,0,0,0,0,0,0,0,0,0,0,0,0,0,0,0,0,0,0,0,0,0,0,0,0,0,0,0,0,0,0,0,0,0,0,0,0,0,0,0,0,0,0,0,0,null,{"$f":"'Раздел 2'!H13","v":0}]
[null,null,null,null,null,"В том числе:\nСки-альпинизм","08",0,0,0,0,0,0,null,null,null,null,null,null,null,null,null,null,null,null,null,null,null,null,null,null,null,null,null,null,null,null,null,null,null,null,null,null,null,null,null,null,null,null,null,null,null,null,null,null,null,null,null,null,null,null,null,null,null,{"$f":"'Раздел 2'!H14","v":0}]
[null,null,null,null,null,"Иные дисциплины вида спорта \"альпинизм\"","09",0,0,0,0,0,0,null,null,null,null,null,null,null,null,null,null,null,null,null,null,null,null,null,null,null,null,null,null,null,null,null,null,null,null,null,null,null,null,null,null,null,null,null,null,null,null,null,null,null,null,null,null,null,null,null,null,null,{"$f":"'Раздел 2'!H15","v":0}]
[null,null,null,null,null,"Американский футбол","10",0,0,0,0,0,0,null,null,null,null,null,null,null,null,null,null,null,null,null,null,null,null,null,null,null,null,null,null,null,null,null,null,null,null,null,null,null,null,null,null,null,null,null,null,null,null,null,null,null,null,null,null,null,null,null,null,null,{"$f":"'Раздел 2'!H16","v":0}]
[null,null,null,null,null,"Армейский рукопашный бой","11",0,0,0,0,0,0,null,null,null,null,null,null,null,null,null,null,null,null,null,null,null,null,null,null,null,null,null,null,null,null,null,null,null,null,null,null,null,null,null,null,null,null,null,null,null,null,null,null,null,null,null,null,null,null,null,null,null,{"$f":"'Раздел 2'!H17","v":0}]
[null,null,null,null,null,"Армейское тактико-стрелковое многоборье","12",0,0,0,0,0,0,null,null,null,null,null,null,null,null,null,null,null,null,null,null,null,null,null,null,null,null,null,null,null,null,null,null,null,null,null,null,null,null,null,null,null,null,null,null,null,null,null,null,null,null,null,null,null,null,null,null,null,{"$f":"'Раздел 2'!H18","v":0}]
[null,null,null,null,null,"Армрестлинг","13",0,0,0,0,0,0,null,null,null,null,null,null,null,null,null,null,null,null,null,null,null,null,null,null,null,null,null,null,null,null,null,null,null,null,null,null,null,null,null,null,null,null,null,null,null,null,null,null,null,null,null,null,null,null,null,null,null,{"$f":"'Раздел 2'!H19","v":0}]
[null,null,null,null,null,"Бадминтон","14",0,0,0,0,0,0,null,null,null,null,null,null,null,null,null,null,null,null,null,null,null,null,null,null,null,null,null,null,null,null,null,null,null,null,null,null,null,null,null,null,null,null,null,null,null,null,null,null,null,null,null,null,null,null,null,null,null,{"$f":"'Раздел 2'!H20","v":0}]
[null,null,null,null,null,"Баскетбол - всего","15",0,0,0,0,0,0,{"$f":"SUM(N22:N26)","v":0},0,0,0,0,0,0,0,0,0,0,0,0,0,0,0,0,0,0,0,0,0,0,0,0,0,0,0,0,0,0,0,0,0,0,0,0,0,0,0,0,0,0,0,0,0,0,0,0,{"$f":"SUM(BK22:BK26)","v":0},null,{"$f":"'Раздел 2'!H21","v":0}]
[null,null,null,null,null,"в том числе:\nБаскетбол (муж.)","16",0,0,0,0,0,0,null,null,null,null,null,null,null,null,null,null,null,null,null,null,null,null,null,null,null,null,null,null,null,null,null,null,null,null,null,null,null,null,null,null,null,null,null,null,null,null,null,null,null,null,null,null,null,null,null,null,null,{"$f":"'Раздел 2'!H22","v":0}]
[null,null,null,null,null,"Баскетбол (жен.)","17",0,0,0,0,0,0,null,null,null,null,null,null,null,null,null,null,null,null,null,null,null,null,null,null,null,null,null,null,null,null,null,null,null,null,null,null,null,null,null,null,null,null,null,null,null,null,null,null,null,null,null,null,null,null,null,null,null,{"$f":"'Раздел 2'!H23","v":0}]
[null,null,null,null,null,"Баскетбол 3х3","18",0,0,0,0,0,0,null,null,null,null,null,null,null,null,null,null,null,null,null,null,null,null,null,null,null,null,null,null,null,null,null,null,null,null,null,null,null,null,null,null,null,null,null,null,null,null,null,null,null,null,null,null,null,null,null,null,null,{"$f":"'Раздел 2'!H24","v":0}]
[null,null,null,null,null,"Интерактивный баскетбол","19",0,0,0,0,0,0,null,null,null,null,null,null,null,null,null,null,null,null,null,null,null,null,null,null,null,null,null,null,null,null,null,null,null,null,null,null,null,null,null,null,null,null,null,null,null,null,null,null,null,null,null,null,null,null,null,null,null,{"$f":"'Раздел 2'!H25","v":0}]
[null,null,null,null,null,"Иные дисциплины вида спорта \"баскетбол\"","20",0,0,0,0,0,0,null,null,null,null,null,null,null,null,null,null,null,null,null,null,null,null,null,null,null,null,null,null,null,null,null,null,null,null,null,null,null,null,null,null,null,null,null,null,null,null,null,null,null,null,null,null,null,null,null,null,null,{"$f":"'Раздел 2'!H26","v":0}]
[null,null,null,null,null,"Бейсбол","21",0,0,0,0,0,0,null,null,null,null,null,null,null,null,null,null,null,null,null,null,null,null,null,null,null,null,null,null,null,null,null,null,null,null,null,null,null,null,null,null,null,null,null,null,null,null,null,null,null,null,null,null,null,null,null,null,null,{"$f":"'Раздел 2'!H27","v":0}]
[null,null,null,null,null,"Биатлон","22",0,0,0,0,0,0,null,null,null,null,null,null,null,null,null,null,null,null,null,null,null,null,null,null,null,null,null,null,null,null,null,null,null,null,null,null,null,null,null,null,null,null,null,null,null,null,null,null,null,null,null,null,null,null,null,null,null,{"$f":"'Раздел 2'!H28","v":0}]
[null,null,null,null,null,"Бильярдный спорт","23",0,0,0,0,0,0,null,null,null,null,null,null,null,null,null,null,null,null,null,null,null,null,null,null,null,null,null,null,null,null,null,null,null,null,null,null,null,null,null,null,null,null,null,null,null,null,null,null,null,null,null,null,null,null,null,null,null,{"$f":"'Раздел 2'!H29","v":0}]
[null,null,null,null,null,"Бобслей - всего","24",0,0,0,0,0,0,{"$f":"SUM(N31:N34)","v":0},{"$f":"SUM(O31:O34)","v":0},0,0,0,0,0,0,0,0,0,0,0,0,0,0,0,0,0,0,0,0,0,0,0,0,0,0,0,0,0,0,0,0,0,0,0,0,0,0,0,0,0,0,0,0,0,0,0,0,null,{"$f":"'Раздел 2'!H30","v":0}]
[null,null,null,null,null,"В том числе:\nСкелетон","25",0,0,0,0,0,0,null,null,null,null,null,null,null,null,null,null,null,null,null,null,null,null,null,null,null,null,null,null,null,null,null,null,null,null,null,null,null,null,null,null,null,null,null,null,null,null,null,null,null,null,null,null,null,null,null,null,null,{"$f":"'Раздел 2'!H31","v":0}]
[null,null,null,null,null,"Экипаж","26",0,0,0,0,0,0,null,null,null,null,null,null,null,null,null,null,null,null,null,null,null,null,null,null,null,null,null,null,null,null,null,null,null,null,null,null,null,null,null,null,null,null,null,null,null,null,null,null,null,null,null,null,null,null,null,null,null,{"$f":"'Раздел 2'!H32","v":0}]
[null,null,null,null,null,"Монобоб","27",0,0,0,0,0,0,null,null,null,null,null,null,null,null,null,null,null,null,null,null,null,null,null,null,null,null,null,null,null,null,null,null,null,null,null,null,null,null,null,null,null,null,null,null,null,null,null,null,null,null,null,null,null,null,null,null,null,{"$f":"'Раздел 2'!H33","v":0}]
[null,null,null,null,null,"Иные дисциплины вида спорта \"бобслей\"","28",0,0,0,0,0,0,null,null,null,null,null,null,null,null,null,null,null,null,null,null,null,null,null,null,null,null,null,null,null,null,null,null,null,null,null,null,null,null,null,null,null,null,null,null,null,null,null,null,null,null,null,null,null,null,null,null,null,{"$f":"'Раздел 2'!H34","v":0}]
[null,null,null,null,null,"Бодибилдинг","29",0,0,0,0,0,0,null,null,null,null,null,null,null,null,null,null,null,null,null,null,null,null,null,null,null,null,null,null,null,null,null,null,null,null,null,null,null,null,null,null,null,null,null,null,null,null,null,null,null,null,null,null,null,null,null,null,null,{"$f":"'Раздел 2'!H35","v":0}]
[null,null,null,null,null,"Бокс","30",0,0,0,0,0,0,null,null,null,null,null,null,null,null,null,null,null,null,null,null,null,null,null,null,null,null,null,null,null,null,null,null,null,null,null,null,null,null,null,null,null,null,null,null,null,null,null,null,null,null,null,null,null,null,null,null,null,{"$f":"'Раздел 2'!H36","v":0}]
[null,null,null,null,null,"Борьба на поясах","31",0,0,0,0,0,0,null,null,null,null,null,null,null,null,null,null,null,null,null,null,null,null,null,null,null,null,null,null,null,null,null,null,null,null,null,null,null,null,null,null,null,null,null,null,null,null,null,null,null,null,null,null,null,null,null,null,null,{"$f":"'Раздел 2'!H37","v":0}]
[null,null,null,null,null,"Боулинг","32",0,0,0,0,0,0,null,null,null,null,null,null,null,null,null,null,null,null,null,null,null,null,null,null,null,null,null,null,null,null,null,null,null,null,null,null,null,null,null,null,null,null,null,null,null,null,null,null,null,null,null,null,null,null,null,null,null,{"$f":"'Раздел 2'!H38","v":0}]
[null,null,null,null,null,"Боулспорт","33",0,0,0,0,0,0,null,null,null,null,null,null,null,null,null,null,null,null,null,null,null,null,null,null,null,null,null,null,null,null,null,null,null,null,null,null,null,null,null,null,null,null,null,null,null,null,null,null,null,null,null,null,null,null,null,null,null,{"$f":"'Раздел 2'!H39","v":0}]
[null,null,null,null,null,"Брейкинг","34",0,0,0,0,0,0,null,null,null,null,null,null,null,null,null,null,null,null,null,null,null,null,null,null,null,null,null,null,null,null,null,null,null,null,null,null,null,null,null,null,null,null,null,null,null,null,null,null,null,null,null,null,null,null,null,null,null,{"$f":"'Раздел 2'!H40","v":0}]
[null,null,null,null,null,"Велосипедный спорт - всего","35",0,0,0,0,0,0,{"$f":"SUM(N42:N46)","v":0},0,0,0,0,0,0,0,0,0,0,0,0,0,0,0,0,0,0,0,0,0,0,0,0,0,0,0,0,0,0,0,0,0,0,0,0,0,0,0,0,0,0,0,0,0,0,0,0,{"$f":"SUM(BK42:BK46)","v":0},null,{"$f":"'Раздел 2'!H41","v":0}]
[null,null,null,null,null,"в том числе:\nBMX (гонка, эстафета)","36",0,0,0,0,0,0,null,null,null,null,null,null,null,null,null,null,null,null,null,null,null,null,null,null,null,null,null,null,null,null,null,null,null,null,null,null,null,null,null,null,null,null,null,null,null,null,null,null,null,null,null,null,null,null,null,null,null,{"$f":"'Раздел 2'!H42","v":0}]
[null,null,null,null,null,"BMX - фристайл","37",0,0,0,0,0,0,null,null,null,null,null,null,null,null,null,null,null,null,null,null,null,null,null,null,null,null,null,null,null,null,null,null,null,null,null,null,null,null,null,null,null,null,null,null,null,null,null,null,null,null,null,null,null,null,null,null,null,{"$f":"'Раздел 2'!H43","v":0}]
[null,null,null,null,null,"Маунтинбайк","38",0,0,0,0,0,0,null,null,null,null,null,null,null,null,null,null,null,null,null,null,null,null,null,null,null,null,null,null,null,null,null,null,null,null,null,null,null,null,null,null,null,null,null,null,null,null,null,null,null,null,null,null,null,null,null,null,null,{"$f":"'Раздел 2'!H44","v":0}]
[null,null,null,null,null,"Трек","39",0,0,0,0,0,0,null,null,null,null,null,null,null,null,null,null,null,null,null,null,null,null,null,null,null,null,null,null,null,null,null,null,null,null,null,null,null,null,null,null,null,null,null,null,null,null,null,null,null,null,null,null,null,null,null,null,null,{"$f":"'Раздел 2'!H45","v":0}]
[null,null,null,null,null,"Шоссе","40",0,0,0,0,0,0,null,null,null,null,null,null,null,null,null,null,null,null,null,null,null,null,null,null,null,null,null,null,null,null,null,null,null,null,null,null,null,null,null,null,null,null,null,null,null,null,null,null,null,null,null,null,null,null,null,null,null,{"$f":"'Раздел 2'!H46","v":0}]
[null,null,null,null,null,"Вертолетный спорт","41",0,0,0,0,0,0,null,null,null,null,null,null,null,null,null,null,null,null,null,null,null,null,null,null,null,null,null,null,null,null,null,null,null,null,null,null,null,null,null,null,null,null,null,null,null,null,null,null,null,null,null,null,null,null,null,null,null,{"$f":"'Раздел 2'!H47","v":0}]
[null,null,null,null,null,"Водное поло - всего","42",0,0,0,0,0,0,{"$f":"SUM(N49:N51)","v":0},{"$f":"SUM(O49:O51)","v":0},0,0,0,0,0,0,0,0,0,0,0,0,0,0,0,0,0,0,0,0,0,0,0,0,0,0,0,0,0,0,0,0,0,0,0,0,0,0,0,0,0,0,0,0,0,0,0,0,null,{"$f":"'Раздел 2'!H48","v":0}]
[null,null,null,null,null,"в том числе:\nВодное поло (муж.)","43",0,0,0,0,0,0,null,null,null,null,null,null,null,null,null,null,null,null,null,null,null,null,null,null,null,null,null,null,null,null,null,null,null,null,null,null,null,null,null,null,null,null,null,null,null,null,null,null,null,null,null,null,null,null,null,null,null,{"$f":"'Раздел 2'!H49","v":0}]
[null,null,null,null,null,"Водное поло (жен.)","44",0,0,0,0,0,0,null,null,null,null,null,null,null,null,null,null,null,null,null,null,null,null,null,null,null,null,null,null,null,null,null,null,null,null,null,null,null,null,null,null,null,null,null,null,null,null,null,null,null,null,null,null,null,null,null,null,null,{"$f":"'Раздел 2'!H50","v":0}]
[null,null,null,null,null,"Иные дисциплины вида спорта \"водное поло\"","45",0,0,0,0,0,0,null,null,null,null,null,null,null,null,null,null,null,null,null,null,null,null,null,null,null,null,null,null,null,null,null,null,null,null,null,null,null,null,null,null,null,null,null,null,null,null,null,null,null,null,null,null,null,null,null,null,null,{"$f":"'Раздел 2'!H51","v":0}]
[null,null,null,null,null,"Воднолыжный спорт","46",0,0,0,0,0,0,null,null,null,null,null,null,null,null,null,null,null,null,null,null,null,null,null,null,null,null,null,null,null,null,null,null,null,null,null,null,null,null,null,null,null,null,null,null,null,null,null,null,null,null,null,null,null,null,null,null,null,{"$f":"'Раздел 2'!H52","v":0}]
[null,null,null,null,null,"Водно-моторный спорт","47",0,0,0,0,0,0,null,null,null,null,null,null,null,null,null,null,null,null,null,null,null,null,null,null,null,null,null,null,null,null,null,null,null,null,null,null,null,null,null,null,null,null,null,null,null,null,null,null,null,null,null,null,null,null,null,null,null,{"$f":"'Раздел 2'!H53","v":0}]
[null,null,null,null,null,"Водно-спасательное многоборье","48",0,0,0,0,0,0,null,null,null,null,null,null,null,null,null,null,null,null,null,null,null,null,null,null,null,null,null,null,null,null,null,null,null,null,null,null,null,null,null,null,null,null,null,null,null,null,null,null,null,null,null,null,null,null,null,null,null,{"$f":"'Раздел 2'!H54","v":0}]
[null,null,null,null,null,"Военно-прикладной спорт","49",0,0,0,0,0,0,null,null,null,null,null,null,null,null,null,null,null,null,null,null,null,null,null,null,null,null,null,null,null,null,null,null,null,null,null,null,null,null,null,null,null,null,null,null,null,null,null,null,null,null,null,null,null,null,null,null,null,{"$f":"'Раздел 2'!H55","v":0}]
[null,null,null,null,null,"Военно-спортивное многоборье","50",0,0,0,0,0,0,null,null,null,null,null,null,null,null,null,null,null,null,null,null,null,null,null,null,null,null,null,null,null,null,null,null,null,null,null,null,null,null,null,null,null,null,null,null,null,null,null,null,null,null,null,null,null,null,null,null,null,{"$f":"'Раздел 2'!H56","v":0}]
[null,null,null,null,null,"Воздухоплавательный спорт","51",0,0,0,0,0,0,null,null,null,null,null,null,null,null,null,null,null,null,null,null,null,null,null,null,null,null,null,null,null,null,null,null,null,null,null,null,null,null,null,null,null,null,null,null,null,null,null,null,null,null,null,null,null,null,null,null,null,{"$f":"'Раздел 2'!H57","v":0}]
[null,null,null,null,null,"Воздушная гимнастика","52",0,0,0,0,0,0,null,null,null,null,null,null,null,null,null,null,null,null,null,null,null,null,null,null,null,null,null,null,null,null,null,null,null,null,null,null,null,null,null,null,null,null,null,null,null,null,null,null,null,null,null,null,null,null,null,null,null,{"$f":"'Раздел 2'!H58","v":0}]
[null,null,null,null,null,"Воздушно-силовая атлетика","53",0,0,0,0,0,0,null,null,null,null,null,null,null,null,null,null,null,null,null,null,null,null,null,null,null,null,null,null,null,null,null,null,null,null,null,null,null,null,null,null,null,null,null,null,null,null,null,null,null,null,null,null,null,null,null,null,null,{"$f":"'Раздел 2'!H59","v":0}]
[null,null,null,null,null,"Волейбол - всего","54",0,0,0,0,0,0,{"$f":"SUM(N61:N65)","v":0},0,0,0,0,0,0,0,0,0,0,0,0,0,0,0,0,0,0,0,0,0,0,0,0,0,0,0,0,0,0,0,0,0,0,0,0,0,0,0,0,0,0,0,0,0,0,0,0,{"$f":"SUM(BK61:BK65)","v":0},null,{"$f":"'Раздел 2'!H60","v":0}]
[null,null,null,null,null,"в том числе:\nВолейбол (муж.)","55",0,0,0,0,0,0,null,null,null,null,null,null,null,null,null,null,null,null,null,null,null,null,null,null,null,null,null,null,null,null,null,null,null,null,null,null,null,null,null,null,null,null,null,null,null,null,null,null,null,null,null,null,null,null,null,null,null,{"$f":"'Раздел 2'!H61","v":0}]
[null,null,null,null,null,"Волейбол (жен.)","56",0,0,0,0,0,0,null,null,null,null,null,null,null,null,null,null,null,null,null,null,null,null,null,null,null,null,null,null,null,null,null,null,null,null,null,null,null,null,null,null,null,null,null,null,null,null,null,null,null,null,null,null,null,null,null,null,null,{"$f":"'Раздел 2'!H62","v":0}]
[null,null,null,null,null,"Пляжный волейбол (муж.)","57",0,0,0,0,0,0,null,null,null,null,null,null,null,null,null,null,null,null,null,null,null,null,null,null,null,null,null,null,null,null,null,null,null,null,null,null,null,null,null,null,null,null,null,null,null,null,null,null,null,null,null,null,null,null,null,null,null,{"$f":"'Раздел 2'!H63","v":0}]
[null,null,null,null,null,"Пляжный волейбол (жен.)","58",0,0,0,0,0,0,null,null,null,null,null,null,null,null,null,null,null,null,null,null,null,null,null,null,null,null,null,null,null,null,null,null,null,null,null,null,null,null,null,null,null,null,null,null,null,null,null,null,null,null,null,null,null,null,null,null,null,{"$f":"'Раздел 2'!H64","v":0}]
[null,null,null,null,null,"Волейбол на снегу","59",0,0,0,0,0,0,null,null,null,null,null,null,null,null,null,null,null,null,null,null,null,null,null,null,null,null,null,null,null,null,null,null,null,null,null,null,null,null,null,null,null,null,null,null,null,null,null,null,null,null,null,null,null,null,null,null,null,{"$f":"'Раздел 2'!H65","v":0}]
[null,null,null,null,null,"Восточное боевое единоборство","60",0,0,0,0,0,0,null,null,null,null,null,null,null,null,null,null,null,null,null,null,null,null,null,null,null,null,null,null,null,null,null,null,null,null,null,null,null,null,null,null,null,null,null,null,null,null,null,null,null,null,null,null,null,null,null,null,null,{"$f":"'Раздел 2'!H66","v":0}]
[null,null,null,null,null,"Всестилевое каратэ","61",0,0,0,0,0,0,null,null,null,null,null,null,null,null,null,null,null,null,null,null,null,null,null,null,null,null,null,null,null,null,null,null,null,null,null,null,null,null,null,null,null,null,null,null,null,null,null,null,null,null,null,null,null,null,null,null,null,{"$f":"'Раздел 2'!H67","v":0}]
[null,null,null,null,null,"Гандбол - всего","62",0,0,0,0,0,0,{"$f":"SUM(N69:N71)","v":0},{"$f":"SUM(O69:O71)","v":0},0,0,0,0,0,0,0,0,0,0,0,0,0,0,0,0,0,0,0,0,0,0,0,0,0,0,0,0,0,0,0,0,0,0,0,0,0,0,0,0,0,0,0,0,0,0,0,0,null,{"$f":"'Раздел 2'!H68","v":0}]
[null,null,null,null,null,"в том числе:\nГандбол (муж.)","63",0,0,0,0,0,0,null,null,null,null,null,null,null,null,null,null,null,null,null,null,null,null,null,null,null,null,null,null,null,null,null,null,null,null,null,null,null,null,null,null,null,null,null,null,null,null,null,null,null,null,null,null,null,null,null,null,null,{"$f":"'Раздел 2'!H69","v":0}]
[null,null,null,null,null,"Гандбол (жен.)","64",0,0,0,0,0,0,null,null,null,null,null,null,null,null,null,null,null,null,null,null,null,null,null,null,null,null,null,null,null,null,null,null,null,null,null,null,null,null,null,null,null,null,null,null,null,null,null,null,null,null,null,null,null,null,null,null,null,{"$f":"'Раздел 2'!H70","v":0}]
[null,null,null,null,null,"Пляжный гандбол","65",0,0,0,0,0,0,null,null,null,null,null,null,null,null,null,null,null,null,null,null,null,null,null,null,null,null,null,null,null,null,null,null,null,null,null,null,null,null,null,null,null,null,null,null,null,null,null,null,null,null,null,null,null,null,null,null,null,{"$f":"'Раздел 2'!H71","v":0}]
[null,null,null,null,null,"Гиревой спорт","66",{"$f":"SUM(I72:K72)","v":0},{"$f":"SUM(N72,S72,X72,AC72,AH72,AM72,AR72,AW72,BB72,BG72)","v":0},{"$f":"SUM(O72,T72,Y72,AD72,AI72,AN72,AS72,AX72,BC72,BH72)","v":0},{"$f":"SUM(P72,U72,Z72,AE72,AJ72,AO72,AT72,AY72,BD72,BI72)","v":0},{"$f":"SUM(Q72,V72,AA72,AF72,AK72,AP72,AU72,AZ72,BE72,BJ72)","v":0},{"$f":"SUM(R72,W72,AB72,AG72,AL72,AQ72,AV72,BA72,BF72,BK72)","v":0},null,null,null,null,null,null,null,null,null,null,null,null,null,null,null,null,null,null,null,null,null,null,null,null,null,null,null,null,null,null,null,null,null,null,null,null,null,null,null,null,null,null,null,null,null,null,null,null,null,null,null,{"$f":"'Раздел 2'!H72","v":0}]
[null,null,null,null,null,"Го","67",0,0,0,0,0,0,null,null,null,null,null,null,null,null,null,null,null,null,null,null,null,null,null,null,null,null,null,null,null,null,null,null,null,null,null,null,null,null,null,null,null,null,null,null,null,null,null,null,null,null,null,null,null,null,null,null,null,{"$f":"'Раздел 2'!H73","v":0}]
[null,null,null,null,null,"Гольф","68",0,0,0,0,0,0,null,null,null,null,null,null,null,null,null,null,null,null,null,null,null,null,null,null,null,null,null,null,null,null,null,null,null,null,null,null,null,null,null,null,null,null,null,null,null,null,null,null,null,null,null,null,null,null,null,null,null,{"$f":"'Раздел 2'!H74","v":0}]
[null,null,null,null,null,"Гонки дронов (беспилотных воздушных судов) - всего","69",0,0,0,0,0,0,{"$f":"SUM(N76:N79)","v":0},{"$f":"SUM(O76:O79)","v":0},0,0,0,0,0,0,0,0,0,0,0,0,0,0,0,0,0,0,0,0,0,0,0,0,0,0,0,0,0,0,0,0,0,0,0,0,0,0,0,0,0,0,0,0,0,0,0,0,null,{"$f":"'Раздел 2'!H75","v":0}]
[null,null,null,null,null,"в том числе:\nКласс 75 мм","70",0,0,0,0,0,0,null,null,null,null,null,null,null,null,null,null,null,null,null,null,null,null,null,null,null,null,null,null,null,null,null,null,null,null,null,null,null,null,null,null,null,null,null,null,null,null,null,null,null,null,null,null,null,null,null,null,null,{"$f":"'Раздел 2'!H76","v":0}]
[null,null,null,null,null,"Класс 200 мм","71",0,0,0,0,0,0,null,null,null,null,null,null,null,null,null,null,null,null,null,null,null,null,null,null,null,null,null,null,null,null,null,null,null,null,null,null,null,null,null,null,null,null,null,null,null,null,null,null,null,null,null,null,null,null,null,null,null,{"$f":"'Раздел 2'!H77","v":0}]
[null,null,null,null,null,"Класс 330 мм","72",0,0,0,0,0,0,null,null,null,null,null,null,null,null,null,null,null,null,null,null,null,null,null,null,null,null,null,null,null,null,null,null,null,null,null,null,null,null,null,null,null,null,null,null,null,null,null,null,null,null,null,null,null,null,null,null,null,{"$f":"'Раздел 2'!H78","v":0}]
[null,null,null,null,null,"Технический симулятор","73",0,0,0,0,0,0,null,null,null,null,null,null,null,null,null,null,null,null,null,null,null,null,null,null,null,null,null,null,null,null,null,null,null,null,null,null,null,null,null,null,null,null,null,null,null,null,null,null,null,null,null,null,null,null,null,null,null,{"$f":"'Раздел 2'!H79","v":0}]
[null,null,null,null,null,"Гонки на охотничьих лыжах","74",0,0,0,0,0,0,null,null,null,null,null,null,null,null,null,null,null,null,null,null,null,null,null,null,null,null,null,null,null,null,null,null,null,null,null,null,null,null,null,null,null,null,null,null,null,null,null,null,null,null,null,null,null,null,null,null,null,{"$f":"'Раздел 2'!H80","v":0}]
[null,null,null,null,null,"Гонки с препятствиями","75",0,0,0,0,0,0,null,null,null,null,null,null,null,null,null,null,null,null,null,null,null,null,null,null,null,null,null,null,null,null,null,null,null,null,null,null,null,null,null,null,null,null,null,null,null,null,null,null,null,null,null,null,null,null,null,null,null,{"$f":"'Раздел 2'!H81","v":0}]
[null,null,null,null,null,"Горнолыжный спорт","76",0,0,0,0,0,0,null,null,null,null,null,null,null,null,null,null,null,null,null,null,null,null,null,null,null,null,null,null,null,null,null,null,null,null,null,null,null,null,null,null,null,null,null,null,null,null,null,null,null,null,null,null,null,null,null,null,null,{"$f":"'Раздел 2'!H82","v":0}]
[null,null,null,null,null,"Городошный спорт","77",0,0,0,0,0,0,null,null,null,null,null,null,null,null,null,null,null,null,null,null,null,null,null,null,null,null,null,null,null,null,null,null,null,null,null,null,null,null,null,null,null,null,null,null,null,null,null,null,null,null,null,null,null,null,null,null,null,{"$f":"'Раздел 2'!H83","v":0}]
[null,null,null,null,null,"Гребля на байдарках и каноэ","78",0,0,0,0,0,0,null,null,null,null,null,null,null,null,null,null,null,null,null,null,null,null,null,null,null,null,null,null,null,null,null,null,null,null,null,null,null,null,null,null,null,null,null,null,null,null,null,null,null,null,null,null,null,null,null,null,null,{"$f":"'Раздел 2'!H84","v":0}]
[null,null,null,null,null,"Гребля на шлюпках","79",0,0,0,0,0,0,null,null,null,null,null,null,null,null,null,null,null,null,null,null,null,null,null,null,null,null,null,null,null,null,null,null,null,null,null,null,null,null,null,null,null,null,null,null,null,null,null,null,null,null,null,null,null,null,null,null,null,{"$f":"'Раздел 2'!H85","v":0}]
[null,null,null,null,null,"Гребной слалом","80",0,0,0,0,0,0,null,null,null,null,null,null,null,null,null,null,null,null,null,null,null,null,null,null,null,null,null,null,null,null,null,null,null,null,null,null,null,null,null,null,null,null,null,null,null,null,null,null,null,null,null,null,null,null,null,null,null,{"$f":"'Раздел 2'!H86","v":0}]
[null,null,null,null,null,"Гребной спорт - всего","81",0,0,0,0,0,0,{"$f":"SUM(N88:N89)","v":0},{"$f":"SUM(O88:O89)","v":0},0,0,0,0,0,0,0,0,0,0,0,0,0,0,0,0,0,0,0,0,0,0,0,0,0,0,0,0,0,0,0,0,0,0,0,0,0,0,0,0,0,0,0,0,0,0,0,0,null,{"$f":"'Раздел 2'!H87","v":0}]
[null,null,null,null,null,"в том числе:\nАкадемическая гребля","82",0,0,0,0,0,0,null,null,null,null,null,null,null,null,null,null,null,null,null,null,null,null,null,null,null,null,null,null,null,null,null,null,null,null,null,null,null,null,null,null,null,null,null,null,null,null,null,null,null,null,null,null,null,null,null,null,null,{"$f":"'Раздел 2'!H88","v":0}]
[null,null,null,null,null,"Иные дисциплины вида спорта \"гребной спорт\"","83",0,0,0,0,0,0,null,null,null,null,null,null,null,null,null,null,null,null,null,null,null,null,null,null,null,null,null,null,null,null,null,null,null,null,null,null,null,null,null,null,null,null,null,null,null,null,null,null,null,null,null,null,null,null,null,null,null,{"$f":"'Раздел 2'!H89","v":0}]
[null,null,null,null,null,"Гребно-парусное двоеборье","84",0,0,0,0,0,0,null,null,null,null,null,null,null,null,null,null,null,null,null,null,null,null,null,null,null,null,null,null,null,null,null,null,null,null,null,null,null,null,null,null,null,null,null,null,null,null,null,null,null,null,null,null,null,null,null,null,null,{"$f":"'Раздел 2'!H90","v":0}]
[null,null,null,null,null,"Дартс","85",0,0,0,0,0,0,null,null,null,null,null,null,null,null,null,null,null,null,null,null,null,null,null,null,null,null,null,null,null,null,null,null,null,null,null,null,null,null,null,null,null,null,null,null,null,null,null,null,null,null,null,null,null,null,null,null,null,{"$f":"'Раздел 2'!H91","v":0}]
[null,null,null,null,null,"Джиу-джитсу","86",0,0,0,0,0,0,null,null,null,null,null,null,null,null,null,null,null,null,null,null,null,null,null,null,null,null,null,null,null,null,null,null,null,null,null,null,null,null,null,null,null,null,null,null,null,null,null,null,null,null,null,null,null,null,null,null,null,{"$f":"'Раздел 2'!H92","v":0}]
[null,null,null,null,null,"Джутайдо","87",0,0,0,0,0,0,null,null,null,null,null,null,null,null,null,null,null,null,null,null,null,null,null,null,null,null,null,null,null,null,null,null,null,null,null,null,null,null,null,null,null,null,null,null,null,null,null,null,null,null,null,null,null,null,null,null,null,{"$f":"'Раздел 2'!H93","v":0}]
[null,null,null,null,null,"Дзюдо","88",0,0,0,0,0,0,null,null,null,null,null,null,null,null,null,null,null,null,null,null,null,null,null,null,null,null,null,null,null,null,null,null,null,null,null,null,null,null,null,null,null,null,null,null,null,null,null,null,null,null,null,null,null,null,null,null,null,{"$f":"'Раздел 2'!H94","v":0}]
[null,null,null,null,null,"Ездовой спорт","89",0,0,0,0,0,0,null,null,null,null,null,null,null,null,null,null,null,null,null,null,null,null,null,null,null,null,null,null,null,null,null,null,null,null,null,null,null,null,null,null,null,null,null,null,null,null,null,null,null,null,null,null,null,null,null,null,null,{"$f":"'Раздел 2'!H95","v":0}]
[null,null,null,null,null,"Зимнее плавание","90",0,0,0,0,0,0,null,null,null,null,null,null,null,null,null,null,null,null,null,null,null,null,null,null,null,null,null,null,null,null,null,null,null,null,null,null,null,null,null,null,null,null,null,null,null,null,null,null,null,null,null,null,null,null,null,null,null,{"$f":"'Раздел 2'!H96","v":0}]
[null,null,null,null,null,"Капоэйра","91",0,0,0,0,0,0,null,null,null,null,null,null,null,null,null,null,null,null,null,null,null,null,null,null,null,null,null,null,null,null,null,null,null,null,null,null,null,null,null,null,null,null,null,null,null,null,null,null,null,null,null,null,null,null,null,null,null,{"$f":"'Раздел 2'!H97","v":0}]
[null,null,null,null,null,"Каратэ","92",0,0,0,0,0,0,null,null,null,null,null,null,null,null,null,null,null,null,null,null,null,null,null,null,null,null,null,null,null,null,null,null,null,null,null,null,null,null,null,null,null,null,null,null,null,null,null,null,null,null,null,null,null,null,null,null,null,{"$f":"'Раздел 2'!H98","v":0}]
[null,null,null,null,null,"Кендо","93",0,0,0,0,0,0,null,null,null,null,null,null,null,null,null,null,null,null,null,null,null,null,null,null,null,null,null,null,null,null,null,null,null,null,null,null,null,null,null,null,null,null,null,null,null,null,null,null,null,null,null,null,null,null,null,null,null,{"$f":"'Раздел 2'!H99","v":0}]
[null,null,null,null,null,"Керешу","94",0,0,0,0,0,0,null,null,null,null,null,null,null,null,null,null,null,null,null,null,null,null,null,null,null,null,null,null,null,null,null,null,null,null,null,null,null,null,null,null,null,null,null,null,null,null,null,null,null,null,null,null,null,null,null,null,null,{"$f":"'Раздел 2'!H100","v":0}]
[null,null,null,null,null,"Кёрлинг - всего","95",0,0,0,0,0,0,{"$f":"SUM(N102:N104)","v":0},{"$f":"SUM(O102:O104)","v":0},0,0,0,0,0,0,0,0,0,0,0,0,0,0,0,0,0,0,0,0,0,0,0,0,0,0,0,0,0,0,0,0,0,0,0,0,0,0,0,0,0,0,0,0,0,0,0,0,null,{"$f":"'Раздел 2'!H101","v":0}]
[null,null,null,null,null,"в том числе:\nКёрлинг (муж.)","96",0,0,0,0,0,0,null,null,null,null,null,null,null,null,null,null,null,null,null,null,null,null,null,null,null,null,null,null,null,null,null,null,null,null,null,null,null,null,null,null,null,null,null,null,null,null,null,null,null,null,null,null,null,null,null,null,null,{"$f":"'Раздел 2'!H102","v":0}]
[null,null,null,null,null,"Кёрлинг (жен.)","97",0,0,0,0,0,0,null,null,null,null,null,null,null,null,null,null,null,null,null,null,null,null,null,null,null,null,null,null,null,null,null,null,null,null,null,null,null,null,null,null,null,null,null,null,null,null,null,null,null,null,null,null,null,null,null,null,null,{"$f":"'Раздел 2'!H103","v":0}]
[null,null,null,null,null,"Кёрлинг – смешанные пары","98",0,0,0,0,0,0,null,null,null,null,null,null,null,null,null,null,null,null,null,null,null,null,null,null,null,null,null,null,null,null,null,null,null,null,null,null,null,null,null,null,null,null,null,null,null,null,null,null,null,null,null,null,null,null,null,null,null,{"$f":"'Раздел 2'!H104","v":0}]
[null,null,null,null,null,"Кикбоксинг","99",9,3,4,2,0,2,null,null,null,null,null,null,null,null,null,null,null,null,null,null,null,null,null,null,null,null,null,null,null,null,null,null,null,null,null,null,null,null,null,null,null,null,null,null,null,null,null,null,null,null,null,3,4,2,null,2,null,{"$f":"'Раздел 2'!H105","v":1}]
[null,null,null,null,null,"Кинологический спорт","100",0,0,0,0,0,0,null,null,null,null,null,null,null,null,null,null,null,null,null,null,null,null,null,null,null,null,null,null,null,null,null,null,null,null,null,null,null,null,null,null,null,null,null,null,null,null,null,null,null,null,null,null,null,null,null,null,null,{"$f":"'Раздел 2'!H106","v":0}]
[null,null,null,null,null,"Киокусинкай","101",0,0,0,0,0,0,null,null,null,null,null,null,null,null,null,null,null,null,null,null,null,null,null,null,null,null,null,null,null,null,null,null,null,null,null,null,null,null,null,null,null,null,null,null,null,null,null,null,null,null,null,null,null,null,null,null,null,{"$f":"'Раздел 2'!H107","v":1}]
[null,null,null,null,null,"Киокушин","102",0,0,0,0,0,0,null,null,null,null,null,null,null,null,null,null,null,null,null,null,null,null,null,null,null,null,null,null,null,null,null,null,null,null,null,null,null,null,null,null,null,null,null,null,null,null,null,null,null,null,null,null,null,null,null,null,null,{"$f":"'Раздел 2'!H108","v":0}]
[null,null,null,null,null,"Комплексное единоборство","103",0,0,0,0,0,0,null,null,null,null,null,null,null,null,null,null,null,null,null,null,null,null,null,null,null,null,null,null,null,null,null,null,null,null,null,null,null,null,null,null,null,null,null,null,null,null,null,null,null,null,null,null,null,null,null,null,null,{"$f":"'Раздел 2'!H109","v":0}]
[null,null,null,null,null,"Компьютерный спорт - всего","104",0,0,0,0,0,0,{"$f":"SUM(N111:N117)","v":0},{"$f":"SUM(O111:O117)","v":0},0,0,0,0,0,0,0,0,0,0,0,0,0,0,0,0,0,0,0,0,0,0,0,0,0,0,0,0,0,0,0,0,0,0,0,0,0,0,0,0,0,0,0,0,0,0,0,0,null,{"$f":"'Раздел 2'!H110","v":0}]
[null,null,null,null,null,"в том числе:\nБоевая арена","105",0,0,0,0,0,0,null,null,null,null,null,null,null,null,null,null,null,null,null,null,null,null,null,null,null,null,null,null,null,null,null,null,null,null,null,null,null,null,null,null,null,null,null,null,null,null,null,null,null,null,null,null,null,null,null,null,null,{"$f":"'Раздел 2'!H111","v":0}]
[null,null,null,null,null,"Соревновательные головоломки","106",0,0,0,0,0,0,null,null,null,null,null,null,null,null,null,null,null,null,null,null,null,null,null,null,null,null,null,null,null,null,null,null,null,null,null,null,null,null,null,null,null,null,null,null,null,null,null,null,null,null,null,null,null,null,null,null,null,{"$f":"'Раздел 2'!H112","v":0}]
[null,null,null,null,null,"Спортивный симулятор","107",0,0,0,0,0,0,null,null,null,null,null,null,null,null,null,null,null,null,null,null,null,null,null,null,null,null,null,null,null,null,null,null,null,null,null,null,null,null,null,null,null,null,null,null,null,null,null,null,null,null,null,null,null,null,null,null,null,{"$f":"'Раздел 2'!H113","v":0}]
[null,null,null,null,null,"Стратегия в реальном времени","108",0,0,0,0,0,0,null,null,null,null,null,null,null,null,null,null,null,null,null,null,null,null,null,null,null,null,null,null,null,null,null,null,null,null,null,null,null,null,null,null,null,null,null,null,null,null,null,null,null,null,null,null,null,null,null,null,null,{"$f":"'Раздел 2'!H114","v":0}]
[null,null,null,null,null,"Тактический трехмерный бой","109",0,0,0,0,0,0,null,null,null,null,null,null,null,null,null,null,null,null,null,null,null,null,null,null,null,null,null,null,null,null,null,null,null,null,null,null,null,null,null,null,null,null,null,null,null,null,null,null,null,null,null,null,null,null,null,null,null,{"$f":"'Раздел 2'!H115","v":0}]
[null,null,null,null,null,"Технический симулятор","110",0,0,0,0,0,0,null,null,null,null,null,null,null,null,null,null,null,null,null,null,null,null,null,null,null,null,null,null,null,null,null,null,null,null,null,null,null,null,null,null,null,null,null,null,null,null,null,null,null,null,null,null,null,null,null,null,null,{"$f":"'Раздел 2'!H116","v":0}]
[null,null,null,null,null,"Файтинг","111",0,0,0,0,0,0,null,null,null,null,null,null,null,null,null,null,null,null,null,null,null,null,null,null,null,null,null,null,null,null,null,null,null,null,null,null,null,null,null,null,null,null,null,null,null,null,null,null,null,null,null,null,null,null,null,null,null,{"$f":"'Раздел 2'!H117","v":0}]
[null,null,null,null,null,"Конный спорт","112",0,0,0,0,0,0,null,null,null,null,null,null,null,null,null,null,null,null,null,null,null,null,null,null,null,null,null,null,null,null,null,null,null,null,null,null,null,null,null,null,null,null,null,null,null,null,null,null,null,null,null,null,null,null,null,null,null,{"$f":"'Раздел 2'!H118","v":0}]
[null,null,null,null,null,"Конькобежный спорт - всего","113",0,0,0,0,0,0,{"$f":"SUM(N120:N123)","v":0},{"$f":"SUM(O120:O123)","v":0},0,0,0,0,0,0,0,0,0,0,0,0,0,0,0,0,0,0,0,0,0,0,0,0,0,0,0,0,0,0,0,0,0,0,0,0,0,0,0,0,0,0,0,0,0,0,0,0,null,{"$f":"'Раздел 2'!H119","v":0}]
[null,null,null,null,null,"в том числе:\nКонькобежный спорт","114",0,0,0,0,0,0,null,null,null,null,null,null,null,null,null,null,null,null,null,null,null,null,null,null,null,null,null,null,null,null,null,null,null,null,null,null,null,null,null,null,null,null,null,null,null,null,null,null,null,null,null,null,null,null,null,null,null,{"$f":"'Раздел 2'!H120","v":0}]
[null,null,null,null,null,"Шорт-трек","115",0,0,0,0,0,0,null,null,null,null,null,null,null,null,null,null,null,null,null,null,null,null,null,null,null,null,null,null,null,null,null,null,null,null,null,null,null,null,null,null,null,null,null,null,null,null,null,null,null,null,null,null,null,null,null,null,null,{"$f":"'Раздел 2'!H121","v":0}]
[null,null,null,null,null,"Масс-старт","116",0,0,0,0,0,0,null,null,null,null,null,null,null,null,null,null,null,null,null,null,null,null,null,null,null,null,null,null,null,null,null,null,null,null,null,null,null,null,null,null,null,null,null,null,null,null,null,null,null,null,null,null,null,null,null,null,null,{"$f":"'Раздел 2'!H122","v":0}]
[null,null,null,null,null,"Командный забег","117",0,0,0,0,0,0,null,null,null,null,null,null,null,null,null,null,null,null,null,null,null,null,null,null,null,null,null,null,null,null,null,null,null,null,null,null,null,null,null,null,null,null,null,null,null,null,null,null,null,null,null,null,null,null,null,null,null,{"$f":"'Раздел 2'!H123","v":0}]
[null,null,null,null,null,"Корэш","118",0,0,0,0,0,0,null,null,null,null,null,null,null,null,null,null,null,null,null,null,null,null,null,null,null,null,null,null,null,null,null,null,null,null,null,null,null,null,null,null,null,null,null,null,null,null,null,null,null,null,null,null,null,null,null,null,null,{"$f":"'Раздел 2'!H124","v":0}]
[null,null,null,null,null,"Крикет","119",0,0,0,0,0,0,null,null,null,null,null,null,null,null,null,null,null,null,null,null,null,null,null,null,null,null,null,null,null,null,null,null,null,null,null,null,null,null,null,null,null,null,null,null,null,null,null,null,null,null,null,null,null,null,null,null,null,{"$f":"'Раздел 2'!H125","v":0}]
[null,null,null,null,null,"Кудо","120",0,0,0,0,0,0,null,null,null,null,null,null,null,null,null,null,null,null,null,null,null,null,null,null,null,null,null,null,null,null,null,null,null,null,null,null,null,null,null,null,null,null,null,null,null,null,null,null,null,null,null,null,null,null,null,null,null,{"$f":"'Раздел 2'!H126","v":1}]
[null,null,null,null,null,"Лазерный бой","121",0,0,0,0,0,0,null,null,null,null,null,null,null,null,null,null,null,null,null,null,null,null,null,null,null,null,null,null,null,null,null,null,null,null,null,null,null,null,null,null,null,null,null,null,null,null,null,null,null,null,null,null,null,null,null,null,null,{"$f":"'Раздел 2'!H127","v":0}]
[null,null,null,null,null,"Лапта","122",0,0,0,0,0,0,null,null,null,null,null,null,null,null,null,null,null,null,null,null,null,null,null,null,null,null,null,null,null,null,null,null,null,null,null,null,null,null,null,null,null,null,null,null,null,null,null,null,null,null,null,null,null,null,null,null,null,{"$f":"'Раздел 2'!H128","v":0}]
[null,null,null,null,null,"Легкая атлетика","123",0,0,0,0,0,0,null,null,null,null,null,null,null,null,null,null,null,null,null,null,null,null,null,null,null,null,null,null,null,null,null,null,null,null,null,null,null,null,null,null,null,null,null,null,null,null,null,null,null,null,null,null,null,null,null,null,null,{"$f":"'Раздел 2'!H129","v":0}]
[null,null,null,null,null,"Лыжное двоеборье","124",0,0,0,0,0,0,null,null,null,null,null,null,null,null,null,null,null,null,null,null,null,null,null,null,null,null,null,null,null,null,null,null,null,null,null,null,null,null,null,null,null,null,null,null,null,null,null,null,null,null,null,null,null,null,null,null,null,{"$f":"'Раздел 2'!H130","v":0}]
[null,null,null,null,null,"Лыжные гонки","125",0,0,0,0,0,0,null,null,null,null,null,null,null,null,null,null,null,null,null,null,null,null,null,null,null,null,null,null,null,null,null,null,null,null,null,null,null,null,null,null,null,null,null,null,null,null,null,null,null,null,null,null,null,null,null,null,null,{"$f":"'Раздел 2'!H131","v":0}]
[null,null,null,null,null,"Мас-рестлинг","126",0,0,0,0,0,0,null,null,null,null,null,null,null,null,null,null,null,null,null,null,null,null,null,null,null,null,null,null,null,null,null,null,null,null,null,null,null,null,null,null,null,null,null,null,null,null,null,null,null,null,null,null,null,null,null,null,null,{"$f":"'Раздел 2'!H132","v":0}]
[null,null,null,null,null,"Международное военно-спортивное многоборье","127",0,0,0,0,0,0,null,null,null,null,null,null,null,null,null,null,null,null,null,null,null,null,null,null,null,null,null,null,null,null,null,null,null,null,null,null,null,null,null,null,null,null,null,null,null,null,null,null,null,null,null,null,null,null,null,null,null,{"$f":"'Раздел 2'!H133","v":0}]
[null,null,null,null,null,"Микрофутзал","128",0,0,0,0,0,0,null,null,null,null,null,null,null,null,null,null,null,null,null,null,null,null,null,null,null,null,null,null,null,null,null,null,null,null,null,null,null,null,null,null,null,null,null,null,null,null,null,null,null,null,null,null,null,null,null,null,null,{"$f":"'Раздел 2'!H134","v":0}]
[null,null,null,null,null,"Многоборье готов к труду и обороне","129",0,0,0,0,0,0,null,null,null,null,null,null,null,null,null,null,null,null,null,null,null,null,null,null,null,null,null,null,null,null,null,null,null,null,null,null,null,null,null,null,null,null,null,null,null,null,null,null,null,null,null,null,null,null,null,null,null,{"$f":"'Раздел 2'!H135","v":0}]
[null,null,null,null,null,"Многоборье кинологов","130",{"$f":"SUM(I136:K136)","v":0},{"$f":"SUM(N136,S136,X136,AC136,AH136,AM136,AR136,AW136,BB136,BG136)","v":0},{"$f":"SUM(O136,T136,Y136,AD136,AI136,AN136,AS136,AX136,BC136,BH136)","v":0},{"$f":"SUM(P136,U136,Z136,AE136,AJ136,AO136,AT136,AY136,BD136,BI136)","v":0},{"$f":"SUM(Q136,V136,AA136,AF136,AK136,AP136,AU136,AZ136,BE136,BJ136)","v":0},{"$f":"SUM(R136,W136,AB136,AG136,AL136,AQ136,AV136,BA136,BF136,BK136)","v":0},null,null,null,null,null,null,null,null,null,null,null,null,null,null,null,null,null,null,null,null,null,null,null,null,null,null,null,null,null,null,null,null,null,null,null,null,null,null,null,null,null,null,null,null,null,null,null,null,null,null,null,{"$f":"'Раздел 2'!H136","v":0}]
[null,null,null,null,null,"Многоборье спасателей МЧС России","131",0,0,0,0,0,0,null,null,null,null,null,null,null,null,null,null,null,null,null,null,null,null,null,null,null,null,null,null,null,null,null,null,null,null,null,null,null,null,null,null,null,null,null,null,null,null,null,null,null,null,null,null,null,null,null,null,null,{"$f":"'Раздел 2'!H137","v":0}]
[null,null,null,null,null,"Морское многоборье","132",0,0,0,0,0,0,null,null,null,null,null,null,null,null,null,null,null,null,null,null,null,null,null,null,null,null,null,null,null,null,null,null,null,null,null,null,null,null,null,null,null,null,null,null,null,null,null,null,null,null,null,null,null,null,null,null,null,{"$f":"'Раздел 2'!H138","v":0}]
[null,null,null,null,null,"Мотоциклетный спорт","133",0,0,0,0,0,0,null,null,null,null,null,null,null,null,null,null,null,null,null,null,null,null,null,null,null,null,null,null,null,null,null,null,null,null,null,null,null,null,null,null,null,null,null,null,null,null,null,null,null,null,null,null,null,null,null,null,null,{"$f":"'Раздел 2'!H139","v":0}]
[null,null,null,null,null,"Муайтай","134",0,0,0,0,0,0,null,null,null,null,null,null,null,null,null,null,null,null,null,null,null,null,null,null,null,null,null,null,null,null,null,null,null,null,null,null,null,null,null,null,null,null,null,null,null,null,null,null,null,null,null,null,null,null,null,null,null,{"$f":"'Раздел 2'!H140","v":1}]
[null,null,null,null,null,"Нарды","135",0,0,0,0,0,0,null,null,null,null,null,null,null,null,null,null,null,null,null,null,null,null,null,null,null,null,null,null,null,null,null,null,null,null,null,null,null,null,null,null,null,null,null,null,null,null,null,null,null,null,null,null,null,null,null,null,null,{"$f":"'Раздел 2'!H141","v":0}]
[null,null,null,null,null,"Настольный теннис","136",0,0,0,0,0,0,null,null,null,null,null,null,null,null,null,null,null,null,null,null,null,null,null,null,null,null,null,null,null,null,null,null,null,null,null,null,null,null,null,null,null,null,null,null,null,null,null,null,null,null,null,null,null,null,null,null,null,{"$f":"'Раздел 2'!H142","v":0}]
[null,null,null,null,null,"Падел","137",0,0,0,0,0,0,null,null,null,null,null,null,null,null,null,null,null,null,null,null,null,null,null,null,null,null,null,null,null,null,null,null,null,null,null,null,null,null,null,null,null,null,null,null,null,null,null,null,null,null,null,null,null,null,null,null,null,{"$f":"'Раздел 2'!H143","v":0}]
[null,null,null,null,null,"Парашютный спорт","138",0,0,0,0,0,0,null,null,null,null,null,null,null,null,null,null,null,null,null,null,null,null,null,null,null,null,null,null,null,null,null,null,null,null,null,null,null,null,null,null,null,null,null,null,null,null,null,null,null,null,null,null,null,null,null,null,null,{"$f":"'Раздел 2'!H144","v":0}]
[null,null,null,null,null,"Парусный спорт","139",0,0,0,0,0,0,null,null,null,null,null,null,null,null,null,null,null,null,null,null,null,null,null,null,null,null,null,null,null,null,null,null,null,null,null,null,null,null,null,null,null,null,null,null,null,null,null,null,null,null,null,null,null,null,null,null,null,{"$f":"'Раздел 2'!H145","v":0}]
[null,null,null,null,null,"Пауэрлифтинг","140",0,0,0,0,0,0,null,null,null,null,null,null,null,null,null,null,null,null,null,null,null,null,null,null,null,null,null,null,null,null,null,null,null,null,null,null,null,null,null,null,null,null,null,null,null,null,null,null,null,null,null,null,null,null,null,null,null,{"$f":"'Раздел 2'!H146","v":1}]
[null,null,null,null,null,"Перетягивание каната","141",0,0,0,0,0,0,null,null,null,null,null,null,null,null,null,null,null,null,null,null,null,null,null,null,null,null,null,null,null,null,null,null,null,null,null,null,null,null,null,null,null,null,null,null,null,null,null,null,null,null,null,null,null,null,null,null,null,{"$f":"'Раздел 2'!H147","v":0}]
[null,null,null,null,null,"Пилонный спорт","142",0,0,0,0,0,0,null,null,null,null,null,null,null,null,null,null,null,null,null,null,null,null,null,null,null,null,null,null,null,null,null,null,null,null,null,null,null,null,null,null,null,null,null,null,null,null,null,null,null,null,null,null,null,null,null,null,null,{"$f":"'Раздел 2'!H148","v":0}]
[null,null,null,null,null,"Плавание - всего","143",0,0,0,0,0,0,{"$f":"SUM(N150:N151)","v":0},{"$f":"SUM(O150:O151)","v":0},0,0,0,0,0,0,0,0,0,0,0,0,0,0,0,0,0,0,0,0,0,0,0,0,0,0,0,0,0,0,0,0,0,0,0,0,0,0,0,0,0,0,0,0,0,0,0,0,null,{"$f":"'Раздел 2'!H149","v":1}]
[null,null,null,null,null,"в том числе:\nОткрытая вода","144",0,0,0,0,0,0,null,null,null,null,null,null,null,null,null,null,null,null,null,null,null,null,null,null,null,null,null,null,null,null,null,null,null,null,null,null,null,null,null,null,null,null,null,null,null,null,null,null,null,null,null,null,null,null,null,null,null,{"$f":"'Раздел 2'!H150","v":0}]
[null,null,null,null,null,"Иные дисциплины вида спорта \"плавание\"","145",0,0,0,0,0,0,null,null,null,null,null,null,null,null,null,null,null,null,null,null,null,null,null,null,null,null,null,null,null,null,null,null,null,null,null,null,null,null,null,null,null,null,null,null,null,null,null,null,null,null,null,null,null,null,null,null,null,{"$f":"'Раздел 2'!H151","v":1}]
[null,null,null,null,null,"Планерный спорт","146",0,0,0,0,0,0,null,null,null,null,null,null,null,null,null,null,null,null,null,null,null,null,null,null,null,null,null,null,null,null,null,null,null,null,null,null,null,null,null,null,null,null,null,null,null,null,null,null,null,null,null,null,null,null,null,null,null,{"$f":"'Раздел 2'!H152","v":0}]
[null,null,null,null,null,"Подводный спорт","147",0,0,0,0,0,0,null,null,null,null,null,null,null,null,null,null,null,null,null,null,null,null,null,null,null,null,null,null,null,null,null,null,null,null,null,null,null,null,null,null,null,null,null,null,null,null,null,null,null,null,null,null,null,null,null,null,null,{"$f":"'Раздел 2'!H153","v":0}]
[null,null,null,null,null,"Пожарно-спасательный спорт","148",0,0,0,0,0,0,null,null,null,null,null,null,null,null,null,null,null,null,null,null,null,null,null,null,null,null,null,null,null,null,null,null,null,null,null,null,null,null,null,null,null,null,null,null,null,null,null,null,null,null,null,null,null,null,null,null,null,{"$f":"'Раздел 2'!H154","v":0}]
[null,null,null,null,null,"Полиатлон","149",0,0,0,0,0,0,null,null,null,null,null,null,null,null,null,null,null,null,null,null,null,null,null,null,null,null,null,null,null,null,null,null,null,null,null,null,null,null,null,null,null,null,null,null,null,null,null,null,null,null,null,null,null,null,null,null,null,{"$f":"'Раздел 2'!H155","v":0}]
[null,null,null,null,null,"Практическая стрельба","150",0,0,0,0,0,0,null,null,null,null,null,null,null,null,null,null,null,null,null,null,null,null,null,null,null,null,null,null,null,null,null,null,null,null,null,null,null,null,null,null,null,null,null,null,null,null,null,null,null,null,null,null,null,null,null,null,null,{"$f":"'Раздел 2'!H156","v":0}]
[null,null,null,null,null,"Прыжки в воду","151",0,0,0,0,0,0,null,null,null,null,null,null,null,null,null,null,null,null,null,null,null,null,null,null,null,null,null,null,null,null,null,null,null,null,null,null,null,null,null,null,null,null,null,null,null,null,null,null,null,null,null,null,null,null,null,null,null,{"$f":"'Раздел 2'!H157","v":0}]
[null,null,null,null,null,"Прыжки на батуте - всего","152",0,0,0,0,0,0,{"$f":"SUM(N159:N162)","v":0},{"$f":"SUM(O159:O162)","v":0},0,0,0,0,0,0,0,0,0,0,0,0,0,0,0,0,0,0,0,0,0,0,0,0,0,0,0,0,0,0,0,0,0,0,0,0,0,0,0,0,0,0,0,0,0,0,0,0,null,{"$f":"'Раздел 2'!H158","v":0}]
[null,null,null,null,null,"в том числе:\nАкробатическая дорожка","153",0,0,0,0,0,0,null,null,null,null,null,null,null,null,null,null,null,null,null,null,null,null,null,null,null,null,null,null,null,null,null,null,null,null,null,null,null,null,null,null,null,null,null,null,null,null,null,null,null,null,null,null,null,null,null,null,null,{"$f":"'Раздел 2'!H159","v":0}]
[null,null,null,null,null,"Двойной минитрамп","154",0,0,0,0,0,0,null,null,null,null,null,null,null,null,null,null,null,null,null,null,null,null,null,null,null,null,null,null,null,null,null,null,null,null,null,null,null,null,null,null,null,null,null,null,null,null,null,null,null,null,null,null,null,null,null,null,null,{"$f":"'Раздел 2'!H160","v":0}]
[null,null,null,null,null,"Индивидуальные прыжки","155",0,0,0,0,0,0,null,null,null,null,null,null,null,null,null,null,null,null,null,null,null,null,null,null,null,null,null,null,null,null,null,null,null,null,null,null,null,null,null,null,null,null,null,null,null,null,null,null,null,null,null,null,null,null,null,null,null,{"$f":"'Раздел 2'!H161","v":0}]
[null,null,null,null,null,"Синхронные прыжки","156",0,0,0,0,0,0,null,null,null,null,null,null,null,null,null,null,null,null,null,null,null,null,null,null,null,null,null,null,null,null,null,null,null,null,null,null,null,null,null,null,null,null,null,null,null,null,null,null,null,null,null,null,null,null,null,null,null,{"$f":"'Раздел 2'!H162","v":0}]
[null,null,null,null,null,"Прыжки на лыжах с трамплина","157",0,0,0,0,0,0,null,null,null,null,null,null,null,null,null,null,null,null,null,null,null,null,null,null,null,null,null,null,null,null,null,null,null,null,null,null,null,null,null,null,null,null,null,null,null,null,null,null,null,null,null,null,null,null,null,null,null,{"$f":"'Раздел 2'!H163","v":0}]
[null,null,null,null,null,"Пулевая стрельба - всего","158",0,0,0,0,0,0,{"$f":"SUM(N165:N169)","v":0},{"$f":"SUM(O165:O169)","v":0},0,0,0,0,0,0,0,0,0,0,0,0,0,0,0,0,0,0,0,0,0,0,0,0,0,0,0,0,0,0,0,0,0,0,0,0,0,0,0,0,0,0,0,0,0,0,0,0,null,{"$f":"'Раздел 2'!H164","v":0}]
[null,null,null,null,null,"в том числе:\nПневматическая винтовка","159",0,0,0,0,0,0,null,null,null,null,null,null,null,null,null,null,null,null,null,null,null,null,null,null,null,null,null,null,null,null,null,null,null,null,null,null,null,null,null,null,null,null,null,null,null,null,null,null,null,null,null,null,null,null,null,null,null,{"$f":"'Раздел 2'!H165","v":0}]
[null,null,null,null,null,"Пневматический пистолет","160",0,0,0,0,0,0,null,null,null,null,null,null,null,null,null,null,null,null,null,null,null,null,null,null,null,null,null,null,null,null,null,null,null,null,null,null,null,null,null,null,null,null,null,null,null,null,null,null,null,null,null,null,null,null,null,null,null,{"$f":"'Раздел 2'!H166","v":0}]
[null,null,null,null,null,"Малокалиберная винтовка","161",0,0,0,0,0,0,null,null,null,null,null,null,null,null,null,null,null,null,null,null,null,null,null,null,null,null,null,null,null,null,null,null,null,null,null,null,null,null,null,null,null,null,null,null,null,null,null,null,null,null,null,null,null,null,null,null,null,{"$f":"'Раздел 2'!H167","v":0}]
[null,null,null,null,null,"Малокалиберный пистолет","162",0,0,0,0,0,0,null,null,null,null,null,null,null,null,null,null,null,null,null,null,null,null,null,null,null,null,null,null,null,null,null,null,null,null,null,null,null,null,null,null,null,null,null,null,null,null,null,null,null,null,null,null,null,null,null,null,null,{"$f":"'Раздел 2'!H168","v":0}]
[null,null,null,null,null,"Иные дисциплины вида спорта \"пулевая стрельба\"","163",0,0,0,0,0,0,null,null,null,null,null,null,null,null,null,null,null,null,null,null,null,null,null,null,null,null,null,null,null,null,null,null,null,null,null,null,null,null,null,null,null,null,null,null,null,null,null,null,null,null,null,null,null,null,null,null,null,{"$f":"'Раздел 2'!H169","v":0}]
[null,null,null,null,null,"Пэйнтбол","164",0,0,0,0,0,0,null,null,null,null,null,null,null,null,null,null,null,null,null,null,null,null,null,null,null,null,null,null,null,null,null,null,null,null,null,null,null,null,null,null,null,null,null,null,null,null,null,null,null,null,null,null,null,null,null,null,null,{"$f":"'Раздел 2'!H170","v":0}]
[null,null,null,null,null,"Радиоспорт","165",0,0,0,0,0,0,null,null,null,null,null,null,null,null,null,null,null,null,null,null,null,null,null,null,null,null,null,null,null,null,null,null,null,null,null,null,null,null,null,null,null,null,null,null,null,null,null,null,null,null,null,null,null,null,null,null,null,{"$f":"'Раздел 2'!H171","v":0}]
[null,null,null,null,null,"Рафтинг","166",0,0,0,0,0,0,null,null,null,null,null,null,null,null,null,null,null,null,null,null,null,null,null,null,null,null,null,null,null,null,null,null,null,null,null,null,null,null,null,null,null,null,null,null,null,null,null,null,null,null,null,null,null,null,null,null,null,{"$f":"'Раздел 2'!H172","v":0}]
[null,null,null,null,null,"Регби - всего","167",0,0,0,0,0,0,{"$f":"SUM(N174:N179)","v":0},{"$f":"SUM(O174:O179)","v":0},0,0,0,0,0,0,0,0,0,0,0,0,0,0,0,0,0,0,0,0,0,0,0,0,0,0,0,0,0,0,0,0,0,0,0,0,0,0,0,0,0,0,0,0,0,0,0,0,null,{"$f":"'Раздел 2'!H173","v":0}]
[null,null,null,null,null,"в том числе:\nРегби","168",0,0,0,0,0,0,null,null,null,null,null,null,null,null,null,null,null,null,null,null,null,null,null,null,null,null,null,null,null,null,null,null,null,null,null,null,null,null,null,null,null,null,null,null,null,null,null,null,null,null,null,null,null,null,null,null,null,{"$f":"'Раздел 2'!H174","v":0}]
[null,null,null,null,null,"Регби 7 (муж.)","169",0,0,0,0,0,0,null,null,null,null,null,null,null,null,null,null,null,null,null,null,null,null,null,null,null,null,null,null,null,null,null,null,null,null,null,null,null,null,null,null,null,null,null,null,null,null,null,null,null,null,null,null,null,null,null,null,null,{"$f":"'Раздел 2'!H175","v":0}]
[null,null,null,null,null,"Регби 7 (жен.)","170",0,0,0,0,0,0,null,null,null,null,null,null,null,null,null,null,null,null,null,null,null,null,null,null,null,null,null,null,null,null,null,null,null,null,null,null,null,null,null,null,null,null,null,null,null,null,null,null,null,null,null,null,null,null,null,null,null,{"$f":"'Раздел 2'!H176","v":0}]
[null,null,null,null,null,"Регби - пляжное","171",0,0,0,0,0,0,null,null,null,null,null,null,null,null,null,null,null,null,null,null,null,null,null,null,null,null,null,null,null,null,null,null,null,null,null,null,null,null,null,null,null,null,null,null,null,null,null,null,null,null,null,null,null,null,null,null,null,{"$f":"'Раздел 2'!H177","v":0}]
[null,null,null,null,null,"Регби на снегу","172",0,0,0,0,0,0,null,null,null,null,null,null,null,null,null,null,null,null,null,null,null,null,null,null,null,null,null,null,null,null,null,null,null,null,null,null,null,null,null,null,null,null,null,null,null,null,null,null,null,null,null,null,null,null,null,null,null,{"$f":"'Раздел 2'!H178","v":0}]
[null,null,null,null,null,"Регби бесконтактное","173",0,0,0,0,0,0,null,null,null,null,null,null,null,null,null,null,null,null,null,null,null,null,null,null,null,null,null,null,null,null,null,null,null,null,null,null,null,null,null,null,null,null,null,null,null,null,null,null,null,null,null,null,null,null,null,null,null,{"$f":"'Раздел 2'!H179","v":0}]
[null,null,null,null,null,"Регбол","174",0,0,0,0,0,0,null,null,null,null,null,null,null,null,null,null,null,null,null,null,null,null,null,null,null,null,null,null,null,null,null,null,null,null,null,null,null,null,null,null,null,null,null,null,null,null,null,null,null,null,null,null,null,null,null,null,null,{"$f":"'Раздел 2'!H180","v":0}]
[null,null,null,null,null,"Роллер спорт","175",0,0,0,0,0,0,null,null,null,null,null,null,null,null,null,null,null,null,null,null,null,null,null,null,null,null,null,null,null,null,null,null,null,null,null,null,null,null,null,null,null,null,null,null,null,null,null,null,null,null,null,null,null,null,null,null,null,{"$f":"'Раздел 2'!H181","v":0}]
[null,null,null,null,null,"Роуп скиппинг (спортивная скакалка)","176",0,0,0,0,0,0,null,null,null,null,null,null,null,null,null,null,null,null,null,null,null,null,null,null,null,null,null,null,null,null,null,null,null,null,null,null,null,null,null,null,null,null,null,null,null,null,null,null,null,null,null,null,null,null,null,null,null,{"$f":"'Раздел 2'!H182","v":0}]
[null,null,null,null,null,"Рукопашный бой","177",0,0,0,0,0,0,null,null,null,null,null,null,null,null,null,null,null,null,null,null,null,null,null,null,null,null,null,null,null,null,null,null,null,null,null,null,null,null,null,null,null,null,null,null,null,null,null,null,null,null,null,null,null,null,null,null,null,{"$f":"'Раздел 2'!H183","v":1}]
[null,null,null,null,null,"Рыболовный спорт","178",0,0,0,0,0,0,null,null,null,null,null,null,null,null,null,null,null,null,null,null,null,null,null,null,null,null,null,null,null,null,null,null,null,null,null,null,null,null,null,null,null,null,null,null,null,null,null,null,null,null,null,null,null,null,null,null,null,{"$f":"'Раздел 2'!H184","v":0}]
[null,null,null,null,null,"Сават","179",0,0,0,0,0,0,null,null,null,null,null,null,null,null,null,null,null,null,null,null,null,null,null,null,null,null,null,null,null,null,null,null,null,null,null,null,null,null,null,null,null,null,null,null,null,null,null,null,null,null,null,null,null,null,null,null,null,{"$f":"'Раздел 2'!H185","v":0}]
[null,null,null,null,null,"Самбо","180",0,0,0,0,0,0,null,null,null,null,null,null,null,null,null,null,null,null,null,null,null,null,null,null,null,null,null,null,null,null,null,null,null,null,null,null,null,null,null,null,null,null,null,null,null,null,null,null,null,null,null,null,null,null,null,null,null,{"$f":"'Раздел 2'!H186","v":0}]
[null,null,null,null,null,"Самолетный спорт","181",0,0,0,0,0,0,null,null,null,null,null,null,null,null,null,null,null,null,null,null,null,null,null,null,null,null,null,null,null,null,null,null,null,null,null,null,null,null,null,null,null,null,null,null,null,null,null,null,null,null,null,null,null,null,null,null,null,{"$f":"'Раздел 2'!H187","v":0}]
[null,null,null,null,null,"Санный спорт","182",0,0,0,0,0,0,null,null,null,null,null,null,null,null,null,null,null,null,null,null,null,null,null,null,null,null,null,null,null,null,null,null,null,null,null,null,null,null,null,null,null,null,null,null,null,null,null,null,null,null,null,null,null,null,null,null,null,{"$f":"'Раздел 2'!H188","v":0}]
[null,null,null,null,null,"Северное многоборье","183",0,0,0,0,0,0,null,null,null,null,null,null,null,null,null,null,null,null,null,null,null,null,null,null,null,null,null,null,null,null,null,null,null,null,null,null,null,null,null,null,null,null,null,null,null,null,null,null,null,null,null,null,null,null,null,null,null,{"$f":"'Раздел 2'!H189","v":1}]
[null,null,null,null,null,"Серфинг","184",0,0,0,0,0,0,null,null,null,null,null,null,null,null,null,null,null,null,null,null,null,null,null,null,null,null,null,null,null,null,null,null,null,null,null,null,null,null,null,null,null,null,null,null,null,null,null,null,null,null,null,null,null,null,null,null,null,{"$f":"'Раздел 2'!H190","v":0}]
[null,null,null,null,null,"Силовой спорт","185",0,0,0,0,0,0,null,null,null,null,null,null,null,null,null,null,null,null,null,null,null,null,null,null,null,null,null,null,null,null,null,null,null,null,null,null,null,null,null,null,null,null,null,null,null,null,null,null,null,null,null,null,null,null,null,null,null,{"$f":"'Раздел 2'!H191","v":0}]
[null,null,null,null,null,"Силовой экстрим","186",0,0,0,0,0,0,null,null,null,null,null,null,null,null,null,null,null,null,null,null,null,null,null,null,null,null,null,null,null,null,null,null,null,null,null,null,null,null,null,null,null,null,null,null,null,null,null,null,null,null,null,null,null,null,null,null,null,{"$f":"'Раздел 2'!H192","v":0}]
[null,null,null,null,null,"Синхронное плавание","187",0,0,0,0,0,0,null,null,null,null,null,null,null,null,null,null,null,null,null,null,null,null,null,null,null,null,null,null,null,null,null,null,null,null,null,null,null,null,null,null,null,null,null,null,null,null,null,null,null,null,null,null,null,null,null,null,null,{"$f":"'Раздел 2'!H193","v":0}]
[null,null,null,null,null,"Скалолазание - всего","188",0,0,0,0,0,0,{"$f":"SUM(N195:N197)","v":0},{"$f":"SUM(O195:O197)","v":0},0,0,0,0,0,0,0,0,0,0,0,0,0,0,0,0,0,0,0,0,0,0,0,0,0,0,0,0,0,0,0,0,0,0,0,0,0,0,0,0,0,0,0,0,0,0,0,0,null,{"$f":"'Раздел 2'!H194","v":0}]
[null,null,null,null,null,"в том числе:\nДвоеборье","189",0,0,0,0,0,0,null,null,null,null,null,null,null,null,null,null,null,null,null,null,null,null,null,null,null,null,null,null,null,null,null,null,null,null,null,null,null,null,null,null,null,null,null,null,null,null,null,null,null,null,null,null,null,null,null,null,null,{"$f":"'Раздел 2'!H195","v":0}]
[null,null,null,null,null,"Лазание на скорость","190",0,0,0,0,0,0,null,null,null,null,null,null,null,null,null,null,null,null,null,null,null,null,null,null,null,null,null,null,null,null,null,null,null,null,null,null,null,null,null,null,null,null,null,null,null,null,null,null,null,null,null,null,null,null,null,null,null,{"$f":"'Раздел 2'!H196","v":0}]
[null,null,null,null,null,"Иные дисциплины вида спорта \"скалолазание\"","191",0,0,0,0,0,0,null,null,null,null,null,null,null,null,null,null,null,null,null,null,null,null,null,null,null,null,null,null,null,null,null,null,null,null,null,null,null,null,null,null,null,null,null,null,null,null,null,null,null,null,null,null,null,null,null,null,null,{"$f":"'Раздел 2'!H197","v":0}]
[null,null,null,null,null,"Сквош","192",0,0,0,0,0,0,null,null,null,null,null,null,null,null,null,null,null,null,null,null,null,null,null,null,null,null,null,null,null,null,null,null,null,null,null,null,null,null,null,null,null,null,null,null,null,null,null,null,null,null,null,null,null,null,null,null,null,{"$f":"'Раздел 2'!H198","v":0}]
[null,null,null,null,null,"Скейтбординг","193",0,0,0,0,0,0,null,null,null,null,null,null,null,null,null,null,null,null,null,null,null,null,null,null,null,null,null,null,null,null,null,null,null,null,null,null,null,null,null,null,null,null,null,null,null,null,null,null,null,null,null,null,null,null,null,null,null,{"$f":"'Раздел 2'!H199","v":0}]
[null,null,null,null,null,"Служебно-боевая стрельба","194",{"$f":"SUM(I200:K200)","v":0},{"$f":"SUM(N200,S200,X200,AC200,AH200,AM200,AR200,AW200,BB200,BG200)","v":0},{"$f":"SUM(O200,T200,Y200,AD200,AI200,AN200,AS200,AX200,BC200,BH200)","v":0},{"$f":"SUM(P200,U200,Z200,AE200,AJ200,AO200,AT200,AY200,BD200,BI200)","v":0},{"$f":"SUM(Q200,V200,AA200,AF200,AK200,AP200,AU200,AZ200,BE200,BJ200)","v":0},{"$f":"SUM(R200,W200,AB200,AG200,AL200,AQ200,AV200,BA200,BF200,BK200)","v":0},null,null,null,null,null,null,null,null,null,null,null,null,null,null,null,null,null,null,null,null,null,null,null,null,null,null,null,null,null,null,null,null,null,null,null,null,null,null,null,null,null,null,null,null,null,null,null,null,null,null,null,{"$f":"'Раздел 2'!H200","v":0}]
[null,null,null,null,null,"Служебное двоеборье","195",0,0,0,0,0,0,null,null,null,null,null,null,null,null,null,null,null,null,null,null,null,null,null,null,null,null,null,null,null,null,null,null,null,null,null,null,null,null,null,null,null,null,null,null,null,null,null,null,null,null,null,null,null,null,null,null,null,{"$f":"'Раздел 2'!H201","v":0}]
[null,null,null,null,null,"Служебное единоборство","196",0,0,0,0,0,0,null,null,null,null,null,null,null,null,null,null,null,null,null,null,null,null,null,null,null,null,null,null,null,null,null,null,null,null,null,null,null,null,null,null,null,null,null,null,null,null,null,null,null,null,null,null,null,null,null,null,null,{"$f":"'Раздел 2'!H202","v":0}]
[null,null,null,null,null,"Служебное многоборье","197",0,0,0,0,0,0,null,null,null,null,null,null,null,null,null,null,null,null,null,null,null,null,null,null,null,null,null,null,null,null,null,null,null,null,null,null,null,null,null,null,null,null,null,null,null,null,null,null,null,null,null,null,null,null,null,null,null,{"$f":"'Раздел 2'!H203","v":0}]
[null,null,null,null,null,"Служебно-прикладной спорт","198",0,0,0,0,0,0,null,null,null,null,null,null,null,null,null,null,null,null,null,null,null,null,null,null,null,null,null,null,null,null,null,null,null,null,null,null,null,null,null,null,null,null,null,null,null,null,null,null,null,null,null,null,null,null,null,null,null,{"$f":"'Раздел 2'!H204","v":0}]
[null,null,null,null,null,"Служебно-прикладной спорт ФСО России","199",0,0,0,0,0,0,null,null,null,null,null,null,null,null,null,null,null,null,null,null,null,null,null,null,null,null,null,null,null,null,null,null,null,null,null,null,null,null,null,null,null,null,null,null,null,null,null,null,null,null,null,null,null,null,null,null,null,{"$f":"'Раздел 2'!H205","v":0}]
[null,null,null,null,null,"Служебно-прикладной спорт ФТС России","200",0,0,0,0,0,0,null,null,null,null,null,null,null,null,null,null,null,null,null,null,null,null,null,null,null,null,null,null,null,null,null,null,null,null,null,null,null,null,null,null,null,null,null,null,null,null,null,null,null,null,null,null,null,null,null,null,null,{"$f":"'Раздел 2'!H206","v":0}]
[null,null,null,null,null,"Служебный биатлон","201",0,0,0,0,0,0,null,null,null,null,null,null,null,null,null,null,null,null,null,null,null,null,null,null,null,null,null,null,null,null,null,null,null,null,null,null,null,null,null,null,null,null,null,null,null,null,null,null,null,null,null,null,null,null,null,null,null,{"$f":"'Раздел 2'!H207","v":0}]
[null,null,null,null,null,"Смешанное боевое единоборство (ММА)","202",0,0,0,0,0,0,null,null,null,null,null,null,null,null,null,null,null,null,null,null,null,null,null,null,null,null,null,null,null,null,null,null,null,null,null,null,null,null,null,null,null,null,null,null,null,null,null,null,null,null,null,null,null,null,null,null,null,{"$f":"'Раздел 2'!H208","v":1}]
[null,null,null,null,null,"Сноуборд - всего","203",0,0,0,0,0,0,{"$f":"SUM(N210:N214)","v":0},{"$f":"SUM(O210:O214)","v":0},0,0,0,0,0,0,0,0,0,0,0,0,0,0,0,0,0,0,0,0,0,0,0,0,0,0,0,0,0,0,0,0,0,0,0,0,0,0,0,0,0,0,0,0,0,0,0,0,null,{"$f":"'Раздел 2'!H209","v":0}]
[null,null,null,null,null,"в том числе:\nСноуборд-кросс","204",0,0,0,0,0,0,null,null,null,null,null,null,null,null,null,null,null,null,null,null,null,null,null,null,null,null,null,null,null,null,null,null,null,null,null,null,null,null,null,null,null,null,null,null,null,null,null,null,null,null,null,null,null,null,null,null,null,{"$f":"'Раздел 2'!H210","v":0}]
[null,null,null,null,null,"Параллельный слалом","205",0,0,0,0,0,0,null,null,null,null,null,null,null,null,null,null,null,null,null,null,null,null,null,null,null,null,null,null,null,null,null,null,null,null,null,null,null,null,null,null,null,null,null,null,null,null,null,null,null,null,null,null,null,null,null,null,null,{"$f":"'Раздел 2'!H211","v":0}]
[null,null,null,null,null,"Хаф-пайп","206",0,0,0,0,0,0,null,null,null,null,null,null,null,null,null,null,null,null,null,null,null,null,null,null,null,null,null,null,null,null,null,null,null,null,null,null,null,null,null,null,null,null,null,null,null,null,null,null,null,null,null,null,null,null,null,null,null,{"$f":"'Раздел 2'!H212","v":0}]
[null,null,null,null,null,"Биг-эйр","207",0,0,0,0,0,0,null,null,null,null,null,null,null,null,null,null,null,null,null,null,null,null,null,null,null,null,null,null,null,null,null,null,null,null,null,null,null,null,null,null,null,null,null,null,null,null,null,null,null,null,null,null,null,null,null,null,null,{"$f":"'Раздел 2'!H213","v":0}]
[null,null,null,null,null,"Слоупстайл","208",0,0,0,0,0,0,null,null,null,null,null,null,null,null,null,null,null,null,null,null,null,null,null,null,null,null,null,null,null,null,null,null,null,null,null,null,null,null,null,null,null,null,null,null,null,null,null,null,null,null,null,null,null,null,null,null,null,{"$f":"'Раздел 2'!H214","v":0}]
[null,null,null,null,null,"Современное пятиборье","209",0,0,0,0,0,0,null,null,null,null,null,null,null,null,null,null,null,null,null,null,null,null,null,null,null,null,null,null,null,null,null,null,null,null,null,null,null,null,null,null,null,null,null,null,null,null,null,null,null,null,null,null,null,null,null,null,null,{"$f":"'Раздел 2'!H215","v":0}]
[null,null,null,null,null,"Софтбол","210",0,0,0,0,0,0,null,null,null,null,null,null,null,null,null,null,null,null,null,null,null,null,null,null,null,null,null,null,null,null,null,null,null,null,null,null,null,null,null,null,null,null,null,null,null,null,null,null,null,null,null,null,null,null,null,null,null,{"$f":"'Раздел 2'!H216","v":0}]
[null,null,null,null,null,"Спасательный спорт","211",0,0,0,0,0,0,null,null,null,null,null,null,null,null,null,null,null,null,null,null,null,null,null,null,null,null,null,null,null,null,null,null,null,null,null,null,null,null,null,null,null,null,null,null,null,null,null,null,null,null,null,null,null,null,null,null,null,{"$f":"'Раздел 2'!H217","v":0}]
[null,null,null,null,null,"Спорт сверхлегкой авиации","212",0,0,0,0,0,0,null,null,null,null,null,null,null,null,null,null,null,null,null,null,null,null,null,null,null,null,null,null,null,null,null,null,null,null,null,null,null,null,null,null,null,null,null,null,null,null,null,null,null,null,null,null,null,null,null,null,null,{"$f":"'Раздел 2'!H218","v":0}]
[null,null,null,null,null,"Спортивная акробатика","213",0,0,0,0,0,0,null,null,null,null,null,null,null,null,null,null,null,null,null,null,null,null,null,null,null,null,null,null,null,null,null,null,null,null,null,null,null,null,null,null,null,null,null,null,null,null,null,null,null,null,null,null,null,null,null,null,null,{"$f":"'Раздел 2'!H219","v":1}]
[null,null,null,null,null,"Спортивная аэробика","214",0,0,0,0,0,0,null,null,null,null,null,null,null,null,null,null,null,null,null,null,null,null,null,null,null,null,null,null,null,null,null,null,null,null,null,null,null,null,null,null,null,null,null,null,null,null,null,null,null,null,null,null,null,null,null,null,null,{"$f":"'Раздел 2'!H220","v":1}]
[null,null,null,null,null,"Спортивная борьба - всего","215",0,0,0,0,0,0,{"$f":"SUM(N222:N226)","v":0},{"$f":"SUM(O222:O226)","v":0},0,0,0,0,0,0,0,0,0,0,0,0,0,0,0,0,0,0,0,0,0,0,0,0,0,0,0,0,0,0,0,0,0,0,0,0,0,0,0,0,0,0,0,0,0,0,0,0,null,{"$f":"'Раздел 2'!H221","v":0}]
[null,null,null,null,null,"в том числе:\nВольная борьба","216",0,0,0,0,0,0,null,null,null,null,null,null,null,null,null,null,null,null,null,null,null,null,null,null,null,null,null,null,null,null,null,null,null,null,null,null,null,null,null,null,null,null,null,null,null,null,null,null,null,null,null,null,null,null,null,null,null,{"$f":"'Раздел 2'!H222","v":0}]
[null,null,null,null,null,"Греко-римская борьба","217",0,0,0,0,0,0,null,null,null,null,null,null,null,null,null,null,null,null,null,null,null,null,null,null,null,null,null,null,null,null,null,null,null,null,null,null,null,null,null,null,null,null,null,null,null,null,null,null,null,null,null,null,null,null,null,null,null,{"$f":"'Раздел 2'!H223","v":0}]
[null,null,null,null,null,"Грэпплинг","218",0,0,0,0,0,0,null,null,null,null,null,null,null,null,null,null,null,null,null,null,null,null,null,null,null,null,null,null,null,null,null,null,null,null,null,null,null,null,null,null,null,null,null,null,null,null,null,null,null,null,null,null,null,null,null,null,null,{"$f":"'Раздел 2'!H224","v":0}]
[null,null,null,null,null,"Панкратион","219",0,0,0,0,0,0,null,null,null,null,null,null,null,null,null,null,null,null,null,null,null,null,null,null,null,null,null,null,null,null,null,null,null,null,null,null,null,null,null,null,null,null,null,null,null,null,null,null,null,null,null,null,null,null,null,null,null,{"$f":"'Раздел 2'!H225","v":0}]
[null,null,null,null,null,"Пляжная борьба","220",0,0,0,0,0,0,null,null,null,null,null,null,null,null,null,null,null,null,null,null,null,null,null,null,null,null,null,null,null,null,null,null,null,null,null,null,null,null,null,null,null,null,null,null,null,null,null,null,null,null,null,null,null,null,null,null,null,{"$f":"'Раздел 2'!H226","v":0}]
[null,null,null,null,null,"Спортивная гимнастика","221",0,0,0,0,0,0,null,null,null,null,null,null,null,null,null,null,null,null,null,null,null,null,null,null,null,null,null,null,null,null,null,null,null,null,null,null,null,null,null,null,null,null,null,null,null,null,null,null,null,null,null,null,null,null,null,null,null,{"$f":"'Раздел 2'!H227","v":0}]
[null,null,null,null,null,"Спортивная йога","222",0,0,0,0,0,0,null,null,null,null,null,null,null,null,null,null,null,null,null,null,null,null,null,null,null,null,null,null,null,null,null,null,null,null,null,null,null,null,null,null,null,null,null,null,null,null,null,null,null,null,null,null,null,null,null,null,null,{"$f":"'Раздел 2'!H228","v":0}]
[null,null,null,null,null,"Спортивное метание ножа","223",0,0,0,0,0,0,null,null,null,null,null,null,null,null,null,null,null,null,null,null,null,null,null,null,null,null,null,null,null,null,null,null,null,null,null,null,null,null,null,null,null,null,null,null,null,null,null,null,null,null,null,null,null,null,null,null,null,{"$f":"'Раздел 2'!H229","v":0}]
[null,null,null,null,null,"Спортивное ориентирование","224",0,0,0,0,0,0,null,null,null,null,null,null,null,null,null,null,null,null,null,null,null,null,null,null,null,null,null,null,null,null,null,null,null,null,null,null,null,null,null,null,null,null,null,null,null,null,null,null,null,null,null,null,null,null,null,null,null,{"$f":"'Раздел 2'!H230","v":0}]
[null,null,null,null,null,"Спортивное программирование - всего","225",0,0,0,0,0,0,{"$f":"SUM(N232:N236)","v":0},{"$f":"SUM(O232:O236)","v":0},0,0,0,0,0,0,0,0,0,0,0,0,0,0,0,0,0,0,0,0,0,0,0,0,0,0,0,0,0,0,0,0,0,0,0,0,0,0,0,0,0,0,0,0,0,0,0,0,null,{"$f":"'Раздел 2'!H231","v":0}]
[null,null,null,null,null,"в том числе:\nПрограммирование алгоритмическое","226",0,0,0,0,0,0,null,null,null,null,null,null,null,null,null,null,null,null,null,null,null,null,null,null,null,null,null,null,null,null,null,null,null,null,null,null,null,null,null,null,null,null,null,null,null,null,null,null,null,null,null,null,null,null,null,null,null,{"$f":"'Раздел 2'!H232","v":0}]
[null,null,null,null,null,"Программирование продуктовое","227",0,0,0,0,0,0,null,null,null,null,null,null,null,null,null,null,null,null,null,null,null,null,null,null,null,null,null,null,null,null,null,null,null,null,null,null,null,null,null,null,null,null,null,null,null,null,null,null,null,null,null,null,null,null,null,null,null,{"$f":"'Раздел 2'!H233","v":0}]
[null,null,null,null,null,"Программирование беспилотных авиационных систем","228",0,0,0,0,0,0,null,null,null,null,null,null,null,null,null,null,null,null,null,null,null,null,null,null,null,null,null,null,null,null,null,null,null,null,null,null,null,null,null,null,null,null,null,null,null,null,null,null,null,null,null,null,null,null,null,null,null,{"$f":"'Раздел 2'!H234","v":0}]
[null,null,null,null,null,"Программирование робототехники","229",0,0,0,0,0,0,null,null,null,null,null,null,null,null,null,null,null,null,null,null,null,null,null,null,null,null,null,null,null,null,null,null,null,null,null,null,null,null,null,null,null,null,null,null,null,null,null,null,null,null,null,null,null,null,null,null,null,{"$f":"'Раздел 2'!H235","v":0}]
[null,null,null,null,null,"Программирование систем информационной безопасности","230",0,0,0,0,0,0,null,null,null,null,null,null,null,null,null,null,null,null,null,null,null,null,null,null,null,null,null,null,null,null,null,null,null,null,null,null,null,null,null,null,null,null,null,null,null,null,null,null,null,null,null,null,null,null,null,null,null,{"$f":"'Раздел 2'!H236","v":0}]
[null,null,null,null,null,"Спортивно-прикладное собаководство","231",0,0,0,0,0,0,null,null,null,null,null,null,null,null,null,null,null,null,null,null,null,null,null,null,null,null,null,null,null,null,null,null,null,null,null,null,null,null,null,null,null,null,null,null,null,null,null,null,null,null,null,null,null,null,null,null,null,{"$f":"'Раздел 2'!H237","v":0}]
[null,null,null,null,null,"Спортивный бридж","232",0,0,0,0,0,0,null,null,null,null,null,null,null,null,null,null,null,null,null,null,null,null,null,null,null,null,null,null,null,null,null,null,null,null,null,null,null,null,null,null,null,null,null,null,null,null,null,null,null,null,null,null,null,null,null,null,null,{"$f":"'Раздел 2'!H238","v":0}]
[null,null,null,null,null,"Спортивный туризм","233",3,2,1,0,1,0,null,null,null,null,null,2,1,null,1,null,null,null,null,null,null,null,null,null,null,null,null,null,null,null,null,null,null,null,null,null,null,null,null,null,null,null,null,null,null,null,null,null,null,null,null,null,null,null,null,null,null,{"$f":"'Раздел 2'!H239","v":1}]
[null,null,null,null,null,"Стендовая стрельба - всего","234",0,0,0,0,0,0,{"$f":"SUM(N241:N243)","v":0},{"$f":"SUM(O241:O243)","v":0},0,0,0,0,0,0,0,0,0,0,0,0,0,0,0,0,0,0,0,0,0,0,0,0,0,0,0,0,0,0,0,0,0,0,0,0,0,0,0,0,0,0,0,0,0,0,0,0,null,{"$f":"'Раздел 2'!H240","v":0}]
[null,null,null,null,null,"в том числе:\nТрап","235",0,0,0,0,0,0,null,null,null,null,null,null,null,null,null,null,null,null,null,null,null,null,null,null,null,null,null,null,null,null,null,null,null,null,null,null,null,null,null,null,null,null,null,null,null,null,null,null,null,null,null,null,null,null,null,null,null,{"$f":"'Раздел 2'!H241","v":0}]
[null,null,null,null,null,"Скит","236",0,0,0,0,0,0,null,null,null,null,null,null,null,null,null,null,null,null,null,null,null,null,null,null,null,null,null,null,null,null,null,null,null,null,null,null,null,null,null,null,null,null,null,null,null,null,null,null,null,null,null,null,null,null,null,null,null,{"$f":"'Раздел 2'!H242","v":0}]
[null,null,null,null,null,"Иные дисциплины вида спорта \"стендовая стрельба\"","237",0,0,0,0,0,0,null,null,null,null,null,null,null,null,null,null,null,null,null,null,null,null,null,null,null,null,null,null,null,null,null,null,null,null,null,null,null,null,null,null,null,null,null,null,null,null,null,null,null,null,null,null,null,null,null,null,null,{"$f":"'Раздел 2'!H243","v":0}]
[null,null,null,null,null,"Страйкбол","238",0,0,0,0,0,0,null,null,null,null,null,null,null,null,null,null,null,null,null,null,null,null,null,null,null,null,null,null,null,null,null,null,null,null,null,null,null,null,null,null,null,null,null,null,null,null,null,null,null,null,null,null,null,null,null,null,null,{"$f":"'Раздел 2'!H244","v":0}]
[null,null,null,null,null,"Стрельба из арбалета","239",0,0,0,0,0,0,null,null,null,null,null,null,null,null,null,null,null,null,null,null,null,null,null,null,null,null,null,null,null,null,null,null,null,null,null,null,null,null,null,null,null,null,null,null,null,null,null,null,null,null,null,null,null,null,null,null,null,{"$f":"'Раздел 2'!H245","v":0}]
[null,null,null,null,null,"Стрельба из боевого ручного стрелкового оружия","240",0,0,0,0,0,0,null,null,null,null,null,null,null,null,null,null,null,null,null,null,null,null,null,null,null,null,null,null,null,null,null,null,null,null,null,null,null,null,null,null,null,null,null,null,null,null,null,null,null,null,null,null,null,null,null,null,null,{"$f":"'Раздел 2'!H246","v":0}]
[null,null,null,null,null,"Стрельба из лука - всего","241",0,0,0,0,0,0,{"$f":"SUM(N248:N251)","v":0},{"$f":"SUM(O248:O251)","v":0},0,0,0,0,0,0,0,0,0,0,0,0,0,0,0,0,0,0,0,0,0,0,0,0,0,0,0,0,0,0,0,0,0,0,0,0,0,0,0,0,0,0,0,0,0,0,0,0,null,{"$f":"'Раздел 2'!H247","v":0}]
[null,null,null,null,null,"в том числе:\nКлассический лук","242",0,0,0,0,0,0,null,null,null,null,null,null,null,null,null,null,null,null,null,null,null,null,null,null,null,null,null,null,null,null,null,null,null,null,null,null,null,null,null,null,null,null,null,null,null,null,null,null,null,null,null,null,null,null,null,null,null,{"$f":"'Раздел 2'!H248","v":0}]
[null,null,null,null,null,"Блочный лук","243",0,0,0,0,0,0,null,null,null,null,null,null,null,null,null,null,null,null,null,null,null,null,null,null,null,null,null,null,null,null,null,null,null,null,null,null,null,null,null,null,null,null,null,null,null,null,null,null,null,null,null,null,null,null,null,null,null,{"$f":"'Раздел 2'!H249","v":0}]
[null,null,null,null,null,"Ачери ","244",0,0,0,0,0,0,null,null,null,null,null,null,null,null,null,null,null,null,null,null,null,null,null,null,null,null,null,null,null,null,null,null,null,null,null,null,null,null,null,null,null,null,null,null,null,null,null,null,null,null,null,null,null,null,null,null,null,{"$f":"'Раздел 2'!H250","v":0}]
[null,null,null,null,null,"Иные дисциплины вида спорта \"стрельба из лука\"","245",0,0,0,0,0,0,null,null,null,null,null,null,null,null,null,null,null,null,null,null,null,null,null,null,null,null,null,null,null,null,null,null,null,null,null,null,null,null,null,null,null,null,null,null,null,null,null,null,null,null,null,null,null,null,null,null,null,{"$f":"'Раздел 2'!H251","v":0}]
[null,null,null,null,null,"Стрельба из штатного или табельного оружия","246",0,0,0,0,0,0,null,null,null,null,null,null,null,null,null,null,null,null,null,null,null,null,null,null,null,null,null,null,null,null,null,null,null,null,null,null,null,null,null,null,null,null,null,null,null,null,null,null,null,null,null,null,null,null,null,null,null,{"$f":"'Раздел 2'!H252","v":0}]
[null,null,null,null,null,"Стрельба на дальние дистанции","247",0,0,0,0,0,0,null,null,null,null,null,null,null,null,null,null,null,null,null,null,null,null,null,null,null,null,null,null,null,null,null,null,null,null,null,null,null,null,null,null,null,null,null,null,null,null,null,null,null,null,null,null,null,null,null,null,null,{"$f":"'Раздел 2'!H253","v":0}]
[null,null,null,null,null,"Судомодельный спорт","248",0,0,0,0,0,0,null,null,null,null,null,null,null,null,null,null,null,null,null,null,null,null,null,null,null,null,null,null,null,null,null,null,null,null,null,null,null,null,null,null,null,null,null,null,null,null,null,null,null,null,null,null,null,null,null,null,null,{"$f":"'Раздел 2'!H254","v":0}]
[null,null,null,null,null,"Сумо","249",0,0,0,0,0,0,null,null,null,null,null,null,null,null,null,null,null,null,null,null,null,null,null,null,null,null,null,null,null,null,null,null,null,null,null,null,null,null,null,null,null,null,null,null,null,null,null,null,null,null,null,null,null,null,null,null,null,{"$f":"'Раздел 2'!H255","v":0}]
[null,null,null,null,null,"Таврели","250",0,0,0,0,0,0,null,null,null,null,null,null,null,null,null,null,null,null,null,null,null,null,null,null,null,null,null,null,null,null,null,null,null,null,null,null,null,null,null,null,null,null,null,null,null,null,null,null,null,null,null,null,null,null,null,null,null,{"$f":"'Раздел 2'!H256","v":0}]
[null,null,null,null,null,"Танцевальный спорт","251",0,0,0,0,0,0,null,null,null,null,null,null,null,null,null,null,null,null,null,null,null,null,null,null,null,null,null,null,null,null,null,null,null,null,null,null,null,null,null,null,null,null,null,null,null,null,null,null,null,null,null,null,null,null,null,null,null,{"$f":"'Раздел 2'!H257","v":1}]
[null,null,null,null,null,"Теннис","252",0,0,0,0,0,0,null,null,null,null,null,null,null,null,null,null,null,null,null,null,null,null,null,null,null,null,null,null,null,null,null,null,null,null,null,null,null,null,null,null,null,null,null,null,null,null,null,null,null,null,null,null,null,null,null,null,null,{"$f":"'Раздел 2'!H258","v":0}]
[null,null,null,null,null,"Триатлон","253",0,0,0,0,0,0,null,null,null,null,null,null,null,null,null,null,null,null,null,null,null,null,null,null,null,null,null,null,null,null,null,null,null,null,null,null,null,null,null,null,null,null,null,null,null,null,null,null,null,null,null,null,null,null,null,null,null,{"$f":"'Раздел 2'!H259","v":0}]
[null,null,null,null,null,"Тхэквондо ВТФ","254",0,0,0,0,0,0,null,null,null,null,null,null,null,null,null,null,null,null,null,null,null,null,null,null,null,null,null,null,null,null,null,null,null,null,null,null,null,null,null,null,null,null,null,null,null,null,null,null,null,null,null,null,null,null,null,null,null,{"$f":"'Раздел 2'!H260","v":0}]
[null,null,null,null,null,"Тхэквондо ГТФ","255",0,0,0,0,0,0,null,null,null,null,null,null,null,null,null,null,null,null,null,null,null,null,null,null,null,null,null,null,null,null,null,null,null,null,null,null,null,null,null,null,null,null,null,null,null,null,null,null,null,null,null,null,null,null,null,null,null,{"$f":"'Раздел 2'!H261","v":0}]
[null,null,null,null,null,"Тхэквондо ИТФ","256",0,0,0,0,0,0,null,null,null,null,null,null,null,null,null,null,null,null,null,null,null,null,null,null,null,null,null,null,null,null,null,null,null,null,null,null,null,null,null,null,null,null,null,null,null,null,null,null,null,null,null,null,null,null,null,null,null,{"$f":"'Раздел 2'!H262","v":0}]
[null,null,null,null,null,"Тхэквондо МФТ","257",0,0,0,0,0,0,null,null,null,null,null,null,null,null,null,null,null,null,null,null,null,null,null,null,null,null,null,null,null,null,null,null,null,null,null,null,null,null,null,null,null,null,null,null,null,null,null,null,null,null,null,null,null,null,null,null,null,{"$f":"'Раздел 2'!H263","v":0}]
[null,null,null,null,null,"Тяжелая атлетика","258",{"$f":"SUM(I264:K264)","v":0},{"$f":"SUM(N264,S264,X264,AC264,AH264,AM264,AR264,AW264,BB264,BG264)","v":0},{"$f":"SUM(O264,T264,Y264,AD264,AI264,AN264,AS264,AX264,BC264,BH264)","v":0},{"$f":"SUM(P264,U264,Z264,AE264,AJ264,AO264,AT264,AY264,BD264,BI264)","v":0},{"$f":"SUM(Q264,V264,AA264,AF264,AK264,AP264,AU264,AZ264,BE264,BJ264)","v":0},{"$f":"SUM(R264,W264,AB264,AG264,AL264,AQ264,AV264,BA264,BF264,BK264)","v":0},null,null,null,null,null,null,null,null,null,null,null,null,null,null,null,null,null,null,null,null,null,null,null,null,null,null,null,null,null,null,null,null,null,null,null,null,null,null,null,null,null,null,null,null,null,null,null,null,null,null,null,{"$f":"'Раздел 2'!H264","v":0}]
[null,null,null,null,null,"Универсальный бой","259",0,0,0,0,0,0,null,null,null,null,null,null,null,null,null,null,null,null,null,null,null,null,null,null,null,null,null,null,null,null,null,null,null,null,null,null,null,null,null,null,null,null,null,null,null,null,null,null,null,null,null,null,null,null,null,null,null,{"$f":"'Раздел 2'!H265","v":0}]
[null,null,null,null,null,"Ушу","260",16,6,5,5,12,0,null,null,null,null,null,null,null,null,null,null,null,null,null,null,null,null,null,null,null,null,null,null,null,null,null,null,null,null,null,null,null,null,null,null,null,null,null,null,null,null,null,null,null,null,null,6,5,5,12,null,null,{"$f":"'Раздел 2'!H266","v":1}]
[null,null,null,null,null,"Фехтование - всего","261",0,0,0,0,0,0,{"$f":"SUM(N268:N271)","v":0},{"$f":"SUM(O268:O271)","v":0},0,0,0,0,0,0,0,0,0,0,0,0,0,0,0,0,0,0,0,0,0,0,0,0,0,0,0,0,0,0,0,0,0,0,0,0,0,0,0,0,0,0,0,0,0,0,0,0,null,{"$f":"'Раздел 2'!H267","v":0}]
[null,null,null,null,null,"в том числе:\nРапира","262",0,0,0,0,0,0,null,null,null,null,null,null,null,null,null,null,null,null,null,null,null,null,null,null,null,null,null,null,null,null,null,null,null,null,null,null,null,null,null,null,null,null,null,null,null,null,null,null,null,null,null,null,null,null,null,null,null,{"$f":"'Раздел 2'!H268","v":0}]
[null,null,null,null,null,"Сабля","263",0,0,0,0,0,0,null,null,null,null,null,null,null,null,null,null,null,null,null,null,null,null,null,null,null,null,null,null,null,null,null,null,null,null,null,null,null,null,null,null,null,null,null,null,null,null,null,null,null,null,null,null,null,null,null,null,null,{"$f":"'Раздел 2'!H269","v":0}]
[null,null,null,null,null,"Шпага","264",0,0,0,0,0,0,null,null,null,null,null,null,null,null,null,null,null,null,null,null,null,null,null,null,null,null,null,null,null,null,null,null,null,null,null,null,null,null,null,null,null,null,null,null,null,null,null,null,null,null,null,null,null,null,null,null,null,{"$f":"'Раздел 2'!H270","v":0}]
[null,null,null,null,null,"Арт-фехтование","265",0,0,0,0,0,0,null,null,null,null,null,null,null,null,null,null,null,null,null,null,null,null,null,null,null,null,null,null,null,null,null,null,null,null,null,null,null,null,null,null,null,null,null,null,null,null,null,null,null,null,null,null,null,null,null,null,null,{"$f":"'Раздел 2'!H271","v":0}]
[null,null,null,null,null,"Фигурное катание на коньках","266",0,0,0,0,0,0,null,null,null,null,null,null,null,null,null,null,null,null,null,null,null,null,null,null,null,null,null,null,null,null,null,null,null,null,null,null,null,null,null,null,null,null,null,null,null,null,null,null,null,null,null,null,null,null,null,null,null,{"$f":"'Раздел 2'!H272","v":0}]
[null,null,null,null,null,"Фиджитал спорт (функционально-цифровой спорт) - всего","267",0,0,0,0,0,0,{"$f":"SUM(N274:N278)","v":0},{"$f":"SUM(O274:O278)","v":0},0,0,0,0,0,0,0,0,0,0,0,0,0,0,0,0,0,0,0,0,0,0,0,0,0,0,0,0,0,0,0,0,0,0,0,0,0,0,0,0,0,0,0,0,0,0,0,0,null,{"$f":"'Раздел 2'!H273","v":0}]
[null,null,null,null,null,"в том числе:\nДвоеборье - автомодель","268",0,0,0,0,0,0,null,null,null,null,null,null,null,null,null,null,null,null,null,null,null,null,null,null,null,null,null,null,null,null,null,null,null,null,null,null,null,null,null,null,null,null,null,null,null,null,null,null,null,null,null,null,null,null,null,null,null,{"$f":"'Раздел 2'!H274","v":0}]
[null,null,null,null,null,"Двоеборье - единоборство","269",0,0,0,0,0,0,null,null,null,null,null,null,null,null,null,null,null,null,null,null,null,null,null,null,null,null,null,null,null,null,null,null,null,null,null,null,null,null,null,null,null,null,null,null,null,null,null,null,null,null,null,null,null,null,null,null,null,{"$f":"'Раздел 2'!H275","v":0}]
[null,null,null,null,null,"Двоеборье - тактическая стрельба","270",0,0,0,0,0,0,null,null,null,null,null,null,null,null,null,null,null,null,null,null,null,null,null,null,null,null,null,null,null,null,null,null,null,null,null,null,null,null,null,null,null,null,null,null,null,null,null,null,null,null,null,null,null,null,null,null,null,{"$f":"'Раздел 2'!H276","v":0}]
[null,null,null,null,null,"Преследование с препятствиями","271",0,0,0,0,0,0,null,null,null,null,null,null,null,null,null,null,null,null,null,null,null,null,null,null,null,null,null,null,null,null,null,null,null,null,null,null,null,null,null,null,null,null,null,null,null,null,null,null,null,null,null,null,null,null,null,null,null,{"$f":"'Раздел 2'!H277","v":0}]
[null,null,null,null,null,"Ритм - симулятор","272",0,0,0,0,0,0,null,null,null,null,null,null,null,null,null,null,null,null,null,null,null,null,null,null,null,null,null,null,null,null,null,null,null,null,null,null,null,null,null,null,null,null,null,null,null,null,null,null,null,null,null,null,null,null,null,null,null,{"$f":"'Раздел 2'!H278","v":0}]
[null,null,null,null,null,"Фитнес-аэробика","273",0,0,0,0,0,0,null,null,null,null,null,null,null,null,null,null,null,null,null,null,null,null,null,null,null,null,null,null,null,null,null,null,null,null,null,null,null,null,null,null,null,null,null,null,null,null,null,null,null,null,null,null,null,null,null,null,null,{"$f":"'Раздел 2'!H279","v":0}]
[null,null,null,null,null,"Флаинг диск","274",0,0,0,0,0,0,null,null,null,null,null,null,null,null,null,null,null,null,null,null,null,null,null,null,null,null,null,null,null,null,null,null,null,null,null,null,null,null,null,null,null,null,null,null,null,null,null,null,null,null,null,null,null,null,null,null,null,{"$f":"'Раздел 2'!H280","v":0}]
[null,null,null,null,null,"Флорбол","275",0,0,0,0,0,0,null,null,null,null,null,null,null,null,null,null,null,null,null,null,null,null,null,null,null,null,null,null,null,null,null,null,null,null,null,null,null,null,null,null,null,null,null,null,null,null,null,null,null,null,null,null,null,null,null,null,null,{"$f":"'Раздел 2'!H281","v":0}]
[null,null,null,null,null,"Фристайл - всего","276",0,0,0,0,0,0,{"$f":"SUM(N283:N288)","v":0},{"$f":"SUM(O283:O288)","v":0},0,0,0,0,0,0,0,0,0,0,0,0,0,0,0,0,0,0,0,0,0,0,0,0,0,0,0,0,0,0,0,0,0,0,0,0,0,0,0,0,0,0,0,0,0,0,0,0,null,{"$f":"'Раздел 2'!H282","v":0}]
[null,null,null,null,null,"в том числе:\nАкробатика","277",0,0,0,0,0,0,null,null,null,null,null,null,null,null,null,null,null,null,null,null,null,null,null,null,null,null,null,null,null,null,null,null,null,null,null,null,null,null,null,null,null,null,null,null,null,null,null,null,null,null,null,null,null,null,null,null,null,{"$f":"'Раздел 2'!H283","v":0}]
[null,null,null,null,null,"Биг-эйр","278",0,0,0,0,0,0,null,null,null,null,null,null,null,null,null,null,null,null,null,null,null,null,null,null,null,null,null,null,null,null,null,null,null,null,null,null,null,null,null,null,null,null,null,null,null,null,null,null,null,null,null,null,null,null,null,null,null,{"$f":"'Раздел 2'!H284","v":0}]
[null,null,null,null,null,"Могул","279",0,0,0,0,0,0,null,null,null,null,null,null,null,null,null,null,null,null,null,null,null,null,null,null,null,null,null,null,null,null,null,null,null,null,null,null,null,null,null,null,null,null,null,null,null,null,null,null,null,null,null,null,null,null,null,null,null,{"$f":"'Раздел 2'!H285","v":0}]
[null,null,null,null,null,"Ски-кросс","280",0,0,0,0,0,0,null,null,null,null,null,null,null,null,null,null,null,null,null,null,null,null,null,null,null,null,null,null,null,null,null,null,null,null,null,null,null,null,null,null,null,null,null,null,null,null,null,null,null,null,null,null,null,null,null,null,null,{"$f":"'Раздел 2'!H286","v":0}]
[null,null,null,null,null,"Хаф-пайп","281",0,0,0,0,0,0,null,null,null,null,null,null,null,null,null,null,null,null,null,null,null,null,null,null,null,null,null,null,null,null,null,null,null,null,null,null,null,null,null,null,null,null,null,null,null,null,null,null,null,null,null,null,null,null,null,null,null,{"$f":"'Раздел 2'!H287","v":0}]
[null,null,null,null,null,"Слоупстайл","282",0,0,0,0,0,0,null,null,null,null,null,null,null,null,null,null,null,null,null,null,null,null,null,null,null,null,null,null,null,null,null,null,null,null,null,null,null,null,null,null,null,null,null,null,null,null,null,null,null,null,null,null,null,null,null,null,null,{"$f":"'Раздел 2'!H288","v":0}]
[null,null,null,null,null,"Функциональное многоборье","283",0,0,0,0,0,0,null,null,null,null,null,null,null,null,null,null,null,null,null,null,null,null,null,null,null,null,null,null,null,null,null,null,null,null,null,null,null,null,null,null,null,null,null,null,null,null,null,null,null,null,null,null,null,null,null,null,null,{"$f":"'Раздел 2'!H289","v":0}]
[null,null,null,null,null,"Футбол - всего","284",0,0,0,0,0,0,{"$f":"SUM(N291:N297)","v":0},{"$f":"SUM(O291:O297)","v":0},0,0,0,0,0,0,0,0,0,0,0,0,0,0,0,0,0,0,0,0,0,0,0,0,0,0,0,0,0,0,0,0,0,0,0,0,0,0,0,0,0,0,0,0,0,0,0,0,null,{"$f":"'Раздел 2'!H290","v":1}]
[null,null,null,null,null,"в том числе:\nФутбол (муж.)","285",0,0,0,0,0,0,null,null,null,null,null,null,null,null,null,null,null,null,null,null,null,null,null,null,null,null,null,null,null,null,null,null,null,null,null,null,null,null,null,null,null,null,null,null,null,null,null,null,null,null,null,null,null,null,null,null,null,{"$f":"'Раздел 2'!H291","v":0}]
[null,null,null,null,null,"Футбол (жен.)","286",0,0,0,0,0,0,null,null,null,null,null,null,null,null,null,null,null,null,null,null,null,null,null,null,null,null,null,null,null,null,null,null,null,null,null,null,null,null,null,null,null,null,null,null,null,null,null,null,null,null,null,null,null,null,null,null,null,{"$f":"'Раздел 2'!H292","v":0}]
[null,null,null,null,null,"Интерактивный футбол","287",0,0,0,0,0,0,null,null,null,null,null,null,null,null,null,null,null,null,null,null,null,null,null,null,null,null,null,null,null,null,null,null,null,null,null,null,null,null,null,null,null,null,null,null,null,null,null,null,null,null,null,null,null,null,null,null,null,{"$f":"'Раздел 2'!H293","v":0}]
[null,null,null,null,null,"Мини-футбол","288",0,0,0,0,0,0,null,null,null,null,null,null,null,null,null,null,null,null,null,null,null,null,null,null,null,null,null,null,null,null,null,null,null,null,null,null,null,null,null,null,null,null,null,null,null,null,null,null,null,null,null,null,null,null,null,null,null,{"$f":"'Раздел 2'!H294","v":0}]
[null,null,null,null,null,"Пляжный футбол","289",0,0,0,0,0,0,null,null,null,null,null,null,null,null,null,null,null,null,null,null,null,null,null,null,null,null,null,null,null,null,null,null,null,null,null,null,null,null,null,null,null,null,null,null,null,null,null,null,null,null,null,null,null,null,null,null,null,{"$f":"'Раздел 2'!H295","v":0}]
[null,null,null,null,null,"Футбольное двоеборье","290",0,0,0,0,0,0,null,null,null,null,null,null,null,null,null,null,null,null,null,null,null,null,null,null,null,null,null,null,null,null,null,null,null,null,null,null,null,null,null,null,null,null,null,null,null,null,null,null,null,null,null,null,null,null,null,null,null,{"$f":"'Раздел 2'!H296","v":0}]
[null,null,null,null,null,"Футзал","291",0,0,0,0,0,0,null,null,null,null,null,null,null,null,null,null,null,null,null,null,null,null,null,null,null,null,null,null,null,null,null,null,null,null,null,null,null,null,null,null,null,null,null,null,null,null,null,null,null,null,null,null,null,null,null,null,null,{"$f":"'Раздел 2'!H297","v":1}]
[null,null,null,null,null,"Хапкидо","292",0,0,0,0,0,0,null,null,null,null,null,null,null,null,null,null,null,null,null,null,null,null,null,null,null,null,null,null,null,null,null,null,null,null,null,null,null,null,null,null,null,null,null,null,null,null,null,null,null,null,null,null,null,null,null,null,null,{"$f":"'Раздел 2'!H298","v":0}]
[null,null,null,null,null,"Хапсагай","293",0,0,0,0,0,0,null,null,null,null,null,null,null,null,null,null,null,null,null,null,null,null,null,null,null,null,null,null,null,null,null,null,null,null,null,null,null,null,null,null,null,null,null,null,null,null,null,null,null,null,null,null,null,null,null,null,null,{"$f":"'Раздел 2'!H299","v":0}]
[null,null,null,null,null,"Хоккей - всего","294",0,0,0,0,0,0,{"$f":"SUM(N301:N305)","v":0},{"$f":"SUM(O301:O305)","v":0},0,0,0,0,0,0,0,0,0,0,0,0,0,0,0,0,0,0,0,0,0,0,0,0,0,0,0,0,0,0,0,0,0,0,0,0,0,0,0,0,0,0,0,0,0,0,0,0,null,{"$f":"'Раздел 2'!H300","v":0}]
[null,null,null,null,null,"в том числе:\nХоккей (муж.)","295",0,0,0,0,0,0,null,null,null,null,null,null,null,null,null,null,null,null,null,null,null,null,null,null,null,null,null,null,null,null,null,null,null,null,null,null,null,null,null,null,null,null,null,null,null,null,null,null,null,null,null,null,null,null,null,null,null,{"$f":"'Раздел 2'!H301","v":0}]
[null,null,null,null,null,"Хоккей (жен.)","296",0,0,0,0,0,0,null,null,null,null,null,null,null,null,null,null,null,null,null,null,null,null,null,null,null,null,null,null,null,null,null,null,null,null,null,null,null,null,null,null,null,null,null,null,null,null,null,null,null,null,null,null,null,null,null,null,null,{"$f":"'Раздел 2'!H302","v":0}]
[null,null,null,null,null,"Хоккейное двоеборье","297",0,0,0,0,0,0,null,null,null,null,null,null,null,null,null,null,null,null,null,null,null,null,null,null,null,null,null,null,null,null,null,null,null,null,null,null,null,null,null,null,null,null,null,null,null,null,null,null,null,null,null,null,null,null,null,null,null,{"$f":"'Раздел 2'!H303","v":0}]
[null,null,null,null,null,"Хоккей 2х2, 3х3, 4х4","298",0,0,0,0,0,0,null,null,null,null,null,null,null,null,null,null,null,null,null,null,null,null,null,null,null,null,null,null,null,null,null,null,null,null,null,null,null,null,null,null,null,null,null,null,null,null,null,null,null,null,null,null,null,null,null,null,null,{"$f":"'Раздел 2'!H304","v":0}]
[null,null,null,null,null,"Интерактивный хоккей","299",0,0,0,0,0,0,null,null,null,null,null,null,null,null,null,null,null,null,null,null,null,null,null,null,null,null,null,null,null,null,null,null,null,null,null,null,null,null,null,null,null,null,null,null,null,null,null,null,null,null,null,null,null,null,null,null,null,{"$f":"'Раздел 2'!H305","v":0}]
[null,null,null,null,null,"Хоккей на траве - всего","300",0,0,0,0,0,0,{"$f":"SUM(N307:N309)","v":0},{"$f":"SUM(O307:O309)","v":0},0,0,0,0,0,0,0,0,0,0,0,0,0,0,0,0,0,0,0,0,0,0,0,0,0,0,0,0,0,0,0,0,0,0,0,0,0,0,0,0,0,0,0,0,0,0,0,0,null,{"$f":"'Раздел 2'!H306","v":0}]
[null,null,null,null,null,"в том числе:\nХоккей на траве (муж.)","301",0,0,0,0,0,0,null,null,null,null,null,null,null,null,null,null,null,null,null,null,null,null,null,null,null,null,null,null,null,null,null,null,null,null,null,null,null,null,null,null,null,null,null,null,null,null,null,null,null,null,null,null,null,null,null,null,null,{"$f":"'Раздел 2'!H307","v":0}]
[null,null,null,null,null,"Хоккей на траве (жен.)","302",0,0,0,0,0,0,null,null,null,null,null,null,null,null,null,null,null,null,null,null,null,null,null,null,null,null,null,null,null,null,null,null,null,null,null,null,null,null,null,null,null,null,null,null,null,null,null,null,null,null,null,null,null,null,null,null,null,{"$f":"'Раздел 2'!H308","v":0}]
[null,null,null,null,null,"Иные дисциплины вида спорта \"хоккей на траве\"","303",0,0,0,0,0,0,null,null,null,null,null,null,null,null,null,null,null,null,null,null,null,null,null,null,null,null,null,null,null,null,null,null,null,null,null,null,null,null,null,null,null,null,null,null,null,null,null,null,null,null,null,null,null,null,null,null,null,{"$f":"'Раздел 2'!H309","v":0}]
[null,null,null,null,null,"Хоккей с мячом","304",0,0,0,0,0,0,null,null,null,null,null,null,null,null,null,null,null,null,null,null,null,null,null,null,null,null,null,null,null,null,null,null,null,null,null,null,null,null,null,null,null,null,null,null,null,null,null,null,null,null,null,null,null,null,null,null,null,{"$f":"'Раздел 2'!H310","v":0}]
[null,null,null,null,null,"Художественная гимнастика","305",0,0,0,0,0,0,null,null,null,null,null,null,null,null,null,null,null,null,null,null,null,null,null,null,null,null,null,null,null,null,null,null,null,null,null,null,null,null,null,null,null,null,null,null,null,null,null,null,null,null,null,null,null,null,null,null,null,{"$f":"'Раздел 2'!H311","v":0}]
[null,null,null,null,null,"Хуреш","306",0,0,0,0,0,0,null,null,null,null,null,null,null,null,null,null,null,null,null,null,null,null,null,null,null,null,null,null,null,null,null,null,null,null,null,null,null,null,null,null,null,null,null,null,null,null,null,null,null,null,null,null,null,null,null,null,null,{"$f":"'Раздел 2'!H312","v":0}]
[null,null,null,null,null,"Чир спорт","307",0,0,0,0,0,0,null,null,null,null,null,null,null,null,null,null,null,null,null,null,null,null,null,null,null,null,null,null,null,null,null,null,null,null,null,null,null,null,null,null,null,null,null,null,null,null,null,null,null,null,null,null,null,null,null,null,null,{"$f":"'Раздел 2'!H313","v":0}]
[null,null,null,null,null,"Шахбокс","308",0,0,0,0,0,0,null,null,null,null,null,null,null,null,null,null,null,null,null,null,null,null,null,null,null,null,null,null,null,null,null,null,null,null,null,null,null,null,null,null,null,null,null,null,null,null,null,null,null,null,null,null,null,null,null,null,null,{"$f":"'Раздел 2'!H314","v":0}]
[null,null,null,null,null,"Шахматы","309",0,0,0,0,0,0,null,null,null,null,null,null,null,null,null,null,null,null,null,null,null,null,null,null,null,null,null,null,null,null,null,null,null,null,null,null,null,null,null,null,null,null,null,null,null,null,null,null,null,null,null,null,null,null,null,null,null,{"$f":"'Раздел 2'!H315","v":1}]
[null,null,null,null,null,"Шашки","310",0,0,0,0,0,0,null,null,null,null,null,null,null,null,null,null,null,null,null,null,null,null,null,null,null,null,null,null,null,null,null,null,null,null,null,null,null,null,null,null,null,null,null,null,null,null,null,null,null,null,null,null,null,null,null,null,null,{"$f":"'Раздел 2'!H316","v":0}]
[null,null,null,null,null,"Шодсанлат","311",0,0,0,0,0,0,null,null,null,null,null,null,null,null,null,null,null,null,null,null,null,null,null,null,null,null,null,null,null,null,null,null,null,null,null,null,null,null,null,null,null,null,null,null,null,null,null,null,null,null,null,null,null,null,null,null,null,{"$f":"'Раздел 2'!H317","v":0}]
[null,null,null,null,null,"Эстетическая гимнастика","312",0,0,0,0,0,0,null,null,null,null,null,null,null,null,null,null,null,null,null,null,null,null,null,null,null,null,null,null,null,null,null,null,null,null,null,null,null,null,null,null,null,null,null,null,null,null,null,null,null,null,null,null,null,null,null,null,null,{"$f":"'Раздел 2'!H318","v":0}]
[null,null,null,null,null,"Якутские национальные прыжки","313",0,0,0,0,{"$f":"SUM(Q319,V319,AA319,AF319,AK319,AP319,AU319,AZ319,BE319,BJ319)","v":0},0,null,null,null,null,null,null,null,null,null,null,null,null,null,null,null,null,null,null,null,null,null,null,null,null,null,null,null,null,null,null,null,null,null,null,null,null,null,null,null,null,null,null,null,null,null,null,null,null,null,null,null,{"$f":"'Раздел 2'!H319","v":0}]
[null,null,null,null,null,"ИТОГО","314",28,11,10,7,13,2,{"$f":"SUM(N7:N13,N16:N21,N27:N30,N35:N41,N47:N48,N52:N60,N66:N68,N72:N75,N80:N87,N90:N101,N105:N110,N118:N119,N124:N149,N152:N158,N163:N164,N170:N173,N180:N194,N198:N209,N215:N221,N227:N231,N237:N240,N244:N247,N252:N267,N272:N273,N279:N282,N289:N290,N298:N300,N306,N310:N319)","v":0},{"$f":"SUM(O7:O13,O16:O21,O27:O30,O35:O41,O47:O48,O52:O60,O66:O68,O72:O75,O80:O87,O90:O101,O105:O110,O118:O119,O124:O149,O152:O158,O163:O164,O170:O173,O180:O194,O198:O209,O215:O221,O227:O231,O237:O240,O244:O247,O252:O267,O272:O273,O279:O282,O289:O290,O298:O300,O306,O310:O319)","v":0},0,0,0,2,1,0,1,0,0,0,0,0,0,0,0,0,0,0,0,0,0,0,0,0,0,0,0,0,0,0,0,0,0,0,0,0,0,0,0,0,0,0,0,9,9,7,12,2]

{"sheet":"Раздел 8","index":8,"n_rows":322,"n_cols":37,"rows_kept":322,"cut":false,"hidden":false,"merged":[[2,33,3,35],[4,33,6,33],[4,34,6,34],[1,7,1,35],[4,35,6,35],[2,10,2,18],[2,7,6,7],[3,19,6,19],[2,19,2,28],[4,24,6,24],[4,21,6,21],[3,17,3,18],[4,18,6,18],[4,22,5,23],[3,20,3,24],[3,25,6,25],[3,27,3,28],[4,27,6,27],[4,28,6,28],[1,5,6,5],[1,6,6,6],[3,10,3,14],[4,14,6,14],[3,16,6,16],[0,5,0,32],[2,29,2,32],[4,10,6,10],[3,15,6,15],[5,30,6,30],[4,11,6,11],[4,12,5,13],[4,17,6,17],[4,20,6,20],[2,8,6,8],[2,9,6,9],[3,26,6,26],[3,32,6,32],[5,31,6,31],[3,29,4,31],[5,29,6,29]]}
[null,null,null,null,null,"Раздел VIII. Тренерско-преподавательский состав, человек"]
[null,null,null,null,null,"Виды спорта","№ строки","Тренеры-преподаватели"]
[null,null,null,null,null,null,null,"Всего тренеров-преподавателей "," Всего по основному месту работы","Внутреннее совмещение/ совместительство","по основному месту работы (из гр.4):",null,null,null,null,null,null,null,null,"внешние совместители:",null,null,null,null,null,null,null,null,null,"из гр.4:",null,null,null," Впервые трудоустроенные тренеры-преподаватели"]
[null,null,null,null,null,null,null,null,null,null,"профессиональное образование",null,null,null,null,"Прошедшие профессиональную переподготовку (за отчетный период)","Прошедшие повышение квалификации (за отчетный период)","квалификационные категории",null,"Всего внешних совместителей","профессиональное образование",null,null,null,null,"Прошедшие профессиональную переподготовку (за отчетный период)","Прошедшие повышение квалификации (за отчетный период)","квалификационные категории",null,"в возрасте:",null,null,"Звание «Заслуженный тренер России»"]
[null,null,null,null,null,null,null,null,null,null,"высшее","среднее","в том числе\nфизкультурное",null,"имеющие дополнительное профессиональное образование в области физической культуры и спорта (из гр.6 и 7)",null,null,"высшая","первая",null,"высшее","среднее","в том числе\nфизкультурное",null,"имеющие дополнительное профессиональное образование в области физической культуры и спорта (из гр.16 и 17)",null,null,"высшая","первая",null,null,null,null,"по основному месту работы","внешние совместители","в возрасте до 35 лет\n(из гр. 29)"]
[null,null,null,null,null,null,null,null,null,null,null,null,null,null,null,null,null,null,null,null,null,null,null,null,null,null,null,null,null,"до 35 лет","от 36 до 64 лет","старше 64 лет"]
["Код региона","ОГРН","Ведоственная принадлежность","Вид организации","Вид правового образования",null,null,null,null,null,null,null,"высшее","среднее",null,null,null,null,null,null,null,null,"высшее","среднее"]
[{"$f":"'Раздел 0'!M27","v":86},{"$f":"IF('Раздел 1'!D15>0,'Раздел 1'!D15,\"ОСП\")","v":1188617000428},{"$f":"(IF(SUM('Раздел 1'!D5:D6)>0,\"ФКИС\",IF(SUM('Раздел 1'!D7:D8)>0,\"ОБРАЗОВАНИЕ\",IF(SUM('Раздел 1'!D9:D10)>0,\"ДВП\",\" \"))))","v":"ФКИС"},{"$f":"(IF(SUM('Раздел 1'!E12:E13)>0,\"СШ\",IF(SUM('Раздел 1'!F12:F13)>0,\"СШОР\",IF(SUM('Раздел 1'!G12:G13)>0,\"УОР\",IF(SUM('Раздел 1'!H12:H13)>0,\"ЦСП\",IF(SUM('Раздел 1'!I12:I13)>0,\"Другие\"))))))","v":"СШ"},{"$f":"(IF('Раздел 1'!D19=1,\"РФ\",IF('Раздел 1'!E19=1,\"Суб РФ\",IF('Раздел 1'!F19=1,\"МО\",IF('Раздел 1'!H19=1,\"ИПО\",\"ОСП\")))))","v":"МО"},1,2,3,4,5,6,7,8,9,10,11,12,13,14,15,16,17,18,19,20,21,22,23,24,25,26,27,28,29,30,31,"2р"]
[null,null,null,null,null,"Авиамодельный спорт","01",{"$f":"SUM(I9,T9)","v":0},null,null,null,null,null,null,null,null,null,null,null,null,null,null,null,null,null,null,null,null,null,null,null,null,null,null,null,null,{"$f":"'Раздел 2'!H7","v":0}]
[null,null,null,null,null,"Авиационные гонки","02",{"$f":"SUM(I10,T10)","v":0},null,null,null,null,null,null,null,null,null,null,null,null,null,null,null,null,null,null,null,null,null,null,null,null,null,null,null,null,{"$f":"'Раздел 2'!H8","v":0}]
[null,null,null,null,null,"Автомобильный спорт","03",0,null,null,null,null,null,null,null,null,null,null,null,null,null,null,null,null,null,null,null,null,null,null,null,null,null,null,null,null,{"$f":"'Раздел 2'!H9","v":0}]
[null,null,null,null,null,"Автомодельный спорт","04",0,null,null,null,null,null,null,null,null,null,null,null,null,null,null,null,null,null,null,null,null,null,null,null,null,null,null,null,null,{"$f":"'Раздел 2'!H10","v":0}]
[null,null,null,null,null,"Айкидо","05",0,null,null,null,null,null,null,null,null,null,null,null,null,null,null,null,null,null,null,null,null,null,null,null,null,null,null,null,null,{"$f":"'Раздел 2'!H11","v":0}]
[null,null,null,null,null,"Акробатический рок-н-ролл","06",0,null,null,null,null,null,null,null,null,null,null,null,null,null,null,null,null,null,null,null,null,null,null,null,null,null,null,null,null,{"$f":"'Раздел 2'!H12","v":0}]
[null,null,null,null,null,"Альпинизм - всего","07",0,{"$f":"SUM(I16:I17)","v":0},{"$f":"SUM(J16:J17)","v":0},0,0,0,0,0,0,0,0,0,0,0,0,0,0,0,0,0,0,0,0,0,0,0,0,0,0,{"$f":"'Раздел 2'!H13","v":0}]
[null,null,null,null,null,"В том числе:\nСки-альпинизм","08",0,null,null,null,null,null,null,null,null,null,null,null,null,null,null,null,null,null,null,null,null,null,null,null,null,null,null,null,null,{"$f":"'Раздел 2'!H14","v":0}]
[null,null,null,null,null,"Иные дисциплины вида спорта \"альпинизм\"","09",0,null,null,null,null,null,null,null,null,null,null,null,null,null,null,null,null,null,null,null,null,null,null,null,null,null,null,null,null,{"$f":"'Раздел 2'!H15","v":0}]
[null,null,null,null,null,"Американский футбол","10",0,null,null,null,null,null,null,null,null,null,null,null,null,null,null,null,null,null,null,null,null,null,null,null,null,null,null,null,null,{"$f":"'Раздел 2'!H16","v":0}]
[null,null,null,null,null,"Армейский рукопашный бой","11",0,null,null,null,null,null,null,null,null,null,null,null,null,null,null,null,null,null,null,null,null,null,null,null,null,null,null,null,null,{"$f":"'Раздел 2'!H17","v":0}]
[null,null,null,null,null,"Армейское тактико-стрелковое многоборье","12",0,null,null,null,null,null,null,null,null,null,null,null,null,null,null,null,null,null,null,null,null,null,null,null,null,null,null,null,null,{"$f":"'Раздел 2'!H18","v":0}]
[null,null,null,null,null,"Армрестлинг","13",0,null,null,null,null,null,null,null,null,null,null,null,null,null,null,null,null,null,null,null,null,null,null,null,null,null,null,null,null,{"$f":"'Раздел 2'!H19","v":0}]
[null,null,null,null,null,"Бадминтон","14",0,null,null,null,null,null,null,null,null,null,null,null,null,null,null,null,null,null,null,null,null,null,null,null,null,null,null,null,null,{"$f":"'Раздел 2'!H20","v":0}]
[null,null,null,null,null,"Баскетбол - всего","15",0,{"$f":"SUM(I24:I28)","v":0},{"$f":"SUM(J24:J28)","v":0},0,0,0,0,0,0,0,0,0,0,0,0,0,0,0,0,0,0,0,0,0,0,0,0,0,0,{"$f":"'Раздел 2'!H21","v":0}]
[null,null,null,null,null,"в том числе:\nБаскетбол (муж.)","16",0,null,null,null,null,null,null,null,null,null,null,null,null,null,null,null,null,null,null,null,null,null,null,null,null,null,null,null,null,{"$f":"'Раздел 2'!H22","v":0}]
[null,null,null,null,null,"Баскетбол (жен.)","17",0,null,null,null,null,null,null,null,null,null,null,null,null,null,null,null,null,null,null,null,null,null,null,null,null,null,null,null,null,{"$f":"'Раздел 2'!H23","v":0}]
[null,null,null,null,null,"Баскетбол 3х3","18",0,null,null,null,null,null,null,null,null,null,null,null,null,null,null,null,null,null,null,null,null,null,null,null,null,null,null,null,null,{"$f":"'Раздел 2'!H24","v":0}]
[null,null,null,null,null,"Интерактивный баскетбол","19",0,null,null,null,null,null,null,null,null,null,null,null,null,null,null,null,null,null,null,null,null,null,null,null,null,null,null,null,null,{"$f":"'Раздел 2'!H25","v":0}]
[null,null,null,null,null,"Иные дисциплины вида спорта \"баскетбол\"","20",0,null,null,null,null,null,null,null,null,null,null,null,null,null,null,null,null,null,null,null,null,null,null,null,null,null,null,null,null,{"$f":"'Раздел 2'!H26","v":0}]
[null,null,null,null,null,"Бейсбол","21",0,null,null,null,null,null,null,null,null,null,null,null,null,null,null,null,null,null,null,null,null,null,null,null,null,null,null,null,null,{"$f":"'Раздел 2'!H27","v":0}]
[null,null,null,null,null,"Биатлон","22",0,null,null,null,null,null,null,null,null,null,null,null,null,null,null,null,null,null,null,null,null,null,null,null,null,null,null,null,null,{"$f":"'Раздел 2'!H28","v":0}]
[null,null,null,null,null,"Бильярдный спорт","23",0,null,null,null,null,null,null,null,null,null,null,null,null,null,null,null,null,null,null,null,null,null,null,null,null,null,null,null,null,{"$f":"'Раздел 2'!H29","v":0}]
[null,null,null,null,null,"Бобслей - всего","24",0,{"$f":"SUM(I33:I36)","v":0},{"$f":"SUM(J33:J36)","v":0},0,0,0,0,0,0,0,0,0,0,0,0,0,0,0,0,0,0,0,0,0,0,0,0,0,0,{"$f":"'Раздел 2'!H30","v":0}]
[null,null,null,null,null,"В том числе:\nСкелетон","25",0,null,null,null,null,null,null,null,null,null,null,null,null,null,null,null,null,null,null,null,null,null,null,null,null,null,null,null,null,{"$f":"'Раздел 2'!H31","v":0}]
[null,null,null,null,null,"Экипаж","26",0,null,null,null,null,null,null,null,null,null,null,null,null,null,null,null,null,null,null,null,null,null,null,null,null,null,null,null,null,{"$f":"'Раздел 2'!H32","v":0}]
[null,null,null,null,null,"Монобоб","27",0,null,null,null,null,null,null,null,null,null,null,null,null,null,null,null,null,null,null,null,null,null,null,null,null,null,null,null,null,{"$f":"'Раздел 2'!H33","v":0}]
[null,null,null,null,null,"Иные дисциплины вида спорта \"бобслей\"","28",0,null,null,null,null,null,null,null,null,null,null,null,null,null,null,null,null,null,null,null,null,null,null,null,null,null,null,null,null,{"$f":"'Раздел 2'!H34","v":0}]
[null,null,null,null,null,"Бодибилдинг","29",0,null,null,null,null,null,null,null,null,null,null,null,null,null,null,null,null,null,null,null,null,null,null,null,null,null,null,null,null,{"$f":"'Раздел 2'!H35","v":0}]
[null,null,null,null,null,"Бокс","30",0,null,null,null,null,null,null,null,null,null,null,null,null,null,null,null,null,null,null,null,null,null,null,null,null,null,null,null,null,{"$f":"'Раздел 2'!H36","v":0}]
[null,null,null,null,null,"Борьба на поясах","31",0,null,null,null,null,null,null,null,null,null,null,null,null,null,null,null,null,null,null,null,null,null,null,null,null,null,null,null,null,{"$f":"'Раздел 2'!H37","v":0}]
[null,null,null,null,null,"Боулинг","32",0,null,null,null,null,null,null,null,null,null,null,null,null,null,null,null,null,null,null,null,null,null,null,null,null,null,null,null,null,{"$f":"'Раздел 2'!H38","v":0}]
[null,null,null,null,null,"Боулспорт","33",0,null,null,null,null,null,null,null,null,null,null,null,null,null,null,null,null,null,null,null,null,null,null,null,null,null,null,null,null,{"$f":"'Раздел 2'!H39","v":0}]
[null,null,null,null,null,"Брейкинг","34",0,null,null,null,null,null,null,null,null,null,null,null,null,null,null,null,null,null,null,null,null,null,null,null,null,null,null,null,null,{"$f":"'Раздел 2'!H40","v":0}]
[null,null,null,null,null,"Велосипедный спорт - всего","35",0,{"$f":"SUM(I44:I48)","v":0},{"$f":"SUM(J44:J48)","v":0},0,0,0,0,0,0,0,0,0,0,0,0,0,0,0,0,0,0,0,0,0,0,0,0,0,0,{"$f":"'Раздел 2'!H41","v":0}]
[null,null,null,null,null,"в том числе:\nBMX (гонка, эстафета)","36",0,null,null,null,null,null,null,null,null,null,null,null,null,null,null,null,null,null,null,null,null,null,null,null,null,null,null,null,null,{"$f":"'Раздел 2'!H42","v":0}]
[null,null,null,null,null,"BMX - фристайл","37",0,null,null,null,null,null,null,null,null,null,null,null,null,null,null,null,null,null,null,null,null,null,null,null,null,null,null,null,null,{"$f":"'Раздел 2'!H43","v":0}]
[null,null,null,null,null,"Маунтинбайк","38",0,null,null,null,null,null,null,null,null,null,null,null,null,null,null,null,null,null,null,null,null,null,null,null,null,null,null,null,null,{"$f":"'Раздел 2'!H44","v":0}]
[null,null,null,null,null,"Трек","39",0,null,null,null,null,null,null,null,null,null,null,null,null,null,null,null,null,null,null,null,null,null,null,null,null,null,null,null,null,{"$f":"'Раздел 2'!H45","v":0}]
[null,null,null,null,null,"Шоссе","40",0,null,null,null,null,null,null,null,null,null,null,null,null,null,null,null,null,null,null,null,null,null,null,null,null,null,null,null,null,{"$f":"'Раздел 2'!H46","v":0}]
[null,null,null,null,null,"Вертолетный спорт","41",0,null,null,null,null,null,null,null,null,null,null,null,null,null,null,null,null,null,null,null,null,null,null,null,null,null,null,null,null,{"$f":"'Раздел 2'!H47","v":0}]
[null,null,null,null,null,"Водное поло - всего","42",0,{"$f":"SUM(I51:I53)","v":0},{"$f":"SUM(J51:J53)","v":0},0,0,0,0,0,0,0,0,0,0,0,0,0,0,0,0,0,0,0,0,0,0,0,0,0,0,{"$f":"'Раздел 2'!H48","v":0}]
[null,null,null,null,null,"в том числе:\nВодное поло (муж.)","43",0,null,null,null,null,null,null,null,null,null,null,null,null,null,null,null,null,null,null,null,null,null,null,null,null,null,null,null,null,{"$f":"'Раздел 2'!H49","v":0}]
[null,null,null,null,null,"Водное поло (жен.)","44",0,null,null,null,null,null,null,null,null,null,null,null,null,null,null,null,null,null,null,null,null,null,null,null,null,null,null,null,null,{"$f":"'Раздел 2'!H50","v":0}]
[null,null,null,null,null,"Иные дисциплины вида спорта \"водное поло\"","45",0,null,null,null,null,null,null,null,null,null,null,null,null,null,null,null,null,null,null,null,null,null,null,null,null,null,null,null,null,{"$f":"'Раздел 2'!H51","v":0}]
[null,null,null,null,null,"Воднолыжный спорт","46",0,null,null,null,null,null,null,null,null,null,null,null,null,null,null,null,null,null,null,null,null,null,null,null,null,null,null,null,null,{"$f":"'Раздел 2'!H52","v":0}]
[null,null,null,null,null,"Водно-моторный спорт","47",0,null,null,null,null,null,null,null,null,null,null,null,null,null,null,null,null,null,null,null,null,null,null,null,null,null,null,null,null,{"$f":"'Раздел 2'!H53","v":0}]
[null,null,null,null,null,"Водно-спасательное многоборье","48",0,null,null,null,null,null,null,null,null,null,null,null,null,null,null,null,null,null,null,null,null,null,null,null,null,null,null,null,null,{"$f":"'Раздел 2'!H54","v":0}]
[null,null,null,null,null,"Военно-прикладной спорт","49",0,null,null,null,null,null,null,null,null,null,null,null,null,null,null,null,null,null,null,null,null,null,null,null,null,null,null,null,null,{"$f":"'Раздел 2'!H55","v":0}]
[null,null,null,null,null,"Военно-спортивное многоборье","50",0,null,null,null,null,null,null,null,null,null,null,null,null,null,null,null,null,null,null,null,null,null,null,null,null,null,null,null,null,{"$f":"'Раздел 2'!H56","v":0}]
[null,null,null,null,null,"Воздухоплавательный спорт","51",0,null,null,null,null,null,null,null,null,null,null,null,null,null,null,null,null,null,null,null,null,null,null,null,null,null,null,null,null,{"$f":"'Раздел 2'!H57","v":0}]
[null,null,null,null,null,"Воздушная гимнастика","52",0,null,null,null,null,null,null,null,null,null,null,null,null,null,null,null,null,null,null,null,null,null,null,null,null,null,null,null,null,{"$f":"'Раздел 2'!H58","v":0}]
[null,null,null,null,null,"Воздушно-силовая атлетика","53",0,null,null,null,null,null,null,null,null,null,null,null,null,null,null,null,null,null,null,null,null,null,null,null,null,null,null,null,null,{"$f":"'Раздел 2'!H59","v":0}]
[null,null,null,null,null,"Волейбол - всего","54",0,{"$f":"SUM(I63:I67)","v":0},{"$f":"SUM(J63:J67)","v":0},0,0,0,0,0,0,0,0,0,0,0,0,0,0,0,0,0,0,0,0,0,0,0,0,0,0,{"$f":"'Раздел 2'!H60","v":0}]
[null,null,null,null,null,"в том числе:\nВолейбол (муж.)","55",0,null,null,null,null,null,null,null,null,null,null,null,null,null,null,null,null,null,null,null,null,null,null,null,null,null,null,null,null,{"$f":"'Раздел 2'!H61","v":0}]
[null,null,null,null,null,"Волейбол (жен.)","56",0,null,null,null,null,null,null,null,null,null,null,null,null,null,null,null,null,null,null,null,null,null,null,null,null,null,null,null,null,{"$f":"'Раздел 2'!H62","v":0}]
[null,null,null,null,null,"Пляжный волейбол (муж.)","57",0,null,null,null,null,null,null,null,null,null,null,null,null,null,null,null,null,null,null,null,null,null,null,null,null,null,null,null,null,{"$f":"'Раздел 2'!H63","v":0}]
[null,null,null,null,null,"Пляжный волейбол (жен.)","58",0,null,null,null,null,null,null,null,null,null,null,null,null,null,null,null,null,null,null,null,null,null,null,null,null,null,null,null,null,{"$f":"'Раздел 2'!H64","v":0}]
[null,null,null,null,null,"Волейбол на снегу","59",0,null,null,null,null,null,null,null,null,null,null,null,null,null,null,null,null,null,null,null,null,null,null,null,null,null,null,null,null,{"$f":"'Раздел 2'!H65","v":0}]
[null,null,null,null,null,"Восточное боевое единоборство","60",0,null,null,null,null,null,null,null,null,null,null,null,null,null,null,null,null,null,null,null,null,null,null,null,null,null,null,null,null,{"$f":"'Раздел 2'!H66","v":0}]
[null,null,null,null,null,"Всестилевое каратэ","61",0,null,null,null,null,null,null,null,null,null,null,null,null,null,null,null,null,null,null,null,null,null,null,null,null,null,null,null,null,{"$f":"'Раздел 2'!H67","v":0}]
[null,null,null,null,null,"Гандбол - всего","62",0,{"$f":"SUM(I71:I73)","v":0},{"$f":"SUM(J71:J73)","v":0},0,0,0,0,0,0,0,0,0,0,0,0,0,0,0,0,0,0,0,0,0,0,0,0,0,0,{"$f":"'Раздел 2'!H68","v":0}]
[null,null,null,null,null,"в том числе:\nГандбол (муж.)","63",0,null,null,null,null,null,null,null,null,null,null,null,null,null,null,null,null,null,null,null,null,null,null,null,null,null,null,null,null,{"$f":"'Раздел 2'!H69","v":0}]
[null,null,null,null,null,"Гандбол (жен.)","64",0,null,null,null,null,null,null,null,null,null,null,null,null,null,null,null,null,null,null,null,null,null,null,null,null,null,null,null,null,{"$f":"'Раздел 2'!H70","v":0}]
[null,null,null,null,null,"Пляжный гандбол","65",0,null,null,null,null,null,null,null,null,null,null,null,null,null,null,null,null,null,null,null,null,null,null,null,null,null,null,null,null,{"$f":"'Раздел 2'!H71","v":0}]
[null,null,null,null,null,"Гиревой спорт","66",{"$f":"SUM(I74,T74)","v":0},null,null,null,null,null,null,null,null,null,null,null,null,null,null,null,null,null,null,null,null,null,null,null,null,null,null,null,null,{"$f":"'Раздел 2'!H72","v":0}]
[null,null,null,null,null,"Го","67",0,null,null,null,null,null,null,null,null,null,null,null,null,null,null,null,null,null,null,null,null,null,null,null,null,null,null,null,null,{"$f":"'Раздел 2'!H73","v":0}]
[null,null,null,null,null,"Гольф","68",0,null,null,null,null,null,null,null,null,null,null,null,null,null,null,null,null,null,null,null,null,null,null,null,null,null,null,null,null,{"$f":"'Раздел 2'!H74","v":0}]
[null,null,null,null,null,"Гонки дронов (беспилотных воздушных судов) - всего","69",0,{"$f":"SUM(I78:I81)","v":0},{"$f":"SUM(J78:J81)","v":0},0,0,0,0,0,0,0,0,0,0,0,0,0,0,0,0,0,0,0,0,0,0,0,0,0,0,{"$f":"'Раздел 2'!H75","v":0}]
[null,null,null,null,null,"в том числе:\nКласс 75 мм","70",0,null,null,null,null,null,null,null,null,null,null,null,null,null,null,null,null,null,null,null,null,null,null,null,null,null,null,null,null,{"$f":"'Раздел 2'!H76","v":0}]
[null,null,null,null,null,"Класс 200 мм","71",0,null,null,null,null,null,null,null,null,null,null,null,null,null,null,null,null,null,null,null,null,null,null,null,null,null,null,null,null,{"$f":"'Раздел 2'!H77","v":0}]
[null,null,null,null,null,"Класс 330 мм","72",0,null,null,null,null,null,null,null,null,null,null,null,null,null,null,null,null,null,null,null,null,null,null,null,null,null,null,null,null,{"$f":"'Раздел 2'!H78","v":0}]
[null,null,null,null,null,"Технический симулятор","73",0,null,null,null,null,null,null,null,null,null,null,null,null,null,null,null,null,null,null,null,null,null,null,null,null,null,null,null,null,{"$f":"'Раздел 2'!H79","v":0}]
[null,null,null,null,null,"Гонки на охотничьих лыжах","74",0,null,null,null,null,null,null,null,null,null,null,null,null,null,null,null,null,null,null,null,null,null,null,null,null,null,null,null,null,{"$f":"'Раздел 2'!H80","v":0}]
[null,null,null,null,null,"Гонки с препятствиями","75",0,null,null,null,null,null,null,null,null,null,null,null,null,null,null,null,null,null,null,null,null,null,null,null,null,null,null,null,null,{"$f":"'Раздел 2'!H81","v":0}]
[null,null,null,null,null,"Горнолыжный спорт","76",0,null,null,null,null,null,null,null,null,null,null,null,null,null,null,null,null,null,null,null,null,null,null,null,null,null,null,null,null,{"$f":"'Раздел 2'!H82","v":0}]
[null,null,null,null,null,"Городошный спорт","77",0,null,null,null,null,null,null,null,null,null,null,null,null,null,null,null,null,null,null,null,null,null,null,null,null,null,null,null,null,{"$f":"'Раздел 2'!H83","v":0}]
[null,null,null,null,null,"Гребля на байдарках и каноэ","78",0,null,null,null,null,null,null,null,null,null,null,null,null,null,null,null,null,null,null,null,null,null,null,null,null,null,null,null,null,{"$f":"'Раздел 2'!H84","v":0}]
[null,null,null,null,null,"Гребля на шлюпках","79",0,null,null,null,null,null,null,null,null,null,null,null,null,null,null,null,null,null,null,null,null,null,null,null,null,null,null,null,null,{"$f":"'Раздел 2'!H85","v":0}]
[null,null,null,null,null,"Гребной слалом","80",0,null,null,null,null,null,null,null,null,null,null,null,null,null,null,null,null,null,null,null,null,null,null,null,null,null,null,null,null,{"$f":"'Раздел 2'!H86","v":0}]
[null,null,null,null,null,"Гребной спорт - всего","81",0,{"$f":"SUM(I90:I91)","v":0},{"$f":"SUM(J90:J91)","v":0},0,0,0,0,0,0,0,0,0,0,0,0,0,0,0,0,0,0,0,0,0,0,0,0,0,0,{"$f":"'Раздел 2'!H87","v":0}]
[null,null,null,null,null,"в том числе:\nАкадемическая гребля","82",0,null,null,null,null,null,null,null,null,null,null,null,null,null,null,null,null,null,null,null,null,null,null,null,null,null,null,null,null,{"$f":"'Раздел 2'!H88","v":0}]
[null,null,null,null,null,"Иные дисциплины вида спорта \"гребной спорт\"","83",0,null,null,null,null,null,null,null,null,null,null,null,null,null,null,null,null,null,null,null,null,null,null,null,null,null,null,null,null,{"$f":"'Раздел 2'!H89","v":0}]
[null,null,null,null,null,"Гребно-парусное двоеборье","84",0,null,null,null,null,null,null,null,null,null,null,null,null,null,null,null,null,null,null,null,null,null,null,null,null,null,null,null,null,{"$f":"'Раздел 2'!H90","v":0}]
[null,null,null,null,null,"Дартс","85",0,null,null,null,null,null,null,null,null,null,null,null,null,null,null,null,null,null,null,null,null,null,null,null,null,null,null,null,null,{"$f":"'Раздел 2'!H91","v":0}]
[null,null,null,null,null,"Джиу-джитсу","86",0,null,null,null,null,null,null,null,null,null,null,null,null,null,null,null,null,null,null,null,null,null,null,null,null,null,null,null,null,{"$f":"'Раздел 2'!H92","v":0}]
[null,null,null,null,null,"Джутайдо","87",0,null,null,null,null,null,null,null,null,null,null,null,null,null,null,null,null,null,null,null,null,null,null,null,null,null,null,null,null,{"$f":"'Раздел 2'!H93","v":0}]
[null,null,null,null,null,"Дзюдо","88",0,null,null,null,null,null,null,null,null,null,null,null,null,null,null,null,null,null,null,null,null,null,null,null,null,null,null,null,null,{"$f":"'Раздел 2'!H94","v":0}]
[null,null,null,null,null,"Ездовой спорт","89",0,null,null,null,null,null,null,null,null,null,null,null,null,null,null,null,null,null,null,null,null,null,null,null,null,null,null,null,null,{"$f":"'Раздел 2'!H95","v":0}]
[null,null,null,null,null,"Зимнее плавание","90",0,null,null,null,null,null,null,null,null,null,null,null,null,null,null,null,null,null,null,null,null,null,null,null,null,null,null,null,null,{"$f":"'Раздел 2'!H96","v":0}]
[null,null,null,null,null,"Капоэйра","91",0,null,null,null,null,null,null,null,null,null,null,null,null,null,null,null,null,null,null,null,null,null,null,null,null,null,null,null,null,{"$f":"'Раздел 2'!H97","v":0}]
[null,null,null,null,null,"Каратэ","92",0,null,null,null,null,null,null,null,null,null,null,null,null,null,null,null,null,null,null,null,null,null,null,null,null,null,null,null,null,{"$f":"'Раздел 2'!H98","v":0}]
[null,null,null,null,null,"Кендо","93",0,null,null,null,null,null,null,null,null,null,null,null,null,null,null,null,null,null,null,null,null,null,null,null,null,null,null,null,null,{"$f":"'Раздел 2'!H99","v":0}]
[null,null,null,null,null,"Керешу","94",0,null,null,null,null,null,null,null,null,null,null,null,null,null,null,null,null,null,null,null,null,null,null,null,null,null,null,null,null,{"$f":"'Раздел 2'!H100","v":0}]
[null,null,null,null,null,"Кёрлинг - всего","95",0,{"$f":"SUM(I104:I106)","v":0},{"$f":"SUM(J104:J106)","v":0},0,0,0,0,0,0,0,0,0,0,0,0,0,0,0,0,0,0,0,0,0,0,0,0,0,0,{"$f":"'Раздел 2'!H101","v":0}]
[null,null,null,null,null,"в том числе:\nКёрлинг (муж.)","96",0,null,null,null,null,null,null,null,null,null,null,null,null,null,null,null,null,null,null,null,null,null,null,null,null,null,null,null,null,{"$f":"'Раздел 2'!H102","v":0}]
[null,null,null,null,null,"Кёрлинг (жен.)","97",0,null,null,null,null,null,null,null,null,null,null,null,null,null,null,null,null,null,null,null,null,null,null,null,null,null,null,null,null,{"$f":"'Раздел 2'!H103","v":0}]
[null,null,null,null,null,"Кёрлинг – смешанные пары","98",0,null,null,null,null,null,null,null,null,null,null,null,null,null,null,null,null,null,null,null,null,null,null,null,null,null,null,null,null,{"$f":"'Раздел 2'!H104","v":0}]
[null,null,null,null,null,"Кикбоксинг","99",2,1,null,1,null,1,null,null,null,1,1,null,1,1,null,1,null,null,null,null,1,null,null,1,null,null,null,null,null,{"$f":"'Раздел 2'!H105","v":1}]
[null,null,null,null,null,"Кинологический спорт","100",0,null,null,null,null,null,null,null,null,null,null,null,null,null,null,null,null,null,null,null,null,null,null,null,null,null,null,null,null,{"$f":"'Раздел 2'!H106","v":0}]
[null,null,null,null,null,"Киокусинкай","101",5,5,2,5,null,5,null,null,null,5,4,1,null,null,null,null,null,null,null,null,null,null,2,3,null,null,null,null,null,{"$f":"'Раздел 2'!H107","v":1}]
[null,null,null,null,null,"Киокушин","102",0,null,null,null,null,null,null,null,null,null,null,null,null,null,null,null,null,null,null,null,null,null,null,null,null,null,null,null,null,{"$f":"'Раздел 2'!H108","v":0}]
[null,null,null,null,null,"Комплексное единоборство","103",0,null,null,null,null,null,null,null,null,null,null,null,null,null,null,null,null,null,null,null,null,null,null,null,null,null,null,null,null,{"$f":"'Раздел 2'!H109","v":0}]
[null,null,null,null,null,"Компьютерный спорт - всего","104",0,{"$f":"SUM(I113:I119)","v":0},{"$f":"SUM(J113:J119)","v":0},0,0,0,0,0,0,0,0,0,0,0,0,0,0,0,0,0,0,0,0,0,0,0,0,0,0,{"$f":"'Раздел 2'!H110","v":0}]
[null,null,null,null,null,"в том числе:\nБоевая арена","105",0,null,null,null,null,null,null,null,null,null,null,null,null,null,null,null,null,null,null,null,null,null,null,null,null,null,null,null,null,{"$f":"'Раздел 2'!H111","v":0}]
[null,null,null,null,null,"Соревновательные головоломки","106",0,null,null,null,null,null,null,null,null,null,null,null,null,null,null,null,null,null,null,null,null,null,null,null,null,null,null,null,null,{"$f":"'Раздел 2'!H112","v":0}]
[null,null,null,null,null,"Спортивный симулятор","107",0,null,null,null,null,null,null,null,null,null,null,null,null,null,null,null,null,null,null,null,null,null,null,null,null,null,null,null,null,{"$f":"'Раздел 2'!H113","v":0}]
[null,null,null,null,null,"Стратегия в реальном времени","108",0,null,null,null,null,null,null,null,null,null,null,null,null,null,null,null,null,null,null,null,null,null,null,null,null,null,null,null,null,{"$f":"'Раздел 2'!H114","v":0}]
[null,null,null,null,null,"Тактический трехмерный бой","109",0,null,null,null,null,null,null,null,null,null,null,null,null,null,null,null,null,null,null,null,null,null,null,null,null,null,null,null,null,{"$f":"'Раздел 2'!H115","v":0}]
[null,null,null,null,null,"Технический симулятор","110",0,null,null,null,null,null,null,null,null,null,null,null,null,null,null,null,null,null,null,null,null,null,null,null,null,null,null,null,null,{"$f":"'Раздел 2'!H116","v":0}]
[null,null,null,null,null,"Файтинг","111",0,null,null,null,null,null,null,null,null,null,null,null,null,null,null,null,null,null,null,null,null,null,null,null,null,null,null,null,null,{"$f":"'Раздел 2'!H117","v":0}]
[null,null,null,null,null,"Конный спорт","112",0,null,null,null,null,null,null,null,null,null,null,null,null,null,null,null,null,null,null,null,null,null,null,null,null,null,null,null,null,{"$f":"'Раздел 2'!H118","v":0}]
[null,null,null,null,null,"Конькобежный спорт - всего","113",0,{"$f":"SUM(I122:I125)","v":0},{"$f":"SUM(J122:J125)","v":0},0,0,0,0,0,0,0,0,0,0,0,0,0,0,0,0,0,0,0,0,0,0,0,0,0,0,{"$f":"'Раздел 2'!H119","v":0}]
[null,null,null,null,null,"в том числе:\nКонькобежный спорт","114",0,null,null,null,null,null,null,null,null,null,null,null,null,null,null,null,null,null,null,null,null,null,null,null,null,null,null,null,null,{"$f":"'Раздел 2'!H120","v":0}]
[null,null,null,null,null,"Шорт-трек","115",0,null,null,null,null,null,null,null,null,null,null,null,null,null,null,null,null,null,null,null,null,null,null,null,null,null,null,null,null,{"$f":"'Раздел 2'!H121","v":0}]
[null,null,null,null,null,"Масс-старт","116",0,null,null,null,null,null,null,null,null,null,null,null,null,null,null,null,null,null,null,null,null,null,null,null,null,null,null,null,null,{"$f":"'Раздел 2'!H122","v":0}]
[null,null,null,null,null,"Командный забег","117",0,null,null,null,null,null,null,null,null,null,null,null,null,null,null,null,null,null,null,null,null,null,null,null,null,null,null,null,null,{"$f":"'Раздел 2'!H123","v":0}]
[null,null,null,null,null,"Корэш","118",0,null,null,null,null,null,null,null,null,null,null,null,null,null,null,null,null,null,null,null,null,null,null,null,null,null,null,null,null,{"$f":"'Раздел 2'!H124","v":0}]
[null,null,null,null,null,"Крикет","119",0,null,null,null,null,null,null,null,null,null,null,null,null,null,null,null,null,null,null,null,null,null,null,null,null,null,null,null,null,{"$f":"'Раздел 2'!H125","v":0}]
[null,null,null,null,null,"Кудо","120",1,1,null,1,null,1,null,null,null,1,1,null,null,null,null,null,null,null,null,null,null,null,null,null,1,null,null,null,null,{"$f":"'Раздел 2'!H126","v":1}]
[null,null,null,null,null,"Лазерный бой","121",0,null,null,null,null,null,null,null,null,null,null,null,null,null,null,null,null,null,null,null,null,null,null,null,null,null,null,null,null,{"$f":"'Раздел 2'!H127","v":0}]
[null,null,null,null,null,"Лапта","122",0,null,null,null,null,null,null,null,null,null,null,null,null,null,null,null,null,null,null,null,null,null,null,null,null,null,null,null,null,{"$f":"'Раздел 2'!H128","v":0}]
[null,null,null,null,null,"Легкая атлетика","123",0,null,null,null,null,null,null,null,null,null,null,null,null,null,null,null,null,null,null,null,null,null,null,null,null,null,null,null,null,{"$f":"'Раздел 2'!H129","v":0}]
[null,null,null,null,null,"Лыжное двоеборье","124",0,null,null,null,null,null,null,null,null,null,null,null,null,null,null,null,null,null,null,null,null,null,null,null,null,null,null,null,null,{"$f":"'Раздел 2'!H130","v":0}]
[null,null,null,null,null,"Лыжные гонки","125",0,null,null,null,null,null,null,null,null,null,null,null,null,null,null,null,null,null,null,null,null,null,null,null,null,null,null,null,null,{"$f":"'Раздел 2'!H131","v":0}]
[null,null,null,null,null,"Мас-рестлинг","126",0,null,null,null,null,null,null,null,null,null,null,null,null,null,null,null,null,null,null,null,null,null,null,null,null,null,null,null,null,{"$f":"'Раздел 2'!H132","v":0}]
[null,null,null,null,null,"Международное военно-спортивное многоборье","127",0,null,null,null,null,null,null,null,null,null,null,null,null,null,null,null,null,null,null,null,null,null,null,null,null,null,null,null,null,{"$f":"'Раздел 2'!H133","v":0}]
[null,null,null,null,null,"Микрофутзал","128",0,null,null,null,null,null,null,null,null,null,null,null,null,null,null,null,null,null,null,null,null,null,null,null,null,null,null,null,null,{"$f":"'Раздел 2'!H134","v":0}]
[null,null,null,null,null,"Многоборье готов к труду и обороне","129",0,null,null,null,null,null,null,null,null,null,null,null,null,null,null,null,null,null,null,null,null,null,null,null,null,null,null,null,null,{"$f":"'Раздел 2'!H135","v":0}]
[null,null,null,null,null,"Многоборье кинологов","130",{"$f":"SUM(I138,T138)","v":0},null,null,null,null,null,null,null,null,null,null,null,null,null,null,null,null,null,null,null,null,null,null,null,null,null,null,null,null,{"$f":"'Раздел 2'!H136","v":0}]
[null,null,null,null,null,"Многоборье спасателей МЧС России","131",0,null,null,null,null,null,null,null,null,null,null,null,null,null,null,null,null,null,null,null,null,null,null,null,null,null,null,null,null,{"$f":"'Раздел 2'!H137","v":0}]
[null,null,null,null,null,"Морское многоборье","132",0,null,null,null,null,null,null,null,null,null,null,null,null,null,null,null,null,null,null,null,null,null,null,null,null,null,null,null,null,{"$f":"'Раздел 2'!H138","v":0}]
[null,null,null,null,null,"Мотоциклетный спорт","133",0,null,null,null,null,null,null,null,null,null,null,null,null,null,null,null,null,null,null,null,null,null,null,null,null,null,null,null,null,{"$f":"'Раздел 2'!H139","v":0}]
[null,null,null,null,null,"Муайтай","134",1,1,null,1,null,1,null,null,null,1,1,null,null,null,null,null,null,null,null,null,null,null,null,1,null,null,null,null,null,{"$f":"'Раздел 2'!H140","v":1}]
[null,null,null,null,null,"Нарды","135",0,null,null,null,null,null,null,null,null,null,null,null,null,null,null,null,null,null,null,null,null,null,null,null,null,null,null,null,null,{"$f":"'Раздел 2'!H141","v":0}]
[null,null,null,null,null,"Настольный теннис","136",0,null,null,null,null,null,null,null,null,null,null,null,null,null,null,null,null,null,null,null,null,null,null,null,null,null,null,null,null,{"$f":"'Раздел 2'!H142","v":0}]
[null,null,null,null,null,"Падел","137",0,null,null,null,null,null,null,null,null,null,null,null,null,null,null,null,null,null,null,null,null,null,null,null,null,null,null,null,null,{"$f":"'Раздел 2'!H143","v":0}]
[null,null,null,null,null,"Парашютный спорт","138",0,null,null,null,null,null,null,null,null,null,null,null,null,null,null,null,null,null,null,null,null,null,null,null,null,null,null,null,null,{"$f":"'Раздел 2'!H144","v":0}]
[null,null,null,null,null,"Парусный спорт","139",0,null,null,null,null,null,null,null,null,null,null,null,null,null,null,null,null,null,null,null,null,null,null,null,null,null,null,null,null,{"$f":"'Раздел 2'!H145","v":0}]
[null,null,null,null,null,"Пауэрлифтинг","140",3,3,null,2,1,2,1,null,null,2,3,null,null,null,null,null,null,null,null,null,null,null,1,1,1,null,null,null,null,{"$f":"'Раздел 2'!H146","v":1}]
[null,null,null,null,null,"Перетягивание каната","141",0,null,null,null,null,null,null,null,null,null,null,null,null,null,null,null,null,null,null,null,null,null,null,null,null,null,null,null,null,{"$f":"'Раздел 2'!H147","v":0}]
[null,null,null,null,null,"Пилонный спорт","142",0,null,null,null,null,null,null,null,null,null,null,null,null,null,null,null,null,null,null,null,null,null,null,null,null,null,null,null,null,{"$f":"'Раздел 2'!H148","v":0}]
[null,null,null,null,null,"Плавание - всего","143",5,{"$f":"SUM(I152:I153)","v":0},{"$f":"SUM(J152:J153)","v":0},0,0,0,0,0,0,0,0,0,5,5,0,4,0,1,0,1,3,1,0,0,0,0,0,0,0,{"$f":"'Раздел 2'!H149","v":1}]
[null,null,null,null,null,"в том числе:\nОткрытая вода","144",0,null,null,null,null,null,null,null,null,null,null,null,null,null,null,null,null,null,null,null,null,null,null,null,null,null,null,null,null,{"$f":"'Раздел 2'!H150","v":0}]
[null,null,null,null,null,"Иные дисциплины вида спорта \"плавание\"","145",5,null,null,null,null,null,null,null,null,null,null,null,5,5,null,4,null,1,null,1,3,1,null,null,null,null,null,null,null,{"$f":"'Раздел 2'!H151","v":1}]
[null,null,null,null,null,"Планерный спорт","146",0,null,null,null,null,null,null,null,null,null,null,null,null,null,null,null,null,null,null,null,null,null,null,null,null,null,null,null,null,{"$f":"'Раздел 2'!H152","v":0}]
[null,null,null,null,null,"Подводный спорт","147",0,null,null,null,null,null,null,null,null,null,null,null,null,null,null,null,null,null,null,null,null,null,null,null,null,null,null,null,null,{"$f":"'Раздел 2'!H153","v":0}]
[null,null,null,null,null,"Пожарно-спасательный спорт","148",0,null,null,null,null,null,null,null,null,null,null,null,null,null,null,null,null,null,null,null,null,null,null,null,null,null,null,null,null,{"$f":"'Раздел 2'!H154","v":0}]
[null,null,null,null,null,"Полиатлон","149",0,null,null,null,null,null,null,null,null,null,null,null,null,null,null,null,null,null,null,null,null,null,null,null,null,null,null,null,null,{"$f":"'Раздел 2'!H155","v":0}]
[null,null,null,null,null,"Практическая стрельба","150",0,null,null,null,null,null,null,null,null,null,null,null,null,null,null,null,null,null,null,null,null,null,null,null,null,null,null,null,null,{"$f":"'Раздел 2'!H156","v":0}]
[null,null,null,null,null,"Прыжки в воду","151",0,null,null,null,null,null,null,null,null,null,null,null,null,null,null,null,null,null,null,null,null,null,null,null,null,null,null,null,null,{"$f":"'Раздел 2'!H157","v":0}]
[null,null,null,null,null,"Прыжки на батуте - всего","152",0,{"$f":"SUM(I161:I164)","v":0},{"$f":"SUM(J161:J164)","v":0},0,0,0,0,0,0,0,0,0,0,0,0,0,0,0,0,0,0,0,0,0,0,0,0,0,0,{"$f":"'Раздел 2'!H158","v":0}]
[null,null,null,null,null,"в том числе:\nАкробатическая дорожка","153",0,null,null,null,null,null,null,null,null,null,null,null,null,null,null,null,null,null,null,null,null,null,null,null,null,null,null,null,null,{"$f":"'Раздел 2'!H159","v":0}]
[null,null,null,null,null,"Двойной минитрамп","154",0,null,null,null,null,null,null,null,null,null,null,null,null,null,null,null,null,null,null,null,null,null,null,null,null,null,null,null,null,{"$f":"'Раздел 2'!H160","v":0}]
[null,null,null,null,null,"Индивидуальные прыжки","155",0,null,null,null,null,null,null,null,null,null,null,null,null,null,null,null,null,null,null,null,null,null,null,null,null,null,null,null,null,{"$f":"'Раздел 2'!H161","v":0}]
[null,null,null,null,null,"Синхронные прыжки","156",0,null,null,null,null,null,null,null,null,null,null,null,null,null,null,null,null,null,null,null,null,null,null,null,null,null,null,null,null,{"$f":"'Раздел 2'!H162","v":0}]
[null,null,null,null,null,"Прыжки на лыжах с трамплина","157",0,null,null,null,null,null,null,null,null,null,null,null,null,null,null,null,null,null,null,null,null,null,null,null,null,null,null,null,null,{"$f":"'Раздел 2'!H163","v":0}]
[null,null,null,null,null,"Пулевая стрельба - всего","158",0,{"$f":"SUM(I167:I171)","v":0},{"$f":"SUM(J167:J171)","v":0},0,0,0,0,0,0,0,0,0,0,0,0,0,0,0,0,0,0,0,0,0,0,0,0,0,0,{"$f":"'Раздел 2'!H164","v":0}]
[null,null,null,null,null,"в том числе:\nПневматическая винтовка","159",0,null,null,null,null,null,null,null,null,null,null,null,null,null,null,null,null,null,null,null,null,null,null,null,null,null,null,null,null,{"$f":"'Раздел 2'!H165","v":0}]
[null,null,null,null,null,"Пневматический пистолет","160",0,null,null,null,null,null,null,null,null,null,null,null,null,null,null,null,null,null,null,null,null,null,null,null,null,null,null,null,null,{"$f":"'Раздел 2'!H166","v":0}]
[null,null,null,null,null,"Малокалиберная винтовка","161",0,null,null,null,null,null,null,null,null,null,null,null,null,null,null,null,null,null,null,null,null,null,null,null,null,null,null,null,null,{"$f":"'Раздел 2'!H167","v":0}]
[null,null,null,null,null,"Малокалиберный пистолет","162",0,null,null,null,null,null,null,null,null,null,null,null,null,null,null,null,null,null,null,null,null,null,null,null,null,null,null,null,null,{"$f":"'Раздел 2'!H168","v":0}]
[null,null,null,null,null,"Иные дисциплины вида спорта \"пулевая стрельба\"","163",0,null,null,null,null,null,null,null,null,null,null,null,null,null,null,null,null,null,null,null,null,null,null,null,null,null,null,null,null,{"$f":"'Раздел 2'!H169","v":0}]
[null,null,null,null,null,"Пэйнтбол","164",0,null,null,null,null,null,null,null,null,null,null,null,null,null,null,null,null,null,null,null,null,null,null,null,null,null,null,null,null,{"$f":"'Раздел 2'!H170","v":0}]
[null,null,null,null,null,"Радиоспорт","165",0,null,null,null,null,null,null,null,null,null,null,null,null,null,null,null,null,null,null,null,null,null,null,null,null,null,null,null,null,{"$f":"'Раздел 2'!H171","v":0}]
[null,null,null,null,null,"Рафтинг","166",0,null,null,null,null,null,null,null,null,null,null,null,null,null,null,null,null,null,null,null,null,null,null,null,null,null,null,null,null,{"$f":"'Раздел 2'!H172","v":0}]
[null,null,null,null,null,"Регби - всего","167",0,{"$f":"SUM(I176:I181)","v":0},{"$f":"SUM(J176:J181)","v":0},0,0,0,0,0,0,0,0,0,0,0,0,0,0,0,0,0,0,0,0,0,0,0,0,0,0,{"$f":"'Раздел 2'!H173","v":0}]
[null,null,null,null,null,"в том числе:\nРегби","168",0,null,null,null,null,null,null,null,null,null,null,null,null,null,null,null,null,null,null,null,null,null,null,null,null,null,null,null,null,{"$f":"'Раздел 2'!H174","v":0}]
[null,null,null,null,null,"Регби 7 (муж.)","169",0,null,null,null,null,null,null,null,null,null,null,null,null,null,null,null,null,null,null,null,null,null,null,null,null,null,null,null,null,{"$f":"'Раздел 2'!H175","v":0}]
[null,null,null,null,null,"Регби 7 (жен.)","170",0,null,null,null,null,null,null,null,null,null,null,null,null,null,null,null,null,null,null,null,null,null,null,null,null,null,null,null,null,{"$f":"'Раздел 2'!H176","v":0}]
[null,null,null,null,null,"Регби - пляжное","171",0,null,null,null,null,null,null,null,null,null,null,null,null,null,null,null,null,null,null,null,null,null,null,null,null,null,null,null,null,{"$f":"'Раздел 2'!H177","v":0}]
[null,null,null,null,null,"Регби на снегу","172",0,null,null,null,null,null,null,null,null,null,null,null,null,null,null,null,null,null,null,null,null,null,null,null,null,null,null,null,null,{"$f":"'Раздел 2'!H178","v":0}]
[null,null,null,null,null,"Регби бесконтактное","173",0,null,null,null,null,null,null,null,null,null,null,null,null,null,null,null,null,null,null,null,null,null,null,null,null,null,null,null,null,{"$f":"'Раздел 2'!H179","v":0}]
[null,null,null,null,null,"Регбол","174",0,null,null,null,null,null,null,null,null,null,null,null,null,null,null,null,null,null,null,null,null,null,null,null,null,null,null,null,null,{"$f":"'Раздел 2'!H180","v":0}]
[null,null,null,null,null,"Роллер спорт","175",0,null,null,null,null,null,null,null,null,null,null,null,null,null,null,null,null,null,null,null,null,null,null,null,null,null,null,null,null,{"$f":"'Раздел 2'!H181","v":0}]
[null,null,null,null,null,"Роуп скиппинг (спортивная скакалка)","176",0,null,null,null,null,null,null,null,null,null,null,null,null,null,null,null,null,null,null,null,null,null,null,null,null,null,null,null,null,{"$f":"'Раздел 2'!H182","v":0}]
[null,null,null,null,null,"Рукопашный бой","177",3,2,null,2,null,1,null,1,null,1,null,null,1,1,null,1,null,null,null,1,1,null,2,null,null,null,1,null,1,{"$f":"'Раздел 2'!H183","v":1}]
[null,null,null,null,null,"Рыболовный спорт","178",0,null,null,null,null,null,null,null,null,null,null,null,null,null,null,null,null,null,null,null,null,null,null,null,null,null,null,null,null,{"$f":"'Раздел 2'!H184","v":0}]
[null,null,null,null,null,"Сават","179",0,null,null,null,null,null,null,null,null,null,null,null,null,null,null,null,null,null,null,null,null,null,null,null,null,null,null,null,null,{"$f":"'Раздел 2'!H185","v":0}]
[null,null,null,null,null,"Самбо","180",0,null,null,null,null,null,null,null,null,null,null,null,null,null,null,null,null,null,null,null,null,null,null,null,null,null,null,null,null,{"$f":"'Раздел 2'!H186","v":0}]
[null,null,null,null,null,"Самолетный спорт","181",0,null,null,null,null,null,null,null,null,null,null,null,null,null,null,null,null,null,null,null,null,null,null,null,null,null,null,null,null,{"$f":"'Раздел 2'!H187","v":0}]
[null,null,null,null,null,"Санный спорт","182",0,null,null,null,null,null,null,null,null,null,null,null,null,null,null,null,null,null,null,null,null,null,null,null,null,null,null,null,null,{"$f":"'Раздел 2'!H188","v":0}]
[null,null,null,null,null,"Северное многоборье","183",3,2,null,2,null,2,null,null,null,2,1,null,1,1,null,1,null,null,null,null,1,null,1,1,null,null,null,null,null,{"$f":"'Раздел 2'!H189","v":1}]
[null,null,null,null,null,"Серфинг","184",0,null,null,null,null,null,null,null,null,null,null,null,null,null,null,null,null,null,null,null,null,null,null,null,null,null,null,null,null,{"$f":"'Раздел 2'!H190","v":0}]
[null,null,null,null,null,"Силовой спорт","185",0,null,null,null,null,null,null,null,null,null,null,null,null,null,null,null,null,null,null,null,null,null,null,null,null,null,null,null,null,{"$f":"'Раздел 2'!H191","v":0}]
[null,null,null,null,null,"Силовой экстрим","186",0,null,null,null,null,null,null,null,null,null,null,null,null,null,null,null,null,null,null,null,null,null,null,null,null,null,null,null,null,{"$f":"'Раздел 2'!H192","v":0}]
[null,null,null,null,null,"Синхронное плавание","187",0,null,null,null,null,null,null,null,null,null,null,null,null,null,null,null,null,null,null,null,null,null,null,null,null,null,null,null,null,{"$f":"'Раздел 2'!H193","v":0}]
[null,null,null,null,null,"Скалолазание - всего","188",0,{"$f":"SUM(I197:I199)","v":0},{"$f":"SUM(J197:J199)","v":0},0,0,0,0,0,0,0,0,0,0,0,0,0,0,0,0,0,0,0,0,0,0,0,0,0,0,{"$f":"'Раздел 2'!H194","v":0}]
[null,null,null,null,null,"в том числе:\nДвоеборье","189",0,null,null,null,null,null,null,null,null,null,null,null,null,null,null,null,null,null,null,null,null,null,null,null,null,null,null,null,null,{"$f":"'Раздел 2'!H195","v":0}]
[null,null,null,null,null,"Лазание на скорость","190",0,null,null,null,null,null,null,null,null,null,null,null,null,null,null,null,null,null,null,null,null,null,null,null,null,null,null,null,null,{"$f":"'Раздел 2'!H196","v":0}]
[null,null,null,null,null,"Иные дисциплины вида спорта \"скалолазание\"","191",0,null,null,null,null,null,null,null,null,null,null,null,null,null,null,null,null,null,null,null,null,null,null,null,null,null,null,null,null,{"$f":"'Раздел 2'!H197","v":0}]
[null,null,null,null,null,"Сквош","192",0,null,null,null,null,null,null,null,null,null,null,null,null,null,null,null,null,null,null,null,null,null,null,null,null,null,null,null,null,{"$f":"'Раздел 2'!H198","v":0}]
[null,null,null,null,null,"Скейтбординг","193",0,null,null,null,null,null,null,null,null,null,null,null,null,null,null,null,null,null,null,null,null,null,null,null,null,null,null,null,null,{"$f":"'Раздел 2'!H199","v":0}]
[null,null,null,null,null,"Служебно-боевая стрельба","194",{"$f":"SUM(I202,T202)","v":0},null,null,null,null,null,null,null,null,null,null,null,null,null,null,null,null,null,null,null,null,null,null,null,null,null,null,null,null,{"$f":"'Раздел 2'!H200","v":0}]
[null,null,null,null,null,"Служебное двоеборье","195",0,null,null,null,null,null,null,null,null,null,null,null,null,null,null,null,null,null,null,null,null,null,null,null,null,null,null,null,null,{"$f":"'Раздел 2'!H201","v":0}]
[null,null,null,null,null,"Служебное единоборство","196",0,null,null,null,null,null,null,null,null,null,null,null,null,null,null,null,null,null,null,null,null,null,null,null,null,null,null,null,null,{"$f":"'Раздел 2'!H202","v":0}]
[null,null,null,null,null,"Служебное многоборье","197",0,null,null,null,null,null,null,null,null,null,null,null,null,null,null,null,null,null,null,null,null,null,null,null,null,null,null,null,null,{"$f":"'Раздел 2'!H203","v":0}]
[null,null,null,null,null,"Служебно-прикладной спорт","198",0,null,null,null,null,null,null,null,null,null,null,null,null,null,null,null,null,null,null,null,null,null,null,null,null,null,null,null,null,{"$f":"'Раздел 2'!H204","v":0}]
[null,null,null,null,null,"Служебно-прикладной спорт ФСО России","199",0,null,null,null,null,null,null,null,null,null,null,null,null,null,null,null,null,null,null,null,null,null,null,null,null,null,null,null,null,{"$f":"'Раздел 2'!H205","v":0}]
[null,null,null,null,null,"Служебно-прикладной спорт ФТС России","200",0,null,null,null,null,null,null,null,null,null,null,null,null,null,null,null,null,null,null,null,null,null,null,null,null,null,null,null,null,{"$f":"'Раздел 2'!H206","v":0}]
[null,null,null,null,null,"Служебный биатлон","201",0,null,null,null,null,null,null,null,null,null,null,null,null,null,null,null,null,null,null,null,null,null,null,null,null,null,null,null,null,{"$f":"'Раздел 2'!H207","v":0}]
[null,null,null,null,null,"Смешанное боевое единоборство (ММА)","202",1,1,null,1,null,1,null,null,null,1,1,null,null,null,null,null,null,null,null,null,null,null,1,null,null,null,null,null,null,{"$f":"'Раздел 2'!H208","v":1}]
[null,null,null,null,null,"Сноуборд - всего","203",0,{"$f":"SUM(I212:I216)","v":0},{"$f":"SUM(J212:J216)","v":0},0,0,0,0,0,0,0,0,0,0,0,0,0,0,0,0,0,0,0,0,0,0,0,0,0,0,{"$f":"'Раздел 2'!H209","v":0}]
[null,null,null,null,null,"в том числе:\nСноуборд-кросс","204",0,null,null,null,null,null,null,null,null,null,null,null,null,null,null,null,null,null,null,null,null,null,null,null,null,null,null,null,null,{"$f":"'Раздел 2'!H210","v":0}]
[null,null,null,null,null,"Параллельный слалом","205",0,null,null,null,null,null,null,null,null,null,null,null,null,null,null,null,null,null,null,null,null,null,null,null,null,null,null,null,null,{"$f":"'Раздел 2'!H211","v":0}]
[null,null,null,null,null,"Хаф-пайп","206",0,null,null,null,null,null,null,null,null,null,null,null,null,null,null,null,null,null,null,null,null,null,null,null,null,null,null,null,null,{"$f":"'Раздел 2'!H212","v":0}]
[null,null,null,null,null,"Биг-эйр","207",0,null,null,null,null,null,null,null,null,null,null,null,null,null,null,null,null,null,null,null,null,null,null,null,null,null,null,null,null,{"$f":"'Раздел 2'!H213","v":0}]
[null,null,null,null,null,"Слоупстайл","208",0,null,null,null,null,null,null,null,null,null,null,null,null,null,null,null,null,null,null,null,null,null,null,null,null,null,null,null,null,{"$f":"'Раздел 2'!H214","v":0}]
[null,null,null,null,null,"Современное пятиборье","209",0,null,null,null,null,null,null,null,null,null,null,null,null,null,null,null,null,null,null,null,null,null,null,null,null,null,null,null,null,{"$f":"'Раздел 2'!H215","v":0}]
[null,null,null,null,null,"Софтбол","210",0,null,null,null,null,null,null,null,null,null,null,null,null,null,null,null,null,null,null,null,null,null,null,null,null,null,null,null,null,{"$f":"'Раздел 2'!H216","v":0}]
[null,null,null,null,null,"Спасательный спорт","211",0,null,null,null,null,null,null,null,null,null,null,null,null,null,null,null,null,null,null,null,null,null,null,null,null,null,null,null,null,{"$f":"'Раздел 2'!H217","v":0}]
[null,null,null,null,null,"Спорт сверхлегкой авиации","212",0,null,null,null,null,null,null,null,null,null,null,null,null,null,null,null,null,null,null,null,null,null,null,null,null,null,null,null,null,{"$f":"'Раздел 2'!H218","v":0}]
[null,null,null,null,null,"Спортивная акробатика","213",10,10,null,8,2,7,2,1,null,6,5,3,null,null,null,null,null,null,null,null,null,null,4,5,1,2,null,null,null,{"$f":"'Раздел 2'!H219","v":1}]
[null,null,null,null,null,"Спортивная аэробика","214",8,7,null,7,null,7,null,null,null,1,5,null,1,1,null,1,null,null,null,1,1,null,2,5,null,null,1,null,1,{"$f":"'Раздел 2'!H220","v":1}]
[null,null,null,null,null,"Спортивная борьба - всего","215",0,{"$f":"SUM(I224:I228)","v":0},{"$f":"SUM(J224:J228)","v":0},0,0,0,0,0,0,0,0,0,0,0,0,0,0,0,0,0,0,0,0,0,0,0,0,0,0,{"$f":"'Раздел 2'!H221","v":0}]
[null,null,null,null,null,"в том числе:\nВольная борьба","216",0,null,null,null,null,null,null,null,null,null,null,null,null,null,null,null,null,null,null,null,null,null,null,null,null,null,null,null,null,{"$f":"'Раздел 2'!H222","v":0}]
[null,null,null,null,null,"Греко-римская борьба","217",0,null,null,null,null,null,null,null,null,null,null,null,null,null,null,null,null,null,null,null,null,null,null,null,null,null,null,null,null,{"$f":"'Раздел 2'!H223","v":0}]
[null,null,null,null,null,"Грэпплинг","218",0,null,null,null,null,null,null,null,null,null,null,null,null,null,null,null,null,null,null,null,null,null,null,null,null,null,null,null,null,{"$f":"'Раздел 2'!H224","v":0}]
[null,null,null,null,null,"Панкратион","219",0,null,null,null,null,null,null,null,null,null,null,null,null,null,null,null,null,null,null,null,null,null,null,null,null,null,null,null,null,{"$f":"'Раздел 2'!H225","v":0}]
[null,null,null,null,null,"Пляжная борьба","220",0,null,null,null,null,null,null,null,null,null,null,null,null,null,null,null,null,null,null,null,null,null,null,null,null,null,null,null,null,{"$f":"'Раздел 2'!H226","v":0}]
[null,null,null,null,null,"Спортивная гимнастика","221",0,null,null,null,null,null,null,null,null,null,null,null,null,null,null,null,null,null,null,null,null,null,null,null,null,null,null,null,null,{"$f":"'Раздел 2'!H227","v":0}]
[null,null,null,null,null,"Спортивная йога","222",0,null,null,null,null,null,null,null,null,null,null,null,null,null,null,null,null,null,null,null,null,null,null,null,null,null,null,null,null,{"$f":"'Раздел 2'!H228","v":0}]
[null,null,null,null,null,"Спортивное метание ножа","223",0,null,null,null,null,null,null,null,null,null,null,null,null,null,null,null,null,null,null,null,null,null,null,null,null,null,null,null,null,{"$f":"'Раздел 2'!H229","v":0}]
[null,null,null,null,null,"Спортивное ориентирование","224",0,null,null,null,null,null,null,null,null,null,null,null,null,null,null,null,null,null,null,null,null,null,null,null,null,null,null,null,null,{"$f":"'Раздел 2'!H230","v":0}]
[null,null,null,null,null,"Спортивное программирование - всего","225",0,{"$f":"SUM(I234:I238)","v":0},{"$f":"SUM(J234:J238)","v":0},0,0,0,0,0,0,0,0,0,0,0,0,0,0,0,0,0,0,0,0,0,0,0,0,0,0,{"$f":"'Раздел 2'!H231","v":0}]
[null,null,null,null,null,"в том числе:\nПрограммирование алгоритмическое","226",0,null,null,null,null,null,null,null,null,null,null,null,null,null,null,null,null,null,null,null,null,null,null,null,null,null,null,null,null,{"$f":"'Раздел 2'!H232","v":0}]
[null,null,null,null,null,"Программирование продуктовое","227",0,null,null,null,null,null,null,null,null,null,null,null,null,null,null,null,null,null,null,null,null,null,null,null,null,null,null,null,null,{"$f":"'Раздел 2'!H233","v":0}]
[null,null,null,null,null,"Программирование беспилотных авиационных систем","228",0,null,null,null,null,null,null,null,null,null,null,null,null,null,null,null,null,null,null,null,null,null,null,null,null,null,null,null,null,{"$f":"'Раздел 2'!H234","v":0}]
[null,null,null,null,null,"Программирование робототехники","229",0,null,null,null,null,null,null,null,null,null,null,null,null,null,null,null,null,null,null,null,null,null,null,null,null,null,null,null,null,{"$f":"'Раздел 2'!H235","v":0}]
[null,null,null,null,null,"Программирование систем информационной безопасности","230",0,null,null,null,null,null,null,null,null,null,null,null,null,null,null,null,null,null,null,null,null,null,null,null,null,null,null,null,null,{"$f":"'Раздел 2'!H236","v":0}]
[null,null,null,null,null,"Спортивно-прикладное собаководство","231",0,null,null,null,null,null,null,null,null,null,null,null,null,null,null,null,null,null,null,null,null,null,null,null,null,null,null,null,null,{"$f":"'Раздел 2'!H237","v":0}]
[null,null,null,null,null,"Спортивный бридж","232",0,null,null,null,null,null,null,null,null,null,null,null,null,null,null,null,null,null,null,null,null,null,null,null,null,null,null,null,null,{"$f":"'Раздел 2'!H238","v":0}]
[null,null,null,null,null,"Спортивный туризм","233",2,2,null,1,1,1,1,null,null,2,1,null,null,null,null,null,null,null,null,null,null,null,2,null,null,null,null,null,null,{"$f":"'Раздел 2'!H239","v":1}]
[null,null,null,null,null,"Стендовая стрельба - всего","234",0,{"$f":"SUM(I243:I245)","v":0},{"$f":"SUM(J243:J245)","v":0},0,0,0,0,0,0,0,0,0,0,0,0,0,0,0,0,0,0,0,0,0,0,0,0,0,0,{"$f":"'Раздел 2'!H240","v":0}]
[null,null,null,null,null,"в том числе:\nТрап","235",0,null,null,null,null,null,null,null,null,null,null,null,null,null,null,null,null,null,null,null,null,null,null,null,null,null,null,null,null,{"$f":"'Раздел 2'!H241","v":0}]
[null,null,null,null,null,"Скит","236",0,null,null,null,null,null,null,null,null,null,null,null,null,null,null,null,null,null,null,null,null,null,null,null,null,null,null,null,null,{"$f":"'Раздел 2'!H242","v":0}]
[null,null,null,null,null,"Иные дисциплины вида спорта \"стендовая стрельба\"","237",0,null,null,null,null,null,null,null,null,null,null,null,null,null,null,null,null,null,null,null,null,null,null,null,null,null,null,null,null,{"$f":"'Раздел 2'!H243","v":0}]
[null,null,null,null,null,"Страйкбол","238",0,null,null,null,null,null,null,null,null,null,null,null,null,null,null,null,null,null,null,null,null,null,null,null,null,null,null,null,null,{"$f":"'Раздел 2'!H244","v":0}]
[null,null,null,null,null,"Стрельба из арбалета","239",0,null,null,null,null,null,null,null,null,null,null,null,null,null,null,null,null,null,null,null,null,null,null,null,null,null,null,null,null,{"$f":"'Раздел 2'!H245","v":0}]
[null,null,null,null,null,"Стрельба из боевого ручного стрелкового оружия","240",0,null,null,null,null,null,null,null,null,null,null,null,null,null,null,null,null,null,null,null,null,null,null,null,null,null,null,null,null,{"$f":"'Раздел 2'!H246","v":0}]
[null,null,null,null,null,"Стрельба из лука - всего","241",0,{"$f":"SUM(I250:I253)","v":0},{"$f":"SUM(J250:J253)","v":0},0,0,0,0,0,0,0,0,0,0,0,0,0,0,0,0,0,0,0,0,0,0,0,0,0,0,{"$f":"'Раздел 2'!H247","v":0}]
[null,null,null,null,null,"в том числе:\nКлассический лук","242",0,null,null,null,null,null,null,null,null,null,null,null,null,null,null,null,null,null,null,null,null,null,null,null,null,null,null,null,null,{"$f":"'Раздел 2'!H248","v":0}]
[null,null,null,null,null,"Блочный лук","243",0,null,null,null,null,null,null,null,null,null,null,null,null,null,null,null,null,null,null,null,null,null,null,null,null,null,null,null,null,{"$f":"'Раздел 2'!H249","v":0}]
[null,null,null,null,null,"Ачери ","244",0,null,null,null,null,null,null,null,null,null,null,null,null,null,null,null,null,null,null,null,null,null,null,null,null,null,null,null,null,{"$f":"'Раздел 2'!H250","v":0}]
[null,null,null,null,null,"Иные дисциплины вида спорта \"стрельба из лука\"","245",0,null,null,null,null,null,null,null,null,null,null,null,null,null,null,null,null,null,null,null,null,null,null,null,null,null,null,null,null,{"$f":"'Раздел 2'!H251","v":0}]
[null,null,null,null,null,"Стрельба из штатного или табельного оружия","246",0,null,null,null,null,null,null,null,null,null,null,null,null,null,null,null,null,null,null,null,null,null,null,null,null,null,null,null,null,{"$f":"'Раздел 2'!H252","v":0}]
[null,null,null,null,null,"Стрельба на дальние дистанции","247",0,null,null,null,null,null,null,null,null,null,null,null,null,null,null,null,null,null,null,null,null,null,null,null,null,null,null,null,null,{"$f":"'Раздел 2'!H253","v":0}]
[null,null,null,null,null,"Судомодельный спорт","248",0,null,null,null,null,null,null,null,null,null,null,null,null,null,null,null,null,null,null,null,null,null,null,null,null,null,null,null,null,{"$f":"'Раздел 2'!H254","v":0}]
[null,null,null,null,null,"Сумо","249",0,null,null,null,null,null,null,null,null,null,null,null,null,null,null,null,null,null,null,null,null,null,null,null,null,null,null,null,null,{"$f":"'Раздел 2'!H255","v":0}]
[null,null,null,null,null,"Таврели","250",0,null,null,null,null,null,null,null,null,null,null,null,null,null,null,null,null,null,null,null,null,null,null,null,null,null,null,null,null,{"$f":"'Раздел 2'!H256","v":0}]
[null,null,null,null,null,"Танцевальный спорт","251",2,1,null,1,null,1,null,null,null,null,null,null,1,1,null,null,null,1,null,1,null,null,null,1,null,null,null,null,null,{"$f":"'Раздел 2'!H257","v":1}]
[null,null,null,null,null,"Теннис","252",0,null,null,null,null,null,null,null,null,null,null,null,null,null,null,null,null,null,null,null,null,null,null,null,null,null,null,null,null,{"$f":"'Раздел 2'!H258","v":0}]
[null,null,null,null,null,"Триатлон","253",0,null,null,null,null,null,null,null,null,null,null,null,null,null,null,null,null,null,null,null,null,null,null,null,null,null,null,null,null,{"$f":"'Раздел 2'!H259","v":0}]
[null,null,null,null,null,"Тхэквондо ВТФ","254",0,null,null,null,null,null,null,null,null,null,null,null,null,null,null,null,null,null,null,null,null,null,null,null,null,null,null,null,null,{"$f":"'Раздел 2'!H260","v":0}]
[null,null,null,null,null,"Тхэквондо ГТФ","255",0,null,null,null,null,null,null,null,null,null,null,null,null,null,null,null,null,null,null,null,null,null,null,null,null,null,null,null,null,{"$f":"'Раздел 2'!H261","v":0}]
[null,null,null,null,null,"Тхэквондо ИТФ","256",0,null,null,null,null,null,null,null,null,null,null,null,null,null,null,null,null,null,null,null,null,null,null,null,null,null,null,null,null,{"$f":"'Раздел 2'!H262","v":0}]
[null,null,null,null,null,"Тхэквондо МФТ","257",0,null,null,null,null,null,null,null,null,null,null,null,null,null,null,null,null,null,null,null,null,null,null,null,null,null,null,null,null,{"$f":"'Раздел 2'!H263","v":0}]
[null,null,null,null,null,"Тяжелая атлетика","258",{"$f":"SUM(I266,T266)","v":0},null,null,null,null,null,null,null,null,null,null,null,null,null,null,null,null,null,null,null,null,null,null,null,null,null,null,null,null,{"$f":"'Раздел 2'!H264","v":0}]
[null,null,null,null,null,"Универсальный бой","259",0,null,null,null,null,null,null,null,null,null,null,null,null,null,null,null,null,null,null,null,null,null,null,null,null,null,null,null,null,{"$f":"'Раздел 2'!H265","v":0}]
[null,null,null,null,null,"Ушу","260",3,3,1,3,null,2,null,1,null,3,2,null,null,null,null,null,null,null,null,null,null,null,2,1,null,null,null,null,null,{"$f":"'Раздел 2'!H266","v":1}]
[null,null,null,null,null,"Фехтование - всего","261",0,{"$f":"SUM(I270:I273)","v":0},{"$f":"SUM(J270:J273)","v":0},0,0,0,0,0,0,0,0,0,0,0,0,0,0,0,0,0,0,0,0,0,0,0,0,0,0,{"$f":"'Раздел 2'!H267","v":0}]
[null,null,null,null,null,"в том числе:\nРапира","262",0,null,null,null,null,null,null,null,null,null,null,null,null,null,null,null,null,null,null,null,null,null,null,null,null,null,null,null,null,{"$f":"'Раздел 2'!H268","v":0}]
[null,null,null,null,null,"Сабля","263",0,null,null,null,null,null,null,null,null,null,null,null,null,null,null,null,null,null,null,null,null,null,null,null,null,null,null,null,null,{"$f":"'Раздел 2'!H269","v":0}]
[null,null,null,null,null,"Шпага","264",0,null,null,null,null,null,null,null,null,null,null,null,null,null,null,null,null,null,null,null,null,null,null,null,null,null,null,null,null,{"$f":"'Раздел 2'!H270","v":0}]
[null,null,null,null,null,"Арт-фехтование","265",0,null,null,null,null,null,null,null,null,null,null,null,null,null,null,null,null,null,null,null,null,null,null,null,null,null,null,null,null,{"$f":"'Раздел 2'!H271","v":0}]
[null,null,null,null,null,"Фигурное катание на коньках","266",0,null,null,null,null,null,null,null,null,null,null,null,null,null,null,null,null,null,null,null,null,null,null,null,null,null,null,null,null,{"$f":"'Раздел 2'!H272","v":0}]
[null,null,null,null,null,"Фиджитал спорт (функционально-цифровой спорт) - всего","267",0,{"$f":"SUM(I276:I280)","v":0},{"$f":"SUM(J276:J280)","v":0},0,0,0,0,0,0,0,0,0,0,0,0,0,0,0,0,0,0,0,0,0,0,0,0,0,0,{"$f":"'Раздел 2'!H273","v":0}]
[null,null,null,null,null,"в том числе:\nДвоеборье - автомодель","268",0,null,null,null,null,null,null,null,null,null,null,null,null,null,null,null,null,null,null,null,null,null,null,null,null,null,null,null,null,{"$f":"'Раздел 2'!H274","v":0}]
[null,null,null,null,null,"Двоеборье - единоборство","269",0,null,null,null,null,null,null,null,null,null,null,null,null,null,null,null,null,null,null,null,null,null,null,null,null,null,null,null,null,{"$f":"'Раздел 2'!H275","v":0}]
[null,null,null,null,null,"Двоеборье - тактическая стрельба","270",0,null,null,null,null,null,null,null,null,null,null,null,null,null,null,null,null,null,null,null,null,null,null,null,null,null,null,null,null,{"$f":"'Раздел 2'!H276","v":0}]
[null,null,null,null,null,"Преследование с препятствиями","271",0,null,null,null,null,null,null,null,null,null,null,null,null,null,null,null,null,null,null,null,null,null,null,null,null,null,null,null,null,{"$f":"'Раздел 2'!H277","v":0}]
[null,null,null,null,null,"Ритм - симулятор","272",0,null,null,null,null,null,null,null,null,null,null,null,null,null,null,null,null,null,null,null,null,null,null,null,null,null,null,null,null,{"$f":"'Раздел 2'!H278","v":0}]
[null,null,null,null,null,"Фитнес-аэробика","273",0,null,null,null,null,null,null,null,null,null,null,null,null,null,null,null,null,null,null,null,null,null,null,null,null,null,null,null,null,{"$f":"'Раздел 2'!H279","v":0}]
[null,null,null,null,null,"Флаинг диск","274",0,null,null,null,null,null,null,null,null,null,null,null,null,null,null,null,null,null,null,null,null,null,null,null,null,null,null,null,null,{"$f":"'Раздел 2'!H280","v":0}]
[null,null,null,null,null,"Флорбол","275",0,null,null,null,null,null,null,null,null,null,null,null,null,null,null,null,null,null,null,null,null,null,null,null,null,null,null,null,null,{"$f":"'Раздел 2'!H281","v":0}]
[null,null,null,null,null,"Фристайл - всего","276",0,{"$f":"SUM(I285:I290)","v":0},{"$f":"SUM(J285:J290)","v":0},0,0,0,0,0,0,0,0,0,0,0,0,0,0,0,0,0,0,0,0,0,0,0,0,0,0,{"$f":"'Раздел 2'!H282","v":0}]
[null,null,null,null,null,"в том числе:\nАкробатика","277",0,null,null,null,null,null,null,null,null,null,null,null,null,null,null,null,null,null,null,null,null,null,null,null,null,null,null,null,null,{"$f":"'Раздел 2'!H283","v":0}]
[null,null,null,null,null,"Биг-эйр","278",0,null,null,null,null,null,null,null,null,null,null,null,null,null,null,null,null,null,null,null,null,null,null,null,null,null,null,null,null,{"$f":"'Раздел 2'!H284","v":0}]
[null,null,null,null,null,"Могул","279",0,null,null,null,null,null,null,null,null,null,null,null,null,null,null,null,null,null,null,null,null,null,null,null,null,null,null,null,null,{"$f":"'Раздел 2'!H285","v":0}]
[null,null,null,null,null,"Ски-кросс","280",0,null,null,null,null,null,null,null,null,null,null,null,null,null,null,null,null,null,null,null,null,null,null,null,null,null,null,null,null,{"$f":"'Раздел 2'!H286","v":0}]
[null,null,null,null,null,"Хаф-пайп","281",0,null,null,null,null,null,null,null,null,null,null,null,null,null,null,null,null,null,null,null,null,null,null,null,null,null,null,null,null,{"$f":"'Раздел 2'!H287","v":0}]
[null,null,null,null,null,"Слоупстайл","282",0,null,null,null,null,null,null,null,null,null,null,null,null,null,null,null,null,null,null,null,null,null,null,null,null,null,null,null,null,{"$f":"'Раздел 2'!H288","v":0}]
[null,null,null,null,null,"Функциональное многоборье","283",0,null,null,null,null,null,null,null,null,null,null,null,null,null,null,null,null,null,null,null,null,null,null,null,null,null,null,null,null,{"$f":"'Раздел 2'!H289","v":0}]
[null,null,null,null,null,"Футбол - всего","284",1,{"$f":"SUM(I293:I299)","v":0},{"$f":"SUM(J293:J299)","v":0},0,0,0,0,0,0,0,0,0,1,0,1,0,1,0,0,1,0,0,0,0,0,0,0,0,0,{"$f":"'Раздел 2'!H290","v":1}]
[null,null,null,null,null,"в том числе:\nФутбол (муж.)","285",0,null,null,null,null,null,null,null,null,null,null,null,null,null,null,null,null,null,null,null,null,null,null,null,null,null,null,null,null,{"$f":"'Раздел 2'!H291","v":0}]
[null,null,null,null,null,"Футбол (жен.)","286",0,null,null,null,null,null,null,null,null,null,null,null,null,null,null,null,null,null,null,null,null,null,null,null,null,null,null,null,null,{"$f":"'Раздел 2'!H292","v":0}]
[null,null,null,null,null,"Интерактивный футбол","287",0,null,null,null,null,null,null,null,null,null,null,null,null,null,null,null,null,null,null,null,null,null,null,null,null,null,null,null,null,{"$f":"'Раздел 2'!H293","v":0}]
[null,null,null,null,null,"Мини-футбол","288",0,null,null,null,null,null,null,null,null,null,null,null,null,null,null,null,null,null,null,null,null,null,null,null,null,null,null,null,null,{"$f":"'Раздел 2'!H294","v":0}]
[null,null,null,null,null,"Пляжный футбол","289",0,null,null,null,null,null,null,null,null,null,null,null,null,null,null,null,null,null,null,null,null,null,null,null,null,null,null,null,null,{"$f":"'Раздел 2'!H295","v":0}]
[null,null,null,null,null,"Футбольное двоеборье","290",0,null,null,null,null,null,null,null,null,null,null,null,null,null,null,null,null,null,null,null,null,null,null,null,null,null,null,null,null,{"$f":"'Раздел 2'!H296","v":0}]
[null,null,null,null,null,"Футзал","291",1,null,null,null,null,null,null,null,null,null,null,null,1,null,1,null,1,null,null,1,null,null,null,null,null,null,null,null,null,{"$f":"'Раздел 2'!H297","v":1}]
[null,null,null,null,null,"Хапкидо","292",0,null,null,null,null,null,null,null,null,null,null,null,null,null,null,null,null,null,null,null,null,null,null,null,null,null,null,null,null,{"$f":"'Раздел 2'!H298","v":0}]
[null,null,null,null,null,"Хапсагай","293",0,null,null,null,null,null,null,null,null,null,null,null,null,null,null,null,null,null,null,null,null,null,null,null,null,null,null,null,null,{"$f":"'Раздел 2'!H299","v":0}]
[null,null,null,null,null,"Хоккей - всего","294",{"$f":"SUM(I302,T302)","v":0},{"$f":"SUM(I303:I307)","v":0},{"$f":"SUM(J303:J307)","v":0},0,0,0,0,0,0,0,0,0,0,0,0,0,0,0,0,0,0,0,0,0,0,0,0,0,0,{"$f":"'Раздел 2'!H300","v":0}]
[null,null,null,null,null,"в том числе:\nХоккей (муж.)","295",0,null,null,null,null,null,null,null,null,null,null,null,null,null,null,null,null,null,null,null,null,null,null,null,null,null,null,null,null,{"$f":"'Раздел 2'!H301","v":0}]
[null,null,null,null,null,"Хоккей (жен.)","296",0,null,null,null,null,null,null,null,null,null,null,null,null,null,null,null,null,null,null,null,null,null,null,null,null,null,null,null,null,{"$f":"'Раздел 2'!H302","v":0}]
[null,null,null,null,null,"Хоккейное двоеборье","297",0,null,null,null,null,null,null,null,null,null,null,null,null,null,null,null,null,null,null,null,null,null,null,null,null,null,null,null,null,{"$f":"'Раздел 2'!H303","v":0}]
[null,null,null,null,null,"Хоккей 2х2, 3х3, 4х4","298",0,null,null,null,null,null,null,null,null,null,null,null,null,null,null,null,null,null,null,null,null,null,null,null,null,null,null,null,null,{"$f":"'Раздел 2'!H304","v":0}]
[null,null,null,null,null,"Интерактивный хоккей","299",0,null,null,null,null,null,null,null,null,null,null,null,null,null,null,null,null,null,null,null,null,null,null,null,null,null,null,null,null,{"$f":"'Раздел 2'!H305","v":0}]
[null,null,null,null,null,"Хоккей на траве - всего","300",0,{"$f":"SUM(I309:I311)","v":0},{"$f":"SUM(J309:J311)","v":0},0,0,0,0,0,0,0,0,0,0,0,0,0,0,0,0,0,0,0,0,0,0,0,0,0,0,{"$f":"'Раздел 2'!H306","v":0}]
[null,null,null,null,null,"в том числе:\nХоккей на траве (муж.)","301",0,null,null,null,null,null,null,null,null,null,null,null,null,null,null,null,null,null,null,null,null,null,null,null,null,null,null,null,null,{"$f":"'Раздел 2'!H307","v":0}]
[null,null,null,null,null,"Хоккей на траве (жен.)","302",0,null,null,null,null,null,null,null,null,null,null,null,null,null,null,null,null,null,null,null,null,null,null,null,null,null,null,null,null,{"$f":"'Раздел 2'!H308","v":0}]
[null,null,null,null,null,"Иные дисциплины вида спорта \"хоккей на траве\"","303",0,null,null,null,null,null,null,null,null,null,null,null,null,null,null,null,null,null,null,null,null,null,null,null,null,null,null,null,null,{"$f":"'Раздел 2'!H309","v":0}]
[null,null,null,null,null,"Хоккей с мячом","304",0,null,null,null,null,null,null,null,null,null,null,null,null,null,null,null,null,null,null,null,null,null,null,null,null,null,null,null,null,{"$f":"'Раздел 2'!H310","v":0}]
[null,null,null,null,null,"Художественная гимнастика","305",0,null,null,null,null,null,null,null,null,null,null,null,null,null,null,null,null,null,null,null,null,null,null,null,null,null,null,null,null,{"$f":"'Раздел 2'!H311","v":0}]
[null,null,null,null,null,"Хуреш","306",0,null,null,null,null,null,null,null,null,null,null,null,null,null,null,null,null,null,null,null,null,null,null,null,null,null,null,null,null,{"$f":"'Раздел 2'!H312","v":0}]
[null,null,null,null,null,"Чир спорт","307",0,null,null,null,null,null,null,null,null,null,null,null,null,null,null,null,null,null,null,null,null,null,null,null,null,null,null,null,null,{"$f":"'Раздел 2'!H313","v":0}]
[null,null,null,null,null,"Шахбокс","308",0,null,null,null,null,null,null,null,null,null,null,null,null,null,null,null,null,null,null,null,null,null,null,null,null,null,null,null,null,{"$f":"'Раздел 2'!H314","v":0}]
[null,null,null,null,null,"Шахматы","309",5,4,null,4,null,null,null,4,null,3,2,1,1,1,null,null,null,1,null,1,null,null,1,1,2,null,null,null,null,{"$f":"'Раздел 2'!H315","v":1}]
[null,null,null,null,null,"Шашки","310",0,null,null,null,null,null,null,null,null,null,null,null,null,null,null,null,null,null,null,null,null,null,null,null,null,null,null,null,null,{"$f":"'Раздел 2'!H316","v":0}]
[null,null,null,null,null,"Шодсанлат","311",0,null,null,null,null,null,null,null,null,null,null,null,null,null,null,null,null,null,null,null,null,null,null,null,null,null,null,null,null,{"$f":"'Раздел 2'!H317","v":0}]
[null,null,null,null,null,"Эстетическая гимнастика","312",0,null,null,null,null,null,null,null,null,null,null,null,null,null,null,null,null,null,null,null,null,null,null,null,null,null,null,null,null,{"$f":"'Раздел 2'!H318","v":0}]
[null,null,null,null,null,"Якутские национальные прыжки","313",0,null,null,null,null,null,null,null,null,null,null,null,null,null,null,null,null,null,null,null,null,null,null,null,null,null,null,null,null,{"$f":"'Раздел 2'!H319","v":0}]
[null,null,null,null,null,"ИТОГО","314",55,{"$f":"SUM(I9:I15,I18:I23,I29:I32,I37:I43,I49:I50,I54:I62,I68:I70,I74:I77,I82:I89,I92:I103,I107:I112,I120:I121,I126:I151,I154:I160,I165:I166,I172:I175,I182:I196,I200:I211,I217:I223,I229:I233,I239:I242,I246:I249,I254:I269,I274:I275,I281:I284,I291:I292,I300:I302,I308,I312:I321)","v":43},{"$f":"SUM(J9:J15,J18:J23,J29:J32,J37:J43,J49:J50,J54:J62,J68:J70,J74:J77,J82:J89,J92:J103,J107:J112,J120:J121,J126:J151,J154:J160,J165:J166,J172:J175,J182:J196,J200:J211,J217:J223,J229:J233,J239:J242,J246:J249,J254:J269,J274:J275,J281:J284,J291:J292,J300:J302,J308,J312:J321)","v":3},39,4,32,4,7,0,29,27,5,12,11,1,8,1,3,0,6,7,1,18,20,5,2,2,0,2]

{"sheet":"Раздел 9","index":9,"n_rows":19,"n_cols":22,"rows_kept":19,"cut":false,"hidden":false,"merged":[[4,19,5,19],[3,17,3,19],[4,10,5,10],[4,11,4,12],[4,14,5,14],[4,15,5,15],[4,13,5,13],[3,9,3,13],[0,0,0,12],[1,5,1,21],[2,5,5,5],[2,6,5,6],[2,7,3,8],[2,9,2,21],[4,20,5,20],[4,21,5,21],[3,14,3,16],[3,20,3,21],[4,7,5,7],[4,8,5,8],[4,16,5,16],[4,9,5,9],[4,17,5,17],[4,18,5,18]]}
[]
[null,null,null,null,null,"Раздел IX. Кадровый состав, человек"]
[null,null,null,null,null,"Наименование должности","№ строки","Численность работников",null,"из численности работников по основному месту работы (гр.4)"]
[null,null,null,null,null,null,null,null,null,"профессиональное образование",null,null,null,null,"имеют квалификационные категории",null,null,"в возрасте:",null,null,"имеют почетные звания"]
[null,null,null,null,null,null,null,"Всего","в том числе по основному месту работы","высшее","среднее","в том числе\nфизкультурное",null,"имеющие дополнительное профессиональное образование в области физической культуры и спорта (из гр.5 и 6)","высшая","первая","вторая","до 35 лет","от 36 до 64 лет","старше 64 лет","Заслуженный тренер России","Заслуженный работник физической культуры Российской Федерации"]
["Код региона","ОГРН","Ведоственная принадлежность","Вид организации","Вид правового образования",null,null,null,null,null,null,"высшее","среднее"]
[{"$f":"'Раздел 0'!M27","v":86},{"$f":"IF('Раздел 1'!D15>0,'Раздел 1'!D15,\"ОСП\")","v":1188617000428},{"$f":"(IF(SUM('Раздел 1'!D5:D6)>0,\"ФКИС\",IF(SUM('Раздел 1'!D7:D8)>0,\"ОБРАЗОВАНИЕ\",IF(SUM('Раздел 1'!D9:D10)>0,\"ДВП\",\" \"))))","v":"ФКИС"},{"$f":"(IF(SUM('Раздел 1'!E12:E13)>0,\"СШ\",IF(SUM('Раздел 1'!F12:F13)>0,\"СШОР\",IF(SUM('Раздел 1'!G12:G13)>0,\"УОР\",IF(SUM('Раздел 1'!H12:H13)>0,\"ЦСП\",IF(SUM('Раздел 1'!I12:I13)>0,\"Другие\"))))))","v":"СШ"},{"$f":"(IF('Раздел 1'!D19=1,\"РФ\",IF('Раздел 1'!E19=1,\"Суб РФ\",IF('Раздел 1'!F19=1,\"МО\",IF('Раздел 1'!H19=1,\"ИПО\",\"ОСП\")))))","v":"МО"},1,2,3,4,5,6,7,8,9,10,11,12,13,14,15,16,17]
[null,null,null,null,null,"Директор (руководитель)","01",1,1,1,null,1,null,null,null,null,1,null,1]
[null,null,null,null,null,"Руководители обособленных структурных подразделений","02"]
[null,null,null,null,null,"Тренеры ЦСП","03"]
[null,null,null,null,null,"в том числе:\nвпервые трудоустроены","04"]
[null,null,null,null,null,"Спортсмены, спортсмены-инструкторы","05"]
[null,null,null,null,null,"Инструкторы – методисты (включая старшего)","06",9,9,8,1,3,1,5,3,3,null,4,5]
[null,null,null,null,null,"Медицинские работники:","07",{"$f":"SUM(H15:H17)","v":9},{"$f":"SUM(I15:I17)","v":9},1,8,0,0,{"$f":"SUM(N15:N17)","v":0},0,0,0,1,5,3,0,0]
[null,null,null,null,null,"в том числе:\nврачи","08",1,1,1,null,null,null,null,null,null,null,null,null,1]
[null,null,null,null,null,"средний медицинский персонал","09",8,8,null,8,null,null,null,null,null,null,1,5,2]
[null,null,null,null,null,"младший медицинский персонал","10"]
[null,null,null,null,null,"Прочий персонал","11",112,111,37,26,3,null,null,null,null,null,18,73,20]
[null,null,null,null,null,"ИТОГО","12",{"$f":"SUM(H8:H10,H12:H14,H18)","v":131},{"$f":"SUM(I8:I10,I12:I14,I18)","v":130},47,35,7,1,5,3,3,1,23,84,23,0,{"$f":"SUM(V8:V10,V12:V14,V18)","v":0}]

{"sheet":"Раздел 10","index":10,"n_rows":50,"n_cols":26,"rows_kept":50,"cut":false,"hidden":false,"merged":[[0,5,0,25],[1,21,1,25],[2,15,3,15],[2,11,2,14],[1,8,2,9],[1,5,3,5],[1,6,3,6],[1,7,3,7],[1,10,1,15],[1,16,1,20],[2,10,3,10],[2,16,3,16],[2,17,2,20],[2,22,2,25],[2,21,3,21]]}
[null,null,null,null,null,"Раздел X. Спортивная инфраструктура, единица"]
[null,null,null,null,null,"Наименование объектов спорта и иных спортивных сооружений","№ стро-ки","Число объектов спорта и иных спортивных сооружений – всего","Быстровозводимые объекты (модульные) (из гр. 3)",null,"Находящихся в собственности и/или оперативном управлении ",null,null,null,null,null,"Арендуемых",null,null,null,null,"Используемых на безвозмездной основе"]
[null,null,null,null,null,null,null,null,null,null,"всего","в том числе по формам собственности:",null,null,null,"Имеющие постоянную лицензию (из гр.6)","всего","в том числе по формам собственности:",null,null,null,"всего","в том числе по формам собственности:"]
["Код региона","ОГРН","Ведоственная принадлежность","Вид организации","Вид правового образования",null,null,null,"Каркасные","Воздухоопорные",null,"федеральной","субъектов Российской Федерации","муниципальной","другой",null,null,"федеральной","субъектов Российской Федерации","муниципальной","другой",null,"федеральной","субъектов Российской Федерации","муниципальной","другой"]
[{"$f":"'Раздел 0'!M27","v":86},{"$f":"IF('Раздел 1'!D15>0,'Раздел 1'!D15,\"ОСП\")","v":1188617000428},{"$f":"(IF(SUM('Раздел 1'!D5:D6)>0,\"ФКИС\",IF(SUM('Раздел 1'!D7:D8)>0,\"ОБРАЗОВАНИЕ\",IF(SUM('Раздел 1'!D9:D10)>0,\"ДВП\",\" \"))))","v":"ФКИС"},{"$f":"(IF(SUM('Раздел 1'!E12:E13)>0,\"СШ\",IF(SUM('Раздел 1'!F12:F13)>0,\"СШОР\",IF(SUM('Раздел 1'!G12:G13)>0,\"УОР\",IF(SUM('Раздел 1'!H12:H13)>0,\"ЦСП\",IF(SUM('Раздел 1'!I12:I13)>0,\"Другие\"))))))","v":"СШ"},{"$f":"(IF('Раздел 1'!D19=1,\"РФ\",IF('Раздел 1'!E19=1,\"Суб РФ\",IF('Раздел 1'!F19=1,\"МО\",IF('Раздел 1'!H19=1,\"ИПО\",\"ОСП\")))))","v":"МО"},1,2,3,4,5,6,7,8,9,10,11,12,13,14,15,16,17,18,19,20,21]
[null,null,null,null,null,"Стадионы с трибунами – всего","01",{"$f":"SUM(K6,Q6,V6)","v":0},null,null,{"$f":"SUM(L6:O6)","v":0},null,null,null,null,null,{"$f":"SUM(R6:U6)","v":0},null,null,null,null,{"$f":"SUM(W6:Z6)","v":0}]
[null,null,null,null,null,"в том числе на 1500 мест и более","02",{"$f":"SUM(K7,Q7,V7)","v":0},null,null,{"$f":"SUM(L7:O7)","v":0},null,null,null,null,null,{"$f":"SUM(R7:U7)","v":0},null,null,null,null,{"$f":"SUM(W7:Z7)","v":0}]
[null,null,null,null,null,"Плоскостные спортивные сооружения - всего","03",{"$f":"SUM(K8,Q8,V8)","v":5},{"$f":"SUM(I9:I11)","v":0},{"$f":"SUM(J9:J11)","v":0},5,0,0,5,0,0,0,0,0,0,0,0,0,0,0,0]
[null,null,null,null,null,"в том числе:\nфутбольные поля","04",0,null,null,0,null,null,null,null,null,0,null,null,null,null,0]
[null,null,null,null,null,"\"умные\" спортивные площадки","05",0,null,null,0,null,null,null,null,null,0,null,null,null,null,0]
[null,null,null,null,null,"иные плоскостные спортивные сооружения","06",5,null,null,5,null,null,5,null,null,0,null,null,null,null,0]
[null,null,null,null,null,"Спортивные залы – всего","07",12,{"$f":"SUM(I13:I16)","v":0},{"$f":"SUM(J13:J16)","v":0},4,0,0,4,0,4,8,0,0,8,0,0,0,0,0,0]
[null,null,null,null,null,"в том числе размером:\n(42 х 24 м)","08",1,null,null,1,null,null,1,null,1,0,null,null,null,null,0]
[null,null,null,null,null,"(36 х 18 м); (30 х 18 м) и (30 х 15 м)","09",0,null,null,0,null,null,null,null,null,0,null,null,null,null,0]
[null,null,null,null,null,"(24 х 12 м) и (18 х 9 м)","10",1,null,null,1,null,null,1,null,1,0,null,null,null,null,0]
[null,null,null,null,null,"иных размеров","11",10,null,null,2,null,null,2,null,2,8,null,null,8,null,0]
[null,null,null,null,null,"Манежи легкоатлетические","12",0,null,null,0,null,null,null,null,null,0,null,null,null,null,0]
[null,null,null,null,null,"Манежи футбольные","13",0,null,null,0,null,null,null,null,null,0,null,null,null,null,0]
[null,null,null,null,null,"Велотреки","14",0,null,null,0,null,null,null,null,null,0,null,null,null,null,0]
[null,null,null,null,null,"Велодромы","15",0,null,null,0,null,null,null,null,null,0,null,null,null,null,0]
[null,null,null,null,null,"Бассейны – всего","16",2,{"$f":"SUM(I22:I25)","v":0},{"$f":"SUM(J22:J25)","v":0},2,0,0,2,0,2,0,0,0,0,0,0,0,0,0,0]
[null,null,null,null,null,"в том числе: \nс длиной чаши 50 метров","17",0,null,null,0,null,null,null,null,null,0,null,null,null,null,0]
[null,null,null,null,null,"с длиной чаши 25 метров","18",2,null,null,2,null,null,2,null,2,0,null,null,null,null,0]
[null,null,null,null,null,"нестандартных размеров","19",0,null,null,0,null,null,null,null,null,0,null,null,null,null,0]
[null,null,null,null,null,"для прыжков в воду","20",0,null,null,0,null,null,null,null,null,0,null,null,null,null,0]
[null,null,null,null,null,"из строки 16 - крытые","21",2,null,null,2,null,null,2,null,2,0,null,null,null,null,0]
[null,null,null,null,null,"Гребные базы","22",0,null,null,0,null,null,null,null,null,0,null,null,null,null,0]
[null,null,null,null,null,"Гребные каналы","23",0,null,null,0,null,null,null,null,null,0,null,null,null,null,0]
[null,null,null,null,null,"Спортивные объекты с искусственным льдом – всего","24",0,{"$f":"SUM(I30:I32)","v":0},{"$f":"SUM(J30:J32)","v":0},0,0,0,0,0,0,0,0,0,0,0,0,0,0,0,0]
[null,null,null,null,null,"в том числе:\nкрытые спортивные объекты с искусственным льдом ","25",0,null,null,0,null,null,null,null,null,0,null,null,null,null,0]
[null,null,null,null,null,"открытые спортивные объекты с искусственным льдом ","26",0,null,null,0,null,null,null,null,null,0,null,null,null,null,0]
[null,null,null,null,null,"конькобежные","27",0,null,null,0,null,null,null,null,null,0,null,null,null,null,0]
[null,null,null,null,null,"Лыжные базы","28",0,null,null,0,null,null,null,null,null,0,null,null,null,null,0]
[null,null,null,null,null,"Лыжные стадионы","29",0,null,null,0,null,null,null,null,null,0,null,null,null,null,0]
[null,null,null,null,null,"Биатлонные комплексы","30",0,null,null,0,null,null,null,null,null,0,null,null,null,null,0]
[null,null,null,null,null,"Сооружения для стрелковых видов спорта – всего","31",0,{"$f":"SUM(I37:I40)","v":0},{"$f":"SUM(J37:J40)","v":0},0,0,0,0,0,0,0,0,0,0,0,0,0,0,0,0]
[null,null,null,null,null,"в том числе: \nтиры","32",0,null,null,0,null,null,null,null,null,0,null,null,null,null,0]
[null,null,null,null,null,"стрельбища","33",0,null,null,0,null,null,null,null,null,0,null,null,null,null,0]
[null,null,null,null,null,"стенды","34",0,null,null,0,null,null,null,null,null,0,null,null,null,null,0]
[null,null,null,null,null,"лукодромы","35",0,null,null,0,null,null,null,null,null,0,null,null,null,null,0]
[null,null,null,null,null,"Автодромы","36",0,null,null,0,null,null,null,null,null,0,null,null,null,null,0]
[null,null,null,null,null,"из них крытые","37",0,null,null,0,null,null,null,null,null,0,null,null,null,null,0]
[null,null,null,null,null,"Площадка открытая универсальная с искусственным покрытием по авиационным и другим техническим видам спорта с сопутствующей инфраструктурой","38",0,null,null,0,null,null,null,null,null,0,null,null,null,null,0]
[null,null,null,null,null,"Комплексы конноспортивные","39",0,null,null,0,null,null,null,null,null,0,null,null,null,null,0]
[null,null,null,null,null,"из них крытые","40",0,null,null,0,null,null,null,null,null,0,null,null,null,null,0]
[null,null,null,null,null,"Фиджитал центры","41",0,null,null,0,null,null,null,null,null,0,null,null,null,null,0]
[null,null,null,null,null,"Другие объекты спорта и спортивные сооружения","42",9,null,null,5,null,null,5,null,5,3,null,null,3,null,1,null,null,1]
[null,null,null,null,null,"ИТОГО","43",28,{"$f":"SUM(I6,I8,I12,I17:I21,I27:I29,I33:I36,I41,I43:I44,I46:I47)","v":0},{"$f":"SUM(J6,J8,J12,J17:J21,J27:J29,J33:J36,J41,J43:J44,J46:J47)","v":0},16,0,0,16,0,11,11,0,0,11,0,1,0,0,1,0]
[]
[null,null,null,null,null,"Справочно: Число лицензированных медицинских кабинетов","(44)",3]

{"sheet":"Раздел 11","index":11,"n_rows":32,"n_cols":13,"rows_kept":32,"cut":false,"hidden":false,"merged":[[30,6,30,8],[30,9,30,10],[30,11,30,12],[31,9,31,10],[31,11,31,12],[28,11,28,12],[29,11,29,12],[0,5,0,14],[1,5,2,5],[1,6,2,6],[1,7,2,7],[1,8,1,12],[28,6,28,8]]}
[null,null,null,null,null,"Раздел XI. Финансовая деятельность организаций, тысяча рублей"]
[null,null,null,null,null,"Расходы на содержание организаций","№ строки","Всего","в том числе по источникам финансирования"]
["Код региона","ОГРН","Ведоственная принадлежность","Вид организации","Вид правового образования",null,null,null,"федеральный бюджет","бюджет субъекта Российской Федерации ","муниципальный бюджет ","внебюджетные источники ","бюджет федеральной территории \"Сириус\""]
[{"$f":"'Раздел 0'!M27","v":86},{"$f":"IF('Раздел 1'!D15>0,'Раздел 1'!D15,\"ОСП\")","v":1188617000428},{"$f":"(IF(SUM('Раздел 1'!D5:D6)>0,\"ФКИС\",IF(SUM('Раздел 1'!D7:D8)>0,\"ОБРАЗОВАНИЕ\",IF(SUM('Раздел 1'!D9:D10)>0,\"ДВП\",\" \"))))","v":"ФКИС"},{"$f":"(IF(SUM('Раздел 1'!E12:E13)>0,\"СШ\",IF(SUM('Раздел 1'!F12:F13)>0,\"СШОР\",IF(SUM('Раздел 1'!G12:G13)>0,\"УОР\",IF(SUM('Раздел 1'!H12:H13)>0,\"ЦСП\",IF(SUM('Раздел 1'!I12:I13)>0,\"Другие\"))))))","v":"СШ"},{"$f":"(IF('Раздел 1'!D19=1,\"РФ\",IF('Раздел 1'!E19=1,\"Суб РФ\",IF('Раздел 1'!F19=1,\"МО\",IF('Раздел 1'!H19=1,\"ИПО\",\"ОСП\")))))","v":"МО"},1,"2",3,4,5,6,7,8]
[null,null,null,null,null,"Итого расходов","01",{"$f":"SUM(I5:M5)","v":343459.3},{"$f":"SUM(I6:I7,I9,I11:I12,I16,I21,I24)","v":0},{"$f":"SUM(J6:J7,J9,J11:J12,J16,J21,J24)","v":26467.1},282777.7,34214.5,0]
[null,null,null,null,null,"в том числе: \nЗаработная плата","02",{"$f":"SUM(I6:M6)","v":252827.1},null,250,238929.5,13647.6]
[null,null,null,null,null,"Организация и проведение спортивных мероприятий","03",0]
[null,null,null,null,null,"в том числе: \nВсероссийских спартакиад между спортсменами субъектов Российской Федерации по летним и зимним видам спорта ","04",0]
[null,null,null,null,null,"Участие в соревнованиях и тренировочных сборах","05",17207.5,null,6304.9,9849.4,1053.2]
[null,null,null,null,null,"в том числе: \nВсероссийских спартакиадах между спортсменами субъектов Российской Федерации по летним и зимним видам спорта ","06",0]
[null,null,null,null,null,"Медико-восстановительные мероприятия","07",5996.9000000000005,null,5662.1,298,36.799999999999997]
[null,null,null,null,null,"Материально-техническое обеспечение - всего:","08",14991.800000000001,{"$f":"SUM(I13:I15)","v":0},{"$f":"SUM(J13:J15)","v":13338.1},1569.5,84.2,0]
[null,null,null,null,null,"в том числе: \nэкипировка","09",6920.7,null,5855.5,1065.2]
[null,null,null,null,null,"оборудование и спортивный инвентарь","10",8071.1,null,7482.6,504.3,84.2]
[null,null,null,null,null,"прочее","11",0]
[null,null,null,null,null,"Профессиональная переподготовка и повышение квалификации  специалистов, осуществляющих деятельность в области физической культуры и спорта - всего:","12",159.1,{"$f":"SUM(I17:I20)","v":0},{"$f":"SUM(J17:J20)","v":0},58.6,100.5,0]
[null,null,null,null,null,"в том числе: \nтренеры ЦСП","13",0]
[null,null,null,null,null,"тренеры-преподаватели","14",2.7,null,null,2.7]
[null,null,null,null,null,"инструкторы-методисты","15",2.7,null,null,2.7]
[null,null,null,null,null,"другие специалисты","16",153.69999999999999,null,null,53.2,100.5]
[null,null,null,null,null,"Содержание объектов спорта и иных спортивных сооружений - всего:","17",35302.9,{"$f":"SUM(I22:I23)","v":0},{"$f":"SUM(J22:J23)","v":0},26413.8,8889.1,0]
[null,null,null,null,null,"в том числе: \nаренда (услуги объектов спорта / спортивных сооружений)","18",1278,null,null,103,1175]
[null,null,null,null,null,"собственные объекты спорта и иные спортивные сооружения и/или в оперативном управлении","19",34024.9,null,null,26310.799999999999,7714.1]
[null,null,null,null,null,"Прочие расходы","20",16974,null,912,5658.9,10403.1]
[]
[null,null,null,null,null,"Поступило средств от приносящей доход деятельности, тысяча рублей:","(21)",33444.5]
[]
[null,null,null,null,null,"Должностное лицо, ответственное за предоставление первичных статистических и (или) административных данных (лицо, уполномоченное предоставлять первичные статистические и (или) административные данные от имени юридического лица"]
[null,null,null,null,null,"Директор","Белянкин Сергей Геннадьевич",null,null,null,null,"+73466456547"]
[null,null,null,null,null,"(должность руководителя организации)",null,"(Ф.И.О.)",null,"(подпись)",null,"(номер телефона физкультурно-спортивной организации)"]
[null,null,null,null,null,"info@olimpia-nv.ru","www.olimpia-nv.ru",null,null,"www.vk.com/olimpianv",null,"2026-01-15"]
[null,null,null,null,null,"(адрес электронной почты физкультурно-спортивной организации)",null,"(адрес официального сайта физкультурно-спортивной организации (при наличии))",null,"(адрес официального группы физкультурно-спортивной организации в социальных сетях \n(при наличии))",null,"(дата составления документа)"]